BEGIN:VCALENDAR
VERSION:2.0
PRODID:-//YGAMETIME.com//YGT iCal Creator//EN
METHOD:PUBLISH
X-PUBLISHED-TTL:PT6H
REFRESH-INTERVAL;VALUE=DURATION:PT6H
CALSCALE:GREGORIAN
X-WR-CALNAME:YGAMETIME CALENDAR
BEGIN:VTIMEZONE
TZID:America/New_York
X-LIC-LOCATION:America/New_York
BEGIN:DAYLIGHT
TZOFFSETFROM:-0500
TZOFFSETTO:-0400
TZNAME:EDT
DTSTART:19700308T020000
RRULE:FREQ=YEARLY;BYMONTH=3;BYDAY=2SU
END:DAYLIGHT
BEGIN:STANDARD
TZOFFSETFROM:-0400
TZOFFSETTO:-0500
TZNAME:EST
DTSTART:19701101T020000
RRULE:FREQ=YEARLY;BYMONTH=11;BYDAY=1SU
END:STANDARD
END:VTIMEZONE
BEGIN:VEVENT
UID:putnam-287437@ygametime.com
DTSTAMP:20220326T160000Z
DTSTART;TZID=America/New_York:20220326T120000
DURATION:PT0H90M0S
SUMMARY:Brown vs Tonietti
DESCRIPTION:9-11 year olds | Spring Soccer\nPutnam County Family YMCA\n
URL;VALUE=URI:https://ygametime.com/branch/putnam/sports/2022-spring-spring-soccer/12042/?utm_medium=calendar&utm_source=team_cal&utm_content=league_url#game-287437
LOCATION:Field 1 (9/11) Practice field
BEGIN:VALARM
TRIGGER:-P2H
ACTION:DISPLAY
DESCRIPTION:Brown vs Tonietti
END:VALARM
END:VEVENT
BEGIN:VEVENT
UID:putnam-287442@ygametime.com
DTSTAMP:20220402T130000Z
DTSTART;TZID=America/New_York:20220402T090000
DURATION:PT0H90M0S
SUMMARY:Bowers vs Tonietti
DESCRIPTION:9-11 year olds | Spring Soccer\nPutnam County Family YMCA\n
URL;VALUE=URI:https://ygametime.com/branch/putnam/sports/2022-spring-spring-soccer/12042/?utm_medium=calendar&utm_source=team_cal&utm_content=league_url#game-287442
LOCATION:Field 1 (9/11) Practice field
BEGIN:VALARM
TRIGGER:-P2H
ACTION:DISPLAY
DESCRIPTION:Bowers vs Tonietti
END:VALARM
END:VEVENT
BEGIN:VEVENT
UID:putnam-287446@ygametime.com
DTSTAMP:20220409T160000Z
DTSTART;TZID=America/New_York:20220409T120000
DURATION:PT0H90M0S
SUMMARY:Tonietti vs Deason
DESCRIPTION:9-11 year olds | Spring Soccer\nPutnam County Family YMCA\n
URL;VALUE=URI:https://ygametime.com/branch/putnam/sports/2022-spring-spring-soccer/12042/?utm_medium=calendar&utm_source=team_cal&utm_content=league_url#game-287446
LOCATION:Field 1 (9/11) Practice field
BEGIN:VALARM
TRIGGER:-P2H
ACTION:DISPLAY
DESCRIPTION:Tonietti vs Deason
END:VALARM
END:VEVENT
BEGIN:VEVENT
UID:putnam-287453@ygametime.com
DTSTAMP:20220423T130000Z
DTSTART;TZID=America/New_York:20220423T090000
DURATION:PT0H90M0S
SUMMARY:Tonietti vs Fancher
DESCRIPTION:9-11 year olds | Spring Soccer\nPutnam County Family YMCA\n
URL;VALUE=URI:https://ygametime.com/branch/putnam/sports/2022-spring-spring-soccer/12042/?utm_medium=calendar&utm_source=team_cal&utm_content=league_url#game-287453
LOCATION:Field 1 (9/11) Practice field
BEGIN:VALARM
TRIGGER:-P2H
ACTION:DISPLAY
DESCRIPTION:Tonietti vs Fancher
END:VALARM
END:VEVENT
BEGIN:VEVENT
UID:putnam-287457@ygametime.com
DTSTAMP:20220430T173000Z
DTSTART;TZID=America/New_York:20220430T133000
DURATION:PT0H90M0S
SUMMARY:Michael Brown vs Tonietti
DESCRIPTION:9-11 year olds | Spring Soccer\nPutnam County Family YMCA\n
URL;VALUE=URI:https://ygametime.com/branch/putnam/sports/2022-spring-spring-soccer/12042/?utm_medium=calendar&utm_source=team_cal&utm_content=league_url#game-287457
LOCATION:Field 1 (9/11) Practice field
BEGIN:VALARM
TRIGGER:-P2H
ACTION:DISPLAY
DESCRIPTION:Michael Brown vs Tonietti
END:VALARM
END:VEVENT
BEGIN:VEVENT
UID:putnam-287461@ygametime.com
DTSTAMP:20220507T130000Z
DTSTART;TZID=America/New_York:20220507T090000
DURATION:PT0H90M0S
SUMMARY:Tonietti vs Bowers
DESCRIPTION:9-11 year olds | Spring Soccer\nPutnam County Family YMCA\n
URL;VALUE=URI:https://ygametime.com/branch/putnam/sports/2022-spring-spring-soccer/12042/?utm_medium=calendar&utm_source=team_cal&utm_content=league_url#game-287461
LOCATION:Field 1 (9/11) Practice field
BEGIN:VALARM
TRIGGER:-P2H
ACTION:DISPLAY
DESCRIPTION:Tonietti vs Bowers
END:VALARM
END:VEVENT
BEGIN:VEVENT
UID:putnam-304446@ygametime.com
DTSTAMP:20220510T223000Z
DTSTART;TZID=America/New_York:20220510T183000
DURATION:PT0H75M0S
SUMMARY:Tonietti vs Michael Brown
DESCRIPTION:9-11 year olds | Spring Soccer\nPutnam County Family YMCA\n
URL;VALUE=URI:https://ygametime.com/branch/putnam/sports/2022-spring-spring-soccer/12042/?utm_medium=calendar&utm_source=team_cal&utm_content=league_url#game-304446
LOCATION:Field 6 (9/11 Game Field)
BEGIN:VALARM
TRIGGER:-P2H
ACTION:DISPLAY
DESCRIPTION:Tonietti vs Michael Brown
END:VALARM
END:VEVENT
BEGIN:VEVENT
UID:putnam-304450@ygametime.com
DTSTAMP:20220512T223000Z
DTSTART;TZID=America/New_York:20220512T183000
DURATION:PT0H75M0S
SUMMARY:Tonietti vs Brown
DESCRIPTION:9-11 year olds | Spring Soccer\nPutnam County Family YMCA\n
URL;VALUE=URI:https://ygametime.com/branch/putnam/sports/2022-spring-spring-soccer/12042/?utm_medium=calendar&utm_source=team_cal&utm_content=league_url#game-304450
LOCATION:Field 6 (9/11 Game Field)
BEGIN:VALARM
TRIGGER:-P2H
ACTION:DISPLAY
DESCRIPTION:Tonietti vs Brown
END:VALARM
END:VEVENT
BEGIN:VEVENT
UID:putnam-304452@ygametime.com
DTSTAMP:20220513T220000Z
DTSTART;TZID=America/New_York:20220513T180000
DURATION:PT0H75M0S
SUMMARY:Tonietti vs Bowers
DESCRIPTION:9-11 year olds | Spring Soccer\nPutnam County Family YMCA\n
URL;VALUE=URI:https://ygametime.com/branch/putnam/sports/2022-spring-spring-soccer/12042/?utm_medium=calendar&utm_source=team_cal&utm_content=league_url#game-304452
LOCATION:Field 6 (9/11 Game Field)
BEGIN:VALARM
TRIGGER:-P2H
ACTION:DISPLAY
DESCRIPTION:Tonietti vs Bowers
END:VALARM
END:VEVENT
END:VCALENDAR

