BEGIN:VCALENDAR
VERSION:2.0
PRODID:-//YGAMETIME.com//YGT iCal Creator//EN
METHOD:PUBLISH
X-PUBLISHED-TTL:PT6H
REFRESH-INTERVAL;VALUE=DURATION:PT6H
CALSCALE:GREGORIAN
X-WR-CALNAME:YGAMETIME CALENDAR
BEGIN:VTIMEZONE
TZID:America/New_York
X-LIC-LOCATION:America/New_York
BEGIN:DAYLIGHT
TZOFFSETFROM:-0500
TZOFFSETTO:-0400
TZNAME:EDT
DTSTART:19700308T020000
RRULE:FREQ=YEARLY;BYMONTH=3;BYDAY=2SU
END:DAYLIGHT
BEGIN:STANDARD
TZOFFSETFROM:-0400
TZOFFSETTO:-0500
TZNAME:EST
DTSTART:19701101T020000
RRULE:FREQ=YEARLY;BYMONTH=11;BYDAY=1SU
END:STANDARD
END:VTIMEZONE
BEGIN:VEVENT
UID:putnam-287436@ygametime.com
DTSTAMP:20220326T143000Z
DTSTART;TZID=America/New_York:20220326T103000
DURATION:PT0H90M0S
SUMMARY:Michael Brown vs Mack
DESCRIPTION:9-11 year olds | Spring Soccer\nPutnam County Family YMCA\n
URL;VALUE=URI:https://ygametime.com/branch/putnam/sports/2022-spring-spring-soccer/12042/?utm_medium=calendar&utm_source=team_cal&utm_content=league_url#game-287436
LOCATION:Field 1 (9/11) Practice field
BEGIN:VALARM
TRIGGER:-P2H
ACTION:DISPLAY
DESCRIPTION:Michael Brown vs Mack
END:VALARM
END:VEVENT
BEGIN:VEVENT
UID:putnam-287439@ygametime.com
DTSTAMP:20220402T143000Z
DTSTART;TZID=America/New_York:20220402T103000
DURATION:PT0H90M0S
SUMMARY:Mack vs  Tony Michael
DESCRIPTION:9-11 year olds | Spring Soccer\nPutnam County Family YMCA\n
URL;VALUE=URI:https://ygametime.com/branch/putnam/sports/2022-spring-spring-soccer/12042/?utm_medium=calendar&utm_source=team_cal&utm_content=league_url#game-287439
LOCATION:Field 1 (9/11) Practice field
BEGIN:VALARM
TRIGGER:-P2H
ACTION:DISPLAY
DESCRIPTION:Mack vs  Tony Michael
END:VALARM
END:VEVENT
BEGIN:VEVENT
UID:putnam-287445@ygametime.com
DTSTAMP:20220409T130000Z
DTSTART;TZID=America/New_York:20220409T090000
DURATION:PT0H90M0S
SUMMARY:Mack vs Bowers
DESCRIPTION:9-11 year olds | Spring Soccer\nPutnam County Family YMCA\n
URL;VALUE=URI:https://ygametime.com/branch/putnam/sports/2022-spring-spring-soccer/12042/?utm_medium=calendar&utm_source=team_cal&utm_content=league_url#game-287445
LOCATION:Field 1 (9/11) Practice field
BEGIN:VALARM
TRIGGER:-P2H
ACTION:DISPLAY
DESCRIPTION:Mack vs Bowers
END:VALARM
END:VEVENT
BEGIN:VEVENT
UID:putnam-301380@ygametime.com
DTSTAMP:20220426T223000Z
DTSTART;TZID=America/New_York:20220426T183000
DURATION:PT0H90M0S
SUMMARY:Deason vs Mack
DESCRIPTION:9-11 year olds | Spring Soccer\nPutnam County Family YMCA\n
URL;VALUE=URI:https://ygametime.com/branch/putnam/sports/2022-spring-spring-soccer/12042/?utm_medium=calendar&utm_source=team_cal&utm_content=league_url#game-301380
LOCATION:
BEGIN:VALARM
TRIGGER:-P2H
ACTION:DISPLAY
DESCRIPTION:Deason vs Mack
END:VALARM
END:VEVENT
BEGIN:VEVENT
UID:putnam-287456@ygametime.com
DTSTAMP:20220430T160000Z
DTSTART;TZID=America/New_York:20220430T120000
DURATION:PT0H90M0S
SUMMARY:Mack vs Deason
DESCRIPTION:9-11 year olds | Spring Soccer\nPutnam County Family YMCA\n
URL;VALUE=URI:https://ygametime.com/branch/putnam/sports/2022-spring-spring-soccer/12042/?utm_medium=calendar&utm_source=team_cal&utm_content=league_url#game-287456
LOCATION:Field 1 (9/11) Practice field
BEGIN:VALARM
TRIGGER:-P2H
ACTION:DISPLAY
DESCRIPTION:Mack vs Deason
END:VALARM
END:VEVENT
BEGIN:VEVENT
UID:putnam-287460@ygametime.com
DTSTAMP:20220507T173000Z
DTSTART;TZID=America/New_York:20220507T133000
DURATION:PT0H90M0S
SUMMARY:Brown vs Mack
DESCRIPTION:9-11 year olds | Spring Soccer\nPutnam County Family YMCA\n
URL;VALUE=URI:https://ygametime.com/branch/putnam/sports/2022-spring-spring-soccer/12042/?utm_medium=calendar&utm_source=team_cal&utm_content=league_url#game-287460
LOCATION:Field 1 (9/11) Practice field
BEGIN:VALARM
TRIGGER:-P2H
ACTION:DISPLAY
DESCRIPTION:Brown vs Mack
END:VALARM
END:VEVENT
BEGIN:VEVENT
UID:putnam-304447@ygametime.com
DTSTAMP:20220509T223000Z
DTSTART;TZID=America/New_York:20220509T183000
DURATION:PT0H75M0S
SUMMARY:Brown vs Mack
DESCRIPTION:9-11 year olds | Spring Soccer\nPutnam County Family YMCA\n
URL;VALUE=URI:https://ygametime.com/branch/putnam/sports/2022-spring-spring-soccer/12042/?utm_medium=calendar&utm_source=team_cal&utm_content=league_url#game-304447
LOCATION:Field 6 (9/11 Game Field)
BEGIN:VALARM
TRIGGER:-P2H
ACTION:DISPLAY
DESCRIPTION:Brown vs Mack
END:VALARM
END:VEVENT
END:VCALENDAR

