BEGIN:VCALENDAR
VERSION:2.0
PRODID:-//YGAMETIME.com//YGT iCal Creator//EN
METHOD:PUBLISH
X-PUBLISHED-TTL:PT6H
REFRESH-INTERVAL;VALUE=DURATION:PT6H
CALSCALE:GREGORIAN
X-WR-CALNAME:YGAMETIME CALENDAR
BEGIN:VTIMEZONE
TZID:America/New_York
X-LIC-LOCATION:America/New_York
BEGIN:DAYLIGHT
TZOFFSETFROM:-0500
TZOFFSETTO:-0400
TZNAME:EDT
DTSTART:19700308T020000
RRULE:FREQ=YEARLY;BYMONTH=3;BYDAY=2SU
END:DAYLIGHT
BEGIN:STANDARD
TZOFFSETFROM:-0400
TZOFFSETTO:-0500
TZNAME:EST
DTSTART:19701101T020000
RRULE:FREQ=YEARLY;BYMONTH=11;BYDAY=1SU
END:STANDARD
END:VTIMEZONE
BEGIN:VEVENT
UID:putnam-287293@ygametime.com
DTSTAMP:20220329T211500Z
DTSTART;TZID=America/New_York:20220329T171500
DURATION:PT0H45M0S
SUMMARY:Grimm vs Hargis
DESCRIPTION:3-4 year olds | Spring Soccer\nPutnam County Family YMCA\n
URL;VALUE=URI:https://ygametime.com/branch/putnam/sports/2022-spring-spring-soccer/12040/?utm_medium=calendar&utm_source=team_cal&utm_content=league_url#game-287293
LOCATION:Field 2 (5/6)
BEGIN:VALARM
TRIGGER:-P2H
ACTION:DISPLAY
DESCRIPTION:Grimm vs Hargis
END:VALARM
END:VEVENT
BEGIN:VEVENT
UID:putnam-287265@ygametime.com
DTSTAMP:20220402T120000Z
DTSTART;TZID=America/New_York:20220402T080000
DURATION:PT0H45M0S
SUMMARY:Hargis vs Asberry
DESCRIPTION:3-4 year olds | Spring Soccer\nPutnam County Family YMCA\n
URL;VALUE=URI:https://ygametime.com/branch/putnam/sports/2022-spring-spring-soccer/12040/?utm_medium=calendar&utm_source=team_cal&utm_content=league_url#game-287265
LOCATION:Field 2 (5/6)
BEGIN:VALARM
TRIGGER:-P2H
ACTION:DISPLAY
DESCRIPTION:Hargis vs Asberry
END:VALARM
END:VEVENT
BEGIN:VEVENT
UID:putnam-302221@ygametime.com
DTSTAMP:20220418T211500Z
DTSTART;TZID=America/New_York:20220418T171500
DURATION:PT0H45M0S
SUMMARY:Hargis vs Betcher
DESCRIPTION:3-4 year olds | Spring Soccer\nPutnam County Family YMCA\n
URL;VALUE=URI:https://ygametime.com/branch/putnam/sports/2022-spring-spring-soccer/12040/?utm_medium=calendar&utm_source=team_cal&utm_content=league_url#game-302221
LOCATION:Field 3 (5/6)
BEGIN:VALARM
TRIGGER:-P2H
ACTION:DISPLAY
DESCRIPTION:Hargis vs Betcher
END:VALARM
END:VEVENT
BEGIN:VEVENT
UID:putnam-287279@ygametime.com
DTSTAMP:20220423T120000Z
DTSTART;TZID=America/New_York:20220423T080000
DURATION:PT0H45M0S
SUMMARY:Hargis vs Betcher
DESCRIPTION:3-4 year olds | Spring Soccer\nPutnam County Family YMCA\n
URL;VALUE=URI:https://ygametime.com/branch/putnam/sports/2022-spring-spring-soccer/12040/?utm_medium=calendar&utm_source=team_cal&utm_content=league_url#game-287279
LOCATION:Field 2 (5/6)
BEGIN:VALARM
TRIGGER:-P2H
ACTION:DISPLAY
DESCRIPTION:Hargis vs Betcher
END:VALARM
END:VEVENT
BEGIN:VEVENT
UID:putnam-287284@ygametime.com
DTSTAMP:20220430T120000Z
DTSTART;TZID=America/New_York:20220430T080000
DURATION:PT0H45M0S
SUMMARY:Stephenson vs Hargis
DESCRIPTION:3-4 year olds | Spring Soccer\nPutnam County Family YMCA\n
URL;VALUE=URI:https://ygametime.com/branch/putnam/sports/2022-spring-spring-soccer/12040/?utm_medium=calendar&utm_source=team_cal&utm_content=league_url#game-287284
LOCATION:Field 2 (5/6)
BEGIN:VALARM
TRIGGER:-P2H
ACTION:DISPLAY
DESCRIPTION:Stephenson vs Hargis
END:VALARM
END:VEVENT
BEGIN:VEVENT
UID:putnam-304485@ygametime.com
DTSTAMP:20220509T220000Z
DTSTART;TZID=America/New_York:20220509T180000
DURATION:PT0H45M0S
SUMMARY:Grimm vs Hargis
DESCRIPTION:3-4 year olds | Spring Soccer\nPutnam County Family YMCA\n
URL;VALUE=URI:https://ygametime.com/branch/putnam/sports/2022-spring-spring-soccer/12040/?utm_medium=calendar&utm_source=team_cal&utm_content=league_url#game-304485
LOCATION:Field 2 (5/6)
BEGIN:VALARM
TRIGGER:-P2H
ACTION:DISPLAY
DESCRIPTION:Grimm vs Hargis
END:VALARM
END:VEVENT
BEGIN:VEVENT
UID:putnam-287273@ygametime.com
DTSTAMP:20220514T120000Z
DTSTART;TZID=America/New_York:20220514T080000
DURATION:PT0H45M0S
SUMMARY:Stephenson vs Hargis
DESCRIPTION:3-4 year olds | Spring Soccer\nPutnam County Family YMCA\n
URL;VALUE=URI:https://ygametime.com/branch/putnam/sports/2022-spring-spring-soccer/12040/?utm_medium=calendar&utm_source=team_cal&utm_content=league_url#game-287273
LOCATION:Field 2 (5/6)
BEGIN:VALARM
TRIGGER:-P2H
ACTION:DISPLAY
DESCRIPTION:Stephenson vs Hargis
END:VALARM
END:VEVENT
END:VCALENDAR

