BEGIN:VCALENDAR
VERSION:2.0
PRODID:-//YGAMETIME.com//YGT iCal Creator//EN
METHOD:PUBLISH
X-PUBLISHED-TTL:PT6H
REFRESH-INTERVAL;VALUE=DURATION:PT6H
CALSCALE:GREGORIAN
X-WR-CALNAME:YGAMETIME CALENDAR
BEGIN:VTIMEZONE
TZID:America/New_York
X-LIC-LOCATION:America/New_York
BEGIN:DAYLIGHT
TZOFFSETFROM:-0500
TZOFFSETTO:-0400
TZNAME:EDT
DTSTART:19700308T020000
RRULE:FREQ=YEARLY;BYMONTH=3;BYDAY=2SU
END:DAYLIGHT
BEGIN:STANDARD
TZOFFSETFROM:-0400
TZOFFSETTO:-0500
TZNAME:EST
DTSTART:19701101T020000
RRULE:FREQ=YEARLY;BYMONTH=11;BYDAY=1SU
END:STANDARD
END:VTIMEZONE
BEGIN:VEVENT
UID:putnam-287964@ygametime.com
DTSTAMP:20220330T211500Z
DTSTART;TZID=America/New_York:20220330T171500
DURATION:PT0H60M0S
SUMMARY:Scantland vs Battaglia
DESCRIPTION:5-6 year olds | Spring Soccer\nPutnam County Family YMCA\n
URL;VALUE=URI:https://ygametime.com/branch/putnam/sports/2022-spring-spring-soccer/12039/?utm_medium=calendar&utm_source=team_cal&utm_content=league_url#game-287964
LOCATION:Field 9 (3/4)
BEGIN:VALARM
TRIGGER:-P2H
ACTION:DISPLAY
DESCRIPTION:Scantland vs Battaglia
END:VALARM
END:VEVENT
BEGIN:VEVENT
UID:putnam-287304@ygametime.com
DTSTAMP:20220402T143000Z
DTSTART;TZID=America/New_York:20220402T103000
DURATION:PT0H60M0S
SUMMARY:Battaglia vs Reep
DESCRIPTION:5-6 year olds | Spring Soccer\nPutnam County Family YMCA\n
URL;VALUE=URI:https://ygametime.com/branch/putnam/sports/2022-spring-spring-soccer/12039/?utm_medium=calendar&utm_source=team_cal&utm_content=league_url#game-287304
LOCATION:Field 9 (3/4)
BEGIN:VALARM
TRIGGER:-P2H
ACTION:DISPLAY
DESCRIPTION:Battaglia vs Reep
END:VALARM
END:VEVENT
BEGIN:VEVENT
UID:putnam-287301@ygametime.com
DTSTAMP:20220402T153000Z
DTSTART;TZID=America/New_York:20220402T113000
DURATION:PT0H60M0S
SUMMARY:Battaglia vs Mason
DESCRIPTION:5-6 year olds | Spring Soccer\nPutnam County Family YMCA\n
URL;VALUE=URI:https://ygametime.com/branch/putnam/sports/2022-spring-spring-soccer/12039/?utm_medium=calendar&utm_source=team_cal&utm_content=league_url#game-287301
LOCATION:Field 9 (3/4)
BEGIN:VALARM
TRIGGER:-P2H
ACTION:DISPLAY
DESCRIPTION:Battaglia vs Mason
END:VALARM
END:VEVENT
BEGIN:VEVENT
UID:putnam-287330@ygametime.com
DTSTAMP:20220420T213000Z
DTSTART;TZID=America/New_York:20220420T173000
DURATION:PT0H60M0S
SUMMARY:Battaglia vs Scantland
DESCRIPTION:5-6 year olds | Spring Soccer\nPutnam County Family YMCA\n
URL;VALUE=URI:https://ygametime.com/branch/putnam/sports/2022-spring-spring-soccer/12039/?utm_medium=calendar&utm_source=team_cal&utm_content=league_url#game-287330
LOCATION:Field 9 (3/4)
BEGIN:VALARM
TRIGGER:-P2H
ACTION:DISPLAY
DESCRIPTION:Battaglia vs Scantland
END:VALARM
END:VEVENT
BEGIN:VEVENT
UID:putnam-287324@ygametime.com
DTSTAMP:20220430T153000Z
DTSTART;TZID=America/New_York:20220430T113000
DURATION:PT0H60M0S
SUMMARY:Battaglia vs Corley
DESCRIPTION:5-6 year olds | Spring Soccer\nPutnam County Family YMCA\n
URL;VALUE=URI:https://ygametime.com/branch/putnam/sports/2022-spring-spring-soccer/12039/?utm_medium=calendar&utm_source=team_cal&utm_content=league_url#game-287324
LOCATION:Field 7 (3/4)
BEGIN:VALARM
TRIGGER:-P2H
ACTION:DISPLAY
DESCRIPTION:Battaglia vs Corley
END:VALARM
END:VEVENT
BEGIN:VEVENT
UID:putnam-302189@ygametime.com
DTSTAMP:20220504T213000Z
DTSTART;TZID=America/New_York:20220504T173000
DURATION:PT0H60M0S
SUMMARY:Lamb vs Battaglia
DESCRIPTION:5-6 year olds | Spring Soccer\nPutnam County Family YMCA\n
URL;VALUE=URI:https://ygametime.com/branch/putnam/sports/2022-spring-spring-soccer/12039/?utm_medium=calendar&utm_source=team_cal&utm_content=league_url#game-302189
LOCATION:Field 9 (3/4)
BEGIN:VALARM
TRIGGER:-P2H
ACTION:DISPLAY
DESCRIPTION:Lamb vs Battaglia
END:VALARM
END:VEVENT
BEGIN:VEVENT
UID:putnam-287334@ygametime.com
DTSTAMP:20220513T213000Z
DTSTART;TZID=America/New_York:20220513T173000
DURATION:PT0H60M0S
SUMMARY:Battaglia vs Bottoms
DESCRIPTION:5-6 year olds | Spring Soccer\nPutnam County Family YMCA\n
URL;VALUE=URI:https://ygametime.com/branch/putnam/sports/2022-spring-spring-soccer/12039/?utm_medium=calendar&utm_source=team_cal&utm_content=league_url#game-287334
LOCATION:Field 9 (3/4)
BEGIN:VALARM
TRIGGER:-P2H
ACTION:DISPLAY
DESCRIPTION:Battaglia vs Bottoms
END:VALARM
END:VEVENT
END:VCALENDAR

