BEGIN:VCALENDAR
VERSION:2.0
PRODID:-//YGAMETIME.com//YGT iCal Creator//EN
METHOD:PUBLISH
X-PUBLISHED-TTL:PT6H
REFRESH-INTERVAL;VALUE=DURATION:PT6H
CALSCALE:GREGORIAN
X-WR-CALNAME:YGAMETIME CALENDAR
BEGIN:VTIMEZONE
TZID:America/New_York
X-LIC-LOCATION:America/New_York
BEGIN:DAYLIGHT
TZOFFSETFROM:-0500
TZOFFSETTO:-0400
TZNAME:EDT
DTSTART:19700308T020000
RRULE:FREQ=YEARLY;BYMONTH=3;BYDAY=2SU
END:DAYLIGHT
BEGIN:STANDARD
TZOFFSETFROM:-0400
TZOFFSETTO:-0500
TZNAME:EST
DTSTART:19701101T020000
RRULE:FREQ=YEARLY;BYMONTH=11;BYDAY=1SU
END:STANDARD
END:VTIMEZONE
BEGIN:VEVENT
UID:putnam-324967@ygametime.com
DTSTAMP:20220916T213000Z
DTSTART;TZID=America/New_York:20220916T173000
DURATION:PT0H90M0S
SUMMARY:Bowers vs Whitson
DESCRIPTION:9-11 | Fall Soccer 2022\nPutnam County Family YMCA\n
URL;VALUE=URI:https://ygametime.com/branch/putnam/sports/2022-fall-fall-soccer-2022/13797/?utm_medium=calendar&utm_source=team_cal&utm_content=league_url#game-324967
LOCATION:Field 6 (9/11 Game Field)
BEGIN:VALARM
TRIGGER:-P2H
ACTION:DISPLAY
DESCRIPTION:Bowers vs Whitson
END:VALARM
END:VEVENT
BEGIN:VEVENT
UID:putnam-317257@ygametime.com
DTSTAMP:20220917T173000Z
DTSTART;TZID=America/New_York:20220917T133000
DURATION:PT0H90M0S
SUMMARY:Fancher vs Whitson
DESCRIPTION:9-11 | Fall Soccer 2022\nPutnam County Family YMCA\n
URL;VALUE=URI:https://ygametime.com/branch/putnam/sports/2022-fall-fall-soccer-2022/13797/?utm_medium=calendar&utm_source=team_cal&utm_content=league_url#game-317257
LOCATION:Field 6 (9/11 Game Field)
BEGIN:VALARM
TRIGGER:-P2H
ACTION:DISPLAY
DESCRIPTION:Fancher vs Whitson
END:VALARM
END:VEVENT
BEGIN:VEVENT
UID:putnam-316550@ygametime.com
DTSTAMP:20220926T211500Z
DTSTART;TZID=America/New_York:20220926T171500
DURATION:PT0H90M0S
SUMMARY:Tony vs Whitson
DESCRIPTION:9-11 | Fall Soccer 2022\nPutnam County Family YMCA\n
URL;VALUE=URI:https://ygametime.com/branch/putnam/sports/2022-fall-fall-soccer-2022/13797/?utm_medium=calendar&utm_source=team_cal&utm_content=league_url#game-316550
LOCATION:Field 6 (9/11 Game Field)
BEGIN:VALARM
TRIGGER:-P2H
ACTION:DISPLAY
DESCRIPTION:Tony vs Whitson
END:VALARM
END:VEVENT
BEGIN:VEVENT
UID:putnam-316321@ygametime.com
DTSTAMP:20221015T160000Z
DTSTART;TZID=America/New_York:20221015T120000
DURATION:PT0H90M0S
SUMMARY:Brown vs Whitson
DESCRIPTION:9-11 | Fall Soccer 2022\nPutnam County Family YMCA\n
URL;VALUE=URI:https://ygametime.com/branch/putnam/sports/2022-fall-fall-soccer-2022/13797/?utm_medium=calendar&utm_source=team_cal&utm_content=league_url#game-316321
LOCATION:Field 6 (9/11 Game Field)
BEGIN:VALARM
TRIGGER:-P2H
ACTION:DISPLAY
DESCRIPTION:Brown vs Whitson
END:VALARM
END:VEVENT
BEGIN:VEVENT
UID:putnam-317256@ygametime.com
DTSTAMP:20221022T143000Z
DTSTART;TZID=America/New_York:20221022T103000
DURATION:PT0H90M0S
SUMMARY:Whitson vs Tonietti
DESCRIPTION:9-11 | Fall Soccer 2022\nPutnam County Family YMCA\n
URL;VALUE=URI:https://ygametime.com/branch/putnam/sports/2022-fall-fall-soccer-2022/13797/?utm_medium=calendar&utm_source=team_cal&utm_content=league_url#game-317256
LOCATION:Field 6 (9/11 Game Field)
BEGIN:VALARM
TRIGGER:-P2H
ACTION:DISPLAY
DESCRIPTION:Whitson vs Tonietti
END:VALARM
END:VEVENT
BEGIN:VEVENT
UID:putnam-316328@ygametime.com
DTSTAMP:20221022T160000Z
DTSTART;TZID=America/New_York:20221022T120000
DURATION:PT0H90M0S
SUMMARY:Whitson vs Mack
DESCRIPTION:9-11 | Fall Soccer 2022\nPutnam County Family YMCA\n
URL;VALUE=URI:https://ygametime.com/branch/putnam/sports/2022-fall-fall-soccer-2022/13797/?utm_medium=calendar&utm_source=team_cal&utm_content=league_url#game-316328
LOCATION:Field 6 (9/11 Game Field)
BEGIN:VALARM
TRIGGER:-P2H
ACTION:DISPLAY
DESCRIPTION:Whitson vs Mack
END:VALARM
END:VEVENT
BEGIN:VEVENT
UID:putnam-316318@ygametime.com
DTSTAMP:20221029T173000Z
DTSTART;TZID=America/New_York:20221029T133000
DURATION:PT0H90M0S
SUMMARY:Whitson vs Fancher
DESCRIPTION:9-11 | Fall Soccer 2022\nPutnam County Family YMCA\n
URL;VALUE=URI:https://ygametime.com/branch/putnam/sports/2022-fall-fall-soccer-2022/13797/?utm_medium=calendar&utm_source=team_cal&utm_content=league_url#game-316318
LOCATION:Field 6 (9/11 Game Field)
BEGIN:VALARM
TRIGGER:-P2H
ACTION:DISPLAY
DESCRIPTION:Whitson vs Fancher
END:VALARM
END:VEVENT
BEGIN:VEVENT
UID:putnam-316551@ygametime.com
DTSTAMP:20221105T120000Z
DTSTART;TZID=America/New_York:20221105T080000
DURATION:PT0H90M0S
SUMMARY:Mack vs Whitson
DESCRIPTION:9-11 | Fall Soccer 2022\nPutnam County Family YMCA\n
URL;VALUE=URI:https://ygametime.com/branch/putnam/sports/2022-fall-fall-soccer-2022/13797/?utm_medium=calendar&utm_source=team_cal&utm_content=league_url#game-316551
LOCATION:Field 6 (9/11 Game Field)
BEGIN:VALARM
TRIGGER:-P2H
ACTION:DISPLAY
DESCRIPTION:Mack vs Whitson
END:VALARM
END:VEVENT
END:VCALENDAR

