BEGIN:VCALENDAR
VERSION:2.0
PRODID:-//YGAMETIME.com//YGT iCal Creator//EN
METHOD:PUBLISH
X-PUBLISHED-TTL:PT6H
REFRESH-INTERVAL;VALUE=DURATION:PT6H
CALSCALE:GREGORIAN
X-WR-CALNAME:YGAMETIME CALENDAR
BEGIN:VTIMEZONE
TZID:America/New_York
X-LIC-LOCATION:America/New_York
BEGIN:DAYLIGHT
TZOFFSETFROM:-0500
TZOFFSETTO:-0400
TZNAME:EDT
DTSTART:19700308T020000
RRULE:FREQ=YEARLY;BYMONTH=3;BYDAY=2SU
END:DAYLIGHT
BEGIN:STANDARD
TZOFFSETFROM:-0400
TZOFFSETTO:-0500
TZNAME:EST
DTSTART:19701101T020000
RRULE:FREQ=YEARLY;BYMONTH=11;BYDAY=1SU
END:STANDARD
END:VTIMEZONE
BEGIN:VEVENT
UID:putnam-316307@ygametime.com
DTSTAMP:20220917T143000Z
DTSTART;TZID=America/New_York:20220917T103000
DURATION:PT0H90M0S
SUMMARY:Bowers vs Mack
DESCRIPTION:9-11 | Fall Soccer 2022\nPutnam County Family YMCA\n
URL;VALUE=URI:https://ygametime.com/branch/putnam/sports/2022-fall-fall-soccer-2022/13797/?utm_medium=calendar&utm_source=team_cal&utm_content=league_url#game-316307
LOCATION:Field 6 (9/11 Game Field)
BEGIN:VALARM
TRIGGER:-P2H
ACTION:DISPLAY
DESCRIPTION:Bowers vs Mack
END:VALARM
END:VEVENT
BEGIN:VEVENT
UID:putnam-316309@ygametime.com
DTSTAMP:20220924T143000Z
DTSTART;TZID=America/New_York:20220924T103000
DURATION:PT0H90M0S
SUMMARY:Mack vs Fancher
DESCRIPTION:9-11 | Fall Soccer 2022\nPutnam County Family YMCA\n
URL;VALUE=URI:https://ygametime.com/branch/putnam/sports/2022-fall-fall-soccer-2022/13797/?utm_medium=calendar&utm_source=team_cal&utm_content=league_url#game-316309
LOCATION:Field 6 (9/11 Game Field)
BEGIN:VALARM
TRIGGER:-P2H
ACTION:DISPLAY
DESCRIPTION:Mack vs Fancher
END:VALARM
END:VEVENT
BEGIN:VEVENT
UID:putnam-325603@ygametime.com
DTSTAMP:20220927T213000Z
DTSTART;TZID=America/New_York:20220927T173000
DURATION:PT0H90M0S
SUMMARY:Tonietti vs Mack
DESCRIPTION:9-11 | Fall Soccer 2022\nPutnam County Family YMCA\n
URL;VALUE=URI:https://ygametime.com/branch/putnam/sports/2022-fall-fall-soccer-2022/13797/?utm_medium=calendar&utm_source=team_cal&utm_content=league_url#game-325603
LOCATION:Field 6 (9/11 Game Field)
BEGIN:VALARM
TRIGGER:-P2H
ACTION:DISPLAY
DESCRIPTION:Tonietti vs Mack
END:VALARM
END:VEVENT
BEGIN:VEVENT
UID:putnam-316702@ygametime.com
DTSTAMP:20221017T211500Z
DTSTART;TZID=America/New_York:20221017T171500
DURATION:PT0H90M0S
SUMMARY:Tony vs Mack
DESCRIPTION:9-11 | Fall Soccer 2022\nPutnam County Family YMCA\n
URL;VALUE=URI:https://ygametime.com/branch/putnam/sports/2022-fall-fall-soccer-2022/13797/?utm_medium=calendar&utm_source=team_cal&utm_content=league_url#game-316702
LOCATION:Field 6 (9/11 Game Field)
BEGIN:VALARM
TRIGGER:-P2H
ACTION:DISPLAY
DESCRIPTION:Tony vs Mack
END:VALARM
END:VEVENT
BEGIN:VEVENT
UID:putnam-316328@ygametime.com
DTSTAMP:20221022T160000Z
DTSTART;TZID=America/New_York:20221022T120000
DURATION:PT0H90M0S
SUMMARY:Whitson vs Mack
DESCRIPTION:9-11 | Fall Soccer 2022\nPutnam County Family YMCA\n
URL;VALUE=URI:https://ygametime.com/branch/putnam/sports/2022-fall-fall-soccer-2022/13797/?utm_medium=calendar&utm_source=team_cal&utm_content=league_url#game-316328
LOCATION:Field 6 (9/11 Game Field)
BEGIN:VALARM
TRIGGER:-P2H
ACTION:DISPLAY
DESCRIPTION:Whitson vs Mack
END:VALARM
END:VEVENT
BEGIN:VEVENT
UID:putnam-316317@ygametime.com
DTSTAMP:20221029T143000Z
DTSTART;TZID=America/New_York:20221029T103000
DURATION:PT0H90M0S
SUMMARY:Mack vs Tony
DESCRIPTION:9-11 | Fall Soccer 2022\nPutnam County Family YMCA\n
URL;VALUE=URI:https://ygametime.com/branch/putnam/sports/2022-fall-fall-soccer-2022/13797/?utm_medium=calendar&utm_source=team_cal&utm_content=league_url#game-316317
LOCATION:Field 6 (9/11 Game Field)
BEGIN:VALARM
TRIGGER:-P2H
ACTION:DISPLAY
DESCRIPTION:Mack vs Tony
END:VALARM
END:VEVENT
BEGIN:VEVENT
UID:putnam-316551@ygametime.com
DTSTAMP:20221105T120000Z
DTSTART;TZID=America/New_York:20221105T080000
DURATION:PT0H90M0S
SUMMARY:Mack vs Whitson
DESCRIPTION:9-11 | Fall Soccer 2022\nPutnam County Family YMCA\n
URL;VALUE=URI:https://ygametime.com/branch/putnam/sports/2022-fall-fall-soccer-2022/13797/?utm_medium=calendar&utm_source=team_cal&utm_content=league_url#game-316551
LOCATION:Field 6 (9/11 Game Field)
BEGIN:VALARM
TRIGGER:-P2H
ACTION:DISPLAY
DESCRIPTION:Mack vs Whitson
END:VALARM
END:VEVENT
BEGIN:VEVENT
UID:putnam-316554@ygametime.com
DTSTAMP:20221105T163000Z
DTSTART;TZID=America/New_York:20221105T123000
DURATION:PT0H90M0S
SUMMARY:Bowers vs Mack
DESCRIPTION:9-11 | Fall Soccer 2022\nPutnam County Family YMCA\n
URL;VALUE=URI:https://ygametime.com/branch/putnam/sports/2022-fall-fall-soccer-2022/13797/?utm_medium=calendar&utm_source=team_cal&utm_content=league_url#game-316554
LOCATION:Field 6 (9/11 Game Field)
BEGIN:VALARM
TRIGGER:-P2H
ACTION:DISPLAY
DESCRIPTION:Bowers vs Mack
END:VALARM
END:VEVENT
END:VCALENDAR

