BEGIN:VCALENDAR
VERSION:2.0
PRODID:-//YGAMETIME.com//YGT iCal Creator//EN
METHOD:PUBLISH
X-PUBLISHED-TTL:PT6H
REFRESH-INTERVAL;VALUE=DURATION:PT6H
CALSCALE:GREGORIAN
X-WR-CALNAME:YGAMETIME CALENDAR
BEGIN:VTIMEZONE
TZID:America/New_York
X-LIC-LOCATION:America/New_York
BEGIN:DAYLIGHT
TZOFFSETFROM:-0500
TZOFFSETTO:-0400
TZNAME:EDT
DTSTART:19700308T020000
RRULE:FREQ=YEARLY;BYMONTH=3;BYDAY=2SU
END:DAYLIGHT
BEGIN:STANDARD
TZOFFSETFROM:-0400
TZOFFSETTO:-0500
TZNAME:EST
DTSTART:19701101T020000
RRULE:FREQ=YEARLY;BYMONTH=11;BYDAY=1SU
END:STANDARD
END:VTIMEZONE
BEGIN:VEVENT
UID:putnam-324745@ygametime.com
DTSTAMP:20220915T213000Z
DTSTART;TZID=America/New_York:20220915T173000
DURATION:PT0H45M0S
SUMMARY:Bennett vs Winfree
DESCRIPTION:3/4 | Fall Soccer 2022\nPutnam County Family YMCA\n
URL;VALUE=URI:https://ygametime.com/branch/putnam/sports/2022-fall-fall-soccer-2022/13794/?utm_medium=calendar&utm_source=team_cal&utm_content=league_url#game-324745
LOCATION:Field 7 (3/4)
BEGIN:VALARM
TRIGGER:-P2H
ACTION:DISPLAY
DESCRIPTION:Bennett vs Winfree
END:VALARM
END:VEVENT
BEGIN:VEVENT
UID:putnam-315794@ygametime.com
DTSTAMP:20220917T143000Z
DTSTART;TZID=America/New_York:20220917T103000
DURATION:PT0H45M0S
SUMMARY:Bennett vs Ross
DESCRIPTION:3/4 | Fall Soccer 2022\nPutnam County Family YMCA\n
URL;VALUE=URI:https://ygametime.com/branch/putnam/sports/2022-fall-fall-soccer-2022/13794/?utm_medium=calendar&utm_source=team_cal&utm_content=league_url#game-315794
LOCATION:Field 7 (3/4)
BEGIN:VALARM
TRIGGER:-P2H
ACTION:DISPLAY
DESCRIPTION:Bennett vs Ross
END:VALARM
END:VEVENT
BEGIN:VEVENT
UID:putnam-315798@ygametime.com
DTSTAMP:20220924T123000Z
DTSTART;TZID=America/New_York:20220924T083000
DURATION:PT0H45M0S
SUMMARY:Dartez vs Bennett
DESCRIPTION:3/4 | Fall Soccer 2022\nPutnam County Family YMCA\n
URL;VALUE=URI:https://ygametime.com/branch/putnam/sports/2022-fall-fall-soccer-2022/13794/?utm_medium=calendar&utm_source=team_cal&utm_content=league_url#game-315798
LOCATION:Field 9 (3/4)
BEGIN:VALARM
TRIGGER:-P2H
ACTION:DISPLAY
DESCRIPTION:Dartez vs Bennett
END:VALARM
END:VEVENT
BEGIN:VEVENT
UID:putnam-315816@ygametime.com
DTSTAMP:20221015T133000Z
DTSTART;TZID=America/New_York:20221015T093000
DURATION:PT0H45M0S
SUMMARY:Bennett vs Mills
DESCRIPTION:3/4 | Fall Soccer 2022\nPutnam County Family YMCA\n
URL;VALUE=URI:https://ygametime.com/branch/putnam/sports/2022-fall-fall-soccer-2022/13794/?utm_medium=calendar&utm_source=team_cal&utm_content=league_url#game-315816
LOCATION:Field 8 (3/4)
BEGIN:VALARM
TRIGGER:-P2H
ACTION:DISPLAY
DESCRIPTION:Bennett vs Mills
END:VALARM
END:VEVENT
BEGIN:VEVENT
UID:putnam-315826@ygametime.com
DTSTAMP:20221018T211500Z
DTSTART;TZID=America/New_York:20221018T171500
DURATION:PT0H45M0S
SUMMARY:Bennett vs Ross
DESCRIPTION:3/4 | Fall Soccer 2022\nPutnam County Family YMCA\n
URL;VALUE=URI:https://ygametime.com/branch/putnam/sports/2022-fall-fall-soccer-2022/13794/?utm_medium=calendar&utm_source=team_cal&utm_content=league_url#game-315826
LOCATION:Field 9 (3/4)
BEGIN:VALARM
TRIGGER:-P2H
ACTION:DISPLAY
DESCRIPTION:Bennett vs Ross
END:VALARM
END:VEVENT
BEGIN:VEVENT
UID:putnam-315812@ygametime.com
DTSTAMP:20221029T153000Z
DTSTART;TZID=America/New_York:20221029T113000
DURATION:PT0H45M0S
SUMMARY:Hargis vs Bennett
DESCRIPTION:3/4 | Fall Soccer 2022\nPutnam County Family YMCA\n
URL;VALUE=URI:https://ygametime.com/branch/putnam/sports/2022-fall-fall-soccer-2022/13794/?utm_medium=calendar&utm_source=team_cal&utm_content=league_url#game-315812
LOCATION:Field 8 (3/4)
BEGIN:VALARM
TRIGGER:-P2H
ACTION:DISPLAY
DESCRIPTION:Hargis vs Bennett
END:VALARM
END:VEVENT
BEGIN:VEVENT
UID:putnam-315802@ygametime.com
DTSTAMP:20221105T123000Z
DTSTART;TZID=America/New_York:20221105T083000
DURATION:PT0H45M0S
SUMMARY:Bennett vs Romine
DESCRIPTION:3/4 | Fall Soccer 2022\nPutnam County Family YMCA\n
URL;VALUE=URI:https://ygametime.com/branch/putnam/sports/2022-fall-fall-soccer-2022/13794/?utm_medium=calendar&utm_source=team_cal&utm_content=league_url#game-315802
LOCATION:Field 7 (3/4)
BEGIN:VALARM
TRIGGER:-P2H
ACTION:DISPLAY
DESCRIPTION:Bennett vs Romine
END:VALARM
END:VEVENT
END:VCALENDAR

