BEGIN:VCALENDAR
VERSION:2.0
PRODID:-//YGAMETIME.com//YGT iCal Creator//EN
METHOD:PUBLISH
X-PUBLISHED-TTL:PT6H
REFRESH-INTERVAL;VALUE=DURATION:PT6H
CALSCALE:GREGORIAN
X-WR-CALNAME:YGAMETIME CALENDAR
BEGIN:VTIMEZONE
TZID:America/New_York
X-LIC-LOCATION:America/New_York
BEGIN:DAYLIGHT
TZOFFSETFROM:-0500
TZOFFSETTO:-0400
TZNAME:EDT
DTSTART:19700308T020000
RRULE:FREQ=YEARLY;BYMONTH=3;BYDAY=2SU
END:DAYLIGHT
BEGIN:STANDARD
TZOFFSETFROM:-0400
TZOFFSETTO:-0500
TZNAME:EST
DTSTART:19701101T020000
RRULE:FREQ=YEARLY;BYMONTH=11;BYDAY=1SU
END:STANDARD
END:VTIMEZONE
BEGIN:VEVENT
UID:putnam-324748@ygametime.com
DTSTAMP:20220914T213000Z
DTSTART;TZID=America/New_York:20220914T173000
DURATION:PT0H45M0S
SUMMARY:Betcher vs Dartez
DESCRIPTION:3/4 | Fall Soccer 2022\nPutnam County Family YMCA\n
URL;VALUE=URI:https://ygametime.com/branch/putnam/sports/2022-fall-fall-soccer-2022/13794/?utm_medium=calendar&utm_source=team_cal&utm_content=league_url#game-324748
LOCATION:Field 7 (3/4)
BEGIN:VALARM
TRIGGER:-P2H
ACTION:DISPLAY
DESCRIPTION:Betcher vs Dartez
END:VALARM
END:VEVENT
BEGIN:VEVENT
UID:putnam-316704@ygametime.com
DTSTAMP:20220921T211500Z
DTSTART;TZID=America/New_York:20220921T171500
DURATION:PT0H45M0S
SUMMARY:Martin vs Betcher
DESCRIPTION:3/4 | Fall Soccer 2022\nPutnam County Family YMCA\n
URL;VALUE=URI:https://ygametime.com/branch/putnam/sports/2022-fall-fall-soccer-2022/13794/?utm_medium=calendar&utm_source=team_cal&utm_content=league_url#game-316704
LOCATION:Field 8 (3/4)
BEGIN:VALARM
TRIGGER:-P2H
ACTION:DISPLAY
DESCRIPTION:Martin vs Betcher
END:VALARM
END:VEVENT
BEGIN:VEVENT
UID:putnam-315819@ygametime.com
DTSTAMP:20221015T153000Z
DTSTART;TZID=America/New_York:20221015T113000
DURATION:PT0H45M0S
SUMMARY:Betcher vs Hargis
DESCRIPTION:3/4 | Fall Soccer 2022\nPutnam County Family YMCA\n
URL;VALUE=URI:https://ygametime.com/branch/putnam/sports/2022-fall-fall-soccer-2022/13794/?utm_medium=calendar&utm_source=team_cal&utm_content=league_url#game-315819
LOCATION:Field 8 (3/4)
BEGIN:VALARM
TRIGGER:-P2H
ACTION:DISPLAY
DESCRIPTION:Betcher vs Hargis
END:VALARM
END:VEVENT
BEGIN:VEVENT
UID:putnam-329096@ygametime.com
DTSTAMP:20221017T213000Z
DTSTART;TZID=America/New_York:20221017T173000
DURATION:PT0H45M0S
SUMMARY:Carr vs Betcher
DESCRIPTION:3/4 | Fall Soccer 2022\nPutnam County Family YMCA\n
URL;VALUE=URI:https://ygametime.com/branch/putnam/sports/2022-fall-fall-soccer-2022/13794/?utm_medium=calendar&utm_source=team_cal&utm_content=league_url#game-329096
LOCATION:Field 7 (3/4)
BEGIN:VALARM
TRIGGER:-P2H
ACTION:DISPLAY
DESCRIPTION:Carr vs Betcher
END:VALARM
END:VEVENT
BEGIN:VEVENT
UID:putnam-315825@ygametime.com
DTSTAMP:20221022T143000Z
DTSTART;TZID=America/New_York:20221022T103000
DURATION:PT0H45M0S
SUMMARY:Romine vs Betcher
DESCRIPTION:3/4 | Fall Soccer 2022\nPutnam County Family YMCA\n
URL;VALUE=URI:https://ygametime.com/branch/putnam/sports/2022-fall-fall-soccer-2022/13794/?utm_medium=calendar&utm_source=team_cal&utm_content=league_url#game-315825
LOCATION:Field 9 (3/4)
BEGIN:VALARM
TRIGGER:-P2H
ACTION:DISPLAY
DESCRIPTION:Romine vs Betcher
END:VALARM
END:VEVENT
BEGIN:VEVENT
UID:putnam-315813@ygametime.com
DTSTAMP:20221029T143000Z
DTSTART;TZID=America/New_York:20221029T103000
DURATION:PT0H45M0S
SUMMARY:Martin vs Betcher
DESCRIPTION:3/4 | Fall Soccer 2022\nPutnam County Family YMCA\n
URL;VALUE=URI:https://ygametime.com/branch/putnam/sports/2022-fall-fall-soccer-2022/13794/?utm_medium=calendar&utm_source=team_cal&utm_content=league_url#game-315813
LOCATION:Field 9 (3/4)
BEGIN:VALARM
TRIGGER:-P2H
ACTION:DISPLAY
DESCRIPTION:Martin vs Betcher
END:VALARM
END:VEVENT
BEGIN:VEVENT
UID:putnam-315807@ygametime.com
DTSTAMP:20221105T153000Z
DTSTART;TZID=America/New_York:20221105T113000
DURATION:PT0H45M0S
SUMMARY:Betcher vs Winfree
DESCRIPTION:3/4 | Fall Soccer 2022\nPutnam County Family YMCA\n
URL;VALUE=URI:https://ygametime.com/branch/putnam/sports/2022-fall-fall-soccer-2022/13794/?utm_medium=calendar&utm_source=team_cal&utm_content=league_url#game-315807
LOCATION:Field 8 (3/4)
BEGIN:VALARM
TRIGGER:-P2H
ACTION:DISPLAY
DESCRIPTION:Betcher vs Winfree
END:VALARM
END:VEVENT
END:VCALENDAR

