BEGIN:VCALENDAR
VERSION:2.0
PRODID:-//YGAMETIME.com//YGT iCal Creator//EN
METHOD:PUBLISH
X-PUBLISHED-TTL:PT6H
REFRESH-INTERVAL;VALUE=DURATION:PT6H
CALSCALE:GREGORIAN
X-WR-CALNAME:YGAMETIME CALENDAR
BEGIN:VTIMEZONE
TZID:America/New_York
X-LIC-LOCATION:America/New_York
BEGIN:DAYLIGHT
TZOFFSETFROM:-0500
TZOFFSETTO:-0400
TZNAME:EDT
DTSTART:19700308T020000
RRULE:FREQ=YEARLY;BYMONTH=3;BYDAY=2SU
END:DAYLIGHT
BEGIN:STANDARD
TZOFFSETFROM:-0400
TZOFFSETTO:-0500
TZNAME:EST
DTSTART:19701101T020000
RRULE:FREQ=YEARLY;BYMONTH=11;BYDAY=1SU
END:STANDARD
END:VTIMEZONE
BEGIN:VEVENT
UID:putnam-324748@ygametime.com
DTSTAMP:20220914T213000Z
DTSTART;TZID=America/New_York:20220914T173000
DURATION:PT0H45M0S
SUMMARY:Betcher vs Dartez
DESCRIPTION:3/4 | Fall Soccer 2022\nPutnam County Family YMCA\n
URL;VALUE=URI:https://ygametime.com/branch/putnam/sports/2022-fall-fall-soccer-2022/13794/?utm_medium=calendar&utm_source=team_cal&utm_content=league_url#game-324748
LOCATION:Field 7 (3/4)
BEGIN:VALARM
TRIGGER:-P2H
ACTION:DISPLAY
DESCRIPTION:Betcher vs Dartez
END:VALARM
END:VEVENT
BEGIN:VEVENT
UID:putnam-315790@ygametime.com
DTSTAMP:20220917T123000Z
DTSTART;TZID=America/New_York:20220917T083000
DURATION:PT0H45M0S
SUMMARY:Dartez vs Romine
DESCRIPTION:3/4 | Fall Soccer 2022\nPutnam County Family YMCA\n
URL;VALUE=URI:https://ygametime.com/branch/putnam/sports/2022-fall-fall-soccer-2022/13794/?utm_medium=calendar&utm_source=team_cal&utm_content=league_url#game-315790
LOCATION:Field 7 (3/4)
BEGIN:VALARM
TRIGGER:-P2H
ACTION:DISPLAY
DESCRIPTION:Dartez vs Romine
END:VALARM
END:VEVENT
BEGIN:VEVENT
UID:putnam-315798@ygametime.com
DTSTAMP:20220924T123000Z
DTSTART;TZID=America/New_York:20220924T083000
DURATION:PT0H45M0S
SUMMARY:Dartez vs Bennett
DESCRIPTION:3/4 | Fall Soccer 2022\nPutnam County Family YMCA\n
URL;VALUE=URI:https://ygametime.com/branch/putnam/sports/2022-fall-fall-soccer-2022/13794/?utm_medium=calendar&utm_source=team_cal&utm_content=league_url#game-315798
LOCATION:Field 9 (3/4)
BEGIN:VALARM
TRIGGER:-P2H
ACTION:DISPLAY
DESCRIPTION:Dartez vs Bennett
END:VALARM
END:VEVENT
BEGIN:VEVENT
UID:putnam-315818@ygametime.com
DTSTAMP:20221015T143000Z
DTSTART;TZID=America/New_York:20221015T103000
DURATION:PT0H45M0S
SUMMARY:Mason vs Dartez
DESCRIPTION:3/4 | Fall Soccer 2022\nPutnam County Family YMCA\n
URL;VALUE=URI:https://ygametime.com/branch/putnam/sports/2022-fall-fall-soccer-2022/13794/?utm_medium=calendar&utm_source=team_cal&utm_content=league_url#game-315818
LOCATION:Field 9 (3/4)
BEGIN:VALARM
TRIGGER:-P2H
ACTION:DISPLAY
DESCRIPTION:Mason vs Dartez
END:VALARM
END:VEVENT
BEGIN:VEVENT
UID:putnam-315823@ygametime.com
DTSTAMP:20221022T133000Z
DTSTART;TZID=America/New_York:20221022T093000
DURATION:PT0H45M0S
SUMMARY:Dartez vs Carr
DESCRIPTION:3/4 | Fall Soccer 2022\nPutnam County Family YMCA\n
URL;VALUE=URI:https://ygametime.com/branch/putnam/sports/2022-fall-fall-soccer-2022/13794/?utm_medium=calendar&utm_source=team_cal&utm_content=league_url#game-315823
LOCATION:Field 8 (3/4)
BEGIN:VALARM
TRIGGER:-P2H
ACTION:DISPLAY
DESCRIPTION:Dartez vs Carr
END:VALARM
END:VEVENT
BEGIN:VEVENT
UID:putnam-315809@ygametime.com
DTSTAMP:20221029T123000Z
DTSTART;TZID=America/New_York:20221029T083000
DURATION:PT0H45M0S
SUMMARY:Dartez vs Grimm
DESCRIPTION:3/4 | Fall Soccer 2022\nPutnam County Family YMCA\n
URL;VALUE=URI:https://ygametime.com/branch/putnam/sports/2022-fall-fall-soccer-2022/13794/?utm_medium=calendar&utm_source=team_cal&utm_content=league_url#game-315809
LOCATION:Field 9 (3/4)
BEGIN:VALARM
TRIGGER:-P2H
ACTION:DISPLAY
DESCRIPTION:Dartez vs Grimm
END:VALARM
END:VEVENT
BEGIN:VEVENT
UID:putnam-339272@ygametime.com
DTSTAMP:20221104T214500Z
DTSTART;TZID=America/New_York:20221104T174500
DURATION:PT0H45M0S
SUMMARY:Mills vs Dartez
DESCRIPTION:3/4 | Fall Soccer 2022\nPutnam County Family YMCA\n
URL;VALUE=URI:https://ygametime.com/branch/putnam/sports/2022-fall-fall-soccer-2022/13794/?utm_medium=calendar&utm_source=team_cal&utm_content=league_url#game-339272
LOCATION:Field 9 (3/4)
BEGIN:VALARM
TRIGGER:-P2H
ACTION:DISPLAY
DESCRIPTION:Mills vs Dartez
END:VALARM
END:VEVENT
END:VCALENDAR

