BEGIN:VCALENDAR
VERSION:2.0
PRODID:-//YGAMETIME.com//YGT iCal Creator//EN
METHOD:PUBLISH
X-PUBLISHED-TTL:PT6H
REFRESH-INTERVAL;VALUE=DURATION:PT6H
CALSCALE:GREGORIAN
X-WR-CALNAME:YGAMETIME CALENDAR
BEGIN:VTIMEZONE
TZID:America/New_York
X-LIC-LOCATION:America/New_York
BEGIN:DAYLIGHT
TZOFFSETFROM:-0500
TZOFFSETTO:-0400
TZNAME:EDT
DTSTART:19700308T020000
RRULE:FREQ=YEARLY;BYMONTH=3;BYDAY=2SU
END:DAYLIGHT
BEGIN:STANDARD
TZOFFSETFROM:-0400
TZOFFSETTO:-0500
TZNAME:EST
DTSTART:19701101T020000
RRULE:FREQ=YEARLY;BYMONTH=11;BYDAY=1SU
END:STANDARD
END:VTIMEZONE
BEGIN:VEVENT
UID:putnam-315791@ygametime.com
DTSTAMP:20220917T123000Z
DTSTART;TZID=America/New_York:20220917T083000
DURATION:PT0H45M0S
SUMMARY:Grimm vs Carr
DESCRIPTION:3/4 | Fall Soccer 2022\nPutnam County Family YMCA\n
URL;VALUE=URI:https://ygametime.com/branch/putnam/sports/2022-fall-fall-soccer-2022/13794/?utm_medium=calendar&utm_source=team_cal&utm_content=league_url#game-315791
LOCATION:Field 9 (3/4)
BEGIN:VALARM
TRIGGER:-P2H
ACTION:DISPLAY
DESCRIPTION:Grimm vs Carr
END:VALARM
END:VEVENT
BEGIN:VEVENT
UID:putnam-324746@ygametime.com
DTSTAMP:20220919T213000Z
DTSTART;TZID=America/New_York:20220919T173000
DURATION:PT0H45M0S
SUMMARY:Carr vs Romine
DESCRIPTION:3/4 | Fall Soccer 2022\nPutnam County Family YMCA\n
URL;VALUE=URI:https://ygametime.com/branch/putnam/sports/2022-fall-fall-soccer-2022/13794/?utm_medium=calendar&utm_source=team_cal&utm_content=league_url#game-324746
LOCATION:Field 9 (3/4)
BEGIN:VALARM
TRIGGER:-P2H
ACTION:DISPLAY
DESCRIPTION:Carr vs Romine
END:VALARM
END:VEVENT
BEGIN:VEVENT
UID:putnam-315817@ygametime.com
DTSTAMP:20221015T143000Z
DTSTART;TZID=America/New_York:20221015T103000
DURATION:PT0H45M0S
SUMMARY:Carr vs Martin
DESCRIPTION:3/4 | Fall Soccer 2022\nPutnam County Family YMCA\n
URL;VALUE=URI:https://ygametime.com/branch/putnam/sports/2022-fall-fall-soccer-2022/13794/?utm_medium=calendar&utm_source=team_cal&utm_content=league_url#game-315817
LOCATION:Field 7 (3/4)
BEGIN:VALARM
TRIGGER:-P2H
ACTION:DISPLAY
DESCRIPTION:Carr vs Martin
END:VALARM
END:VEVENT
BEGIN:VEVENT
UID:putnam-329096@ygametime.com
DTSTAMP:20221017T213000Z
DTSTART;TZID=America/New_York:20221017T173000
DURATION:PT0H45M0S
SUMMARY:Carr vs Betcher
DESCRIPTION:3/4 | Fall Soccer 2022\nPutnam County Family YMCA\n
URL;VALUE=URI:https://ygametime.com/branch/putnam/sports/2022-fall-fall-soccer-2022/13794/?utm_medium=calendar&utm_source=team_cal&utm_content=league_url#game-329096
LOCATION:Field 7 (3/4)
BEGIN:VALARM
TRIGGER:-P2H
ACTION:DISPLAY
DESCRIPTION:Carr vs Betcher
END:VALARM
END:VEVENT
BEGIN:VEVENT
UID:putnam-315823@ygametime.com
DTSTAMP:20221022T133000Z
DTSTART;TZID=America/New_York:20221022T093000
DURATION:PT0H45M0S
SUMMARY:Dartez vs Carr
DESCRIPTION:3/4 | Fall Soccer 2022\nPutnam County Family YMCA\n
URL;VALUE=URI:https://ygametime.com/branch/putnam/sports/2022-fall-fall-soccer-2022/13794/?utm_medium=calendar&utm_source=team_cal&utm_content=league_url#game-315823
LOCATION:Field 8 (3/4)
BEGIN:VALARM
TRIGGER:-P2H
ACTION:DISPLAY
DESCRIPTION:Dartez vs Carr
END:VALARM
END:VEVENT
BEGIN:VEVENT
UID:putnam-315811@ygametime.com
DTSTAMP:20221029T143000Z
DTSTART;TZID=America/New_York:20221029T103000
DURATION:PT0H45M0S
SUMMARY:Winfree vs Carr
DESCRIPTION:3/4 | Fall Soccer 2022\nPutnam County Family YMCA\n
URL;VALUE=URI:https://ygametime.com/branch/putnam/sports/2022-fall-fall-soccer-2022/13794/?utm_medium=calendar&utm_source=team_cal&utm_content=league_url#game-315811
LOCATION:Field 7 (3/4)
BEGIN:VALARM
TRIGGER:-P2H
ACTION:DISPLAY
DESCRIPTION:Winfree vs Carr
END:VALARM
END:VEVENT
BEGIN:VEVENT
UID:putnam-339271@ygametime.com
DTSTAMP:20221104T210000Z
DTSTART;TZID=America/New_York:20221104T170000
DURATION:PT0H45M0S
SUMMARY:Carr vs Ross
DESCRIPTION:3/4 | Fall Soccer 2022\nPutnam County Family YMCA\n
URL;VALUE=URI:https://ygametime.com/branch/putnam/sports/2022-fall-fall-soccer-2022/13794/?utm_medium=calendar&utm_source=team_cal&utm_content=league_url#game-339271
LOCATION:Field 7 (3/4)
BEGIN:VALARM
TRIGGER:-P2H
ACTION:DISPLAY
DESCRIPTION:Carr vs Ross
END:VALARM
END:VEVENT
END:VCALENDAR

