BEGIN:VCALENDAR
VERSION:2.0
PRODID:-//YGAMETIME.com//YGT iCal Creator//EN
METHOD:PUBLISH
X-PUBLISHED-TTL:PT6H
REFRESH-INTERVAL;VALUE=DURATION:PT6H
CALSCALE:GREGORIAN
X-WR-CALNAME:YGAMETIME CALENDAR
BEGIN:VTIMEZONE
TZID:America/New_York
X-LIC-LOCATION:America/New_York
BEGIN:DAYLIGHT
TZOFFSETFROM:-0500
TZOFFSETTO:-0400
TZNAME:EDT
DTSTART:19700308T020000
RRULE:FREQ=YEARLY;BYMONTH=3;BYDAY=2SU
END:DAYLIGHT
BEGIN:STANDARD
TZOFFSETFROM:-0400
TZOFFSETTO:-0500
TZNAME:EST
DTSTART:19701101T020000
RRULE:FREQ=YEARLY;BYMONTH=11;BYDAY=1SU
END:STANDARD
END:VTIMEZONE
BEGIN:VEVENT
UID:putnam-315792@ygametime.com
DTSTAMP:20220917T133000Z
DTSTART;TZID=America/New_York:20220917T093000
DURATION:PT0H45M0S
SUMMARY:Mills vs Hargis
DESCRIPTION:3/4 | Fall Soccer 2022\nPutnam County Family YMCA\n
URL;VALUE=URI:https://ygametime.com/branch/putnam/sports/2022-fall-fall-soccer-2022/13794/?utm_medium=calendar&utm_source=team_cal&utm_content=league_url#game-315792
LOCATION:Field 8 (3/4)
BEGIN:VALARM
TRIGGER:-P2H
ACTION:DISPLAY
DESCRIPTION:Mills vs Hargis
END:VALARM
END:VEVENT
BEGIN:VEVENT
UID:putnam-324792@ygametime.com
DTSTAMP:20220920T221500Z
DTSTART;TZID=America/New_York:20220920T181500
DURATION:PT0H45M0S
SUMMARY:Grimm vs Mills
DESCRIPTION:3/4 | Fall Soccer 2022\nPutnam County Family YMCA\n
URL;VALUE=URI:https://ygametime.com/branch/putnam/sports/2022-fall-fall-soccer-2022/13794/?utm_medium=calendar&utm_source=team_cal&utm_content=league_url#game-324792
LOCATION:Field 9 (3/4)
BEGIN:VALARM
TRIGGER:-P2H
ACTION:DISPLAY
DESCRIPTION:Grimm vs Mills
END:VALARM
END:VEVENT
BEGIN:VEVENT
UID:putnam-315796@ygametime.com
DTSTAMP:20220924T123000Z
DTSTART;TZID=America/New_York:20220924T083000
DURATION:PT0H45M0S
SUMMARY:Romine vs Mills
DESCRIPTION:3/4 | Fall Soccer 2022\nPutnam County Family YMCA\n
URL;VALUE=URI:https://ygametime.com/branch/putnam/sports/2022-fall-fall-soccer-2022/13794/?utm_medium=calendar&utm_source=team_cal&utm_content=league_url#game-315796
LOCATION:Field 7 (3/4)
BEGIN:VALARM
TRIGGER:-P2H
ACTION:DISPLAY
DESCRIPTION:Romine vs Mills
END:VALARM
END:VEVENT
BEGIN:VEVENT
UID:putnam-315816@ygametime.com
DTSTAMP:20221015T133000Z
DTSTART;TZID=America/New_York:20221015T093000
DURATION:PT0H45M0S
SUMMARY:Bennett vs Mills
DESCRIPTION:3/4 | Fall Soccer 2022\nPutnam County Family YMCA\n
URL;VALUE=URI:https://ygametime.com/branch/putnam/sports/2022-fall-fall-soccer-2022/13794/?utm_medium=calendar&utm_source=team_cal&utm_content=league_url#game-315816
LOCATION:Field 8 (3/4)
BEGIN:VALARM
TRIGGER:-P2H
ACTION:DISPLAY
DESCRIPTION:Bennett vs Mills
END:VALARM
END:VEVENT
BEGIN:VEVENT
UID:putnam-315822@ygametime.com
DTSTAMP:20221022T123000Z
DTSTART;TZID=America/New_York:20221022T083000
DURATION:PT0H45M0S
SUMMARY:Mills vs Mason
DESCRIPTION:3/4 | Fall Soccer 2022\nPutnam County Family YMCA\n
URL;VALUE=URI:https://ygametime.com/branch/putnam/sports/2022-fall-fall-soccer-2022/13794/?utm_medium=calendar&utm_source=team_cal&utm_content=league_url#game-315822
LOCATION:Field 9 (3/4)
BEGIN:VALARM
TRIGGER:-P2H
ACTION:DISPLAY
DESCRIPTION:Mills vs Mason
END:VALARM
END:VEVENT
BEGIN:VEVENT
UID:putnam-315810@ygametime.com
DTSTAMP:20221029T133000Z
DTSTART;TZID=America/New_York:20221029T093000
DURATION:PT0H45M0S
SUMMARY:Mills vs Ross
DESCRIPTION:3/4 | Fall Soccer 2022\nPutnam County Family YMCA\n
URL;VALUE=URI:https://ygametime.com/branch/putnam/sports/2022-fall-fall-soccer-2022/13794/?utm_medium=calendar&utm_source=team_cal&utm_content=league_url#game-315810
LOCATION:Field 8 (3/4)
BEGIN:VALARM
TRIGGER:-P2H
ACTION:DISPLAY
DESCRIPTION:Mills vs Ross
END:VALARM
END:VEVENT
BEGIN:VEVENT
UID:putnam-339272@ygametime.com
DTSTAMP:20221104T214500Z
DTSTART;TZID=America/New_York:20221104T174500
DURATION:PT0H45M0S
SUMMARY:Mills vs Dartez
DESCRIPTION:3/4 | Fall Soccer 2022\nPutnam County Family YMCA\n
URL;VALUE=URI:https://ygametime.com/branch/putnam/sports/2022-fall-fall-soccer-2022/13794/?utm_medium=calendar&utm_source=team_cal&utm_content=league_url#game-339272
LOCATION:Field 9 (3/4)
BEGIN:VALARM
TRIGGER:-P2H
ACTION:DISPLAY
DESCRIPTION:Mills vs Dartez
END:VALARM
END:VEVENT
END:VCALENDAR

