BEGIN:VCALENDAR
VERSION:2.0
PRODID:-//YGAMETIME.com//YGT iCal Creator//EN
METHOD:PUBLISH
X-PUBLISHED-TTL:PT6H
REFRESH-INTERVAL;VALUE=DURATION:PT6H
CALSCALE:GREGORIAN
X-WR-CALNAME:YGAMETIME CALENDAR
BEGIN:VTIMEZONE
TZID:America/New_York
X-LIC-LOCATION:America/New_York
BEGIN:DAYLIGHT
TZOFFSETFROM:-0500
TZOFFSETTO:-0400
TZNAME:EDT
DTSTART:19700308T020000
RRULE:FREQ=YEARLY;BYMONTH=3;BYDAY=2SU
END:DAYLIGHT
BEGIN:STANDARD
TZOFFSETFROM:-0400
TZOFFSETTO:-0500
TZNAME:EST
DTSTART:19701101T020000
RRULE:FREQ=YEARLY;BYMONTH=11;BYDAY=1SU
END:STANDARD
END:VTIMEZONE
BEGIN:VEVENT
UID:putnam-324745@ygametime.com
DTSTAMP:20220915T213000Z
DTSTART;TZID=America/New_York:20220915T173000
DURATION:PT0H45M0S
SUMMARY:Bennett vs Winfree
DESCRIPTION:3/4 | Fall Soccer 2022\nPutnam County Family YMCA\n
URL;VALUE=URI:https://ygametime.com/branch/putnam/sports/2022-fall-fall-soccer-2022/13794/?utm_medium=calendar&utm_source=team_cal&utm_content=league_url#game-324745
LOCATION:Field 7 (3/4)
BEGIN:VALARM
TRIGGER:-P2H
ACTION:DISPLAY
DESCRIPTION:Bennett vs Winfree
END:VALARM
END:VEVENT
BEGIN:VEVENT
UID:putnam-315793@ygametime.com
DTSTAMP:20220917T153000Z
DTSTART;TZID=America/New_York:20220917T113000
DURATION:PT0H45M0S
SUMMARY:Mason vs Winfree
DESCRIPTION:3/4 | Fall Soccer 2022\nPutnam County Family YMCA\n
URL;VALUE=URI:https://ygametime.com/branch/putnam/sports/2022-fall-fall-soccer-2022/13794/?utm_medium=calendar&utm_source=team_cal&utm_content=league_url#game-315793
LOCATION:Field 8 (3/4)
BEGIN:VALARM
TRIGGER:-P2H
ACTION:DISPLAY
DESCRIPTION:Mason vs Winfree
END:VALARM
END:VEVENT
BEGIN:VEVENT
UID:putnam-315821@ygametime.com
DTSTAMP:20221022T123000Z
DTSTART;TZID=America/New_York:20221022T083000
DURATION:PT0H45M0S
SUMMARY:Martin vs Winfree
DESCRIPTION:3/4 | Fall Soccer 2022\nPutnam County Family YMCA\n
URL;VALUE=URI:https://ygametime.com/branch/putnam/sports/2022-fall-fall-soccer-2022/13794/?utm_medium=calendar&utm_source=team_cal&utm_content=league_url#game-315821
LOCATION:Field 7 (3/4)
BEGIN:VALARM
TRIGGER:-P2H
ACTION:DISPLAY
DESCRIPTION:Martin vs Winfree
END:VALARM
END:VEVENT
BEGIN:VEVENT
UID:putnam-315811@ygametime.com
DTSTAMP:20221029T143000Z
DTSTART;TZID=America/New_York:20221029T103000
DURATION:PT0H45M0S
SUMMARY:Winfree vs Carr
DESCRIPTION:3/4 | Fall Soccer 2022\nPutnam County Family YMCA\n
URL;VALUE=URI:https://ygametime.com/branch/putnam/sports/2022-fall-fall-soccer-2022/13794/?utm_medium=calendar&utm_source=team_cal&utm_content=league_url#game-315811
LOCATION:Field 7 (3/4)
BEGIN:VALARM
TRIGGER:-P2H
ACTION:DISPLAY
DESCRIPTION:Winfree vs Carr
END:VALARM
END:VEVENT
BEGIN:VEVENT
UID:putnam-333961@ygametime.com
DTSTAMP:20221101T211500Z
DTSTART;TZID=America/New_York:20221101T171500
DURATION:PT0H45M0S
SUMMARY:Grimm vs Winfree
DESCRIPTION:3/4 | Fall Soccer 2022\nPutnam County Family YMCA\n
URL;VALUE=URI:https://ygametime.com/branch/putnam/sports/2022-fall-fall-soccer-2022/13794/?utm_medium=calendar&utm_source=team_cal&utm_content=league_url#game-333961
LOCATION:Field 8 (3/4)
BEGIN:VALARM
TRIGGER:-P2H
ACTION:DISPLAY
DESCRIPTION:Grimm vs Winfree
END:VALARM
END:VEVENT
BEGIN:VEVENT
UID:putnam-315807@ygametime.com
DTSTAMP:20221105T153000Z
DTSTART;TZID=America/New_York:20221105T113000
DURATION:PT0H45M0S
SUMMARY:Betcher vs Winfree
DESCRIPTION:3/4 | Fall Soccer 2022\nPutnam County Family YMCA\n
URL;VALUE=URI:https://ygametime.com/branch/putnam/sports/2022-fall-fall-soccer-2022/13794/?utm_medium=calendar&utm_source=team_cal&utm_content=league_url#game-315807
LOCATION:Field 8 (3/4)
BEGIN:VALARM
TRIGGER:-P2H
ACTION:DISPLAY
DESCRIPTION:Betcher vs Winfree
END:VALARM
END:VEVENT
END:VCALENDAR

