BEGIN:VCALENDAR
VERSION:2.0
PRODID:-//YGAMETIME.com//YGT iCal Creator//EN
METHOD:PUBLISH
X-PUBLISHED-TTL:PT6H
REFRESH-INTERVAL;VALUE=DURATION:PT6H
CALSCALE:GREGORIAN
X-WR-CALNAME:YGAMETIME CALENDAR
BEGIN:VTIMEZONE
TZID:America/New_York
X-LIC-LOCATION:America/New_York
BEGIN:DAYLIGHT
TZOFFSETFROM:-0500
TZOFFSETTO:-0400
TZNAME:EDT
DTSTART:19700308T020000
RRULE:FREQ=YEARLY;BYMONTH=3;BYDAY=2SU
END:DAYLIGHT
BEGIN:STANDARD
TZOFFSETFROM:-0400
TZOFFSETTO:-0500
TZNAME:EST
DTSTART:19701101T020000
RRULE:FREQ=YEARLY;BYMONTH=11;BYDAY=1SU
END:STANDARD
END:VTIMEZONE
BEGIN:VEVENT
UID:putnam-316446@ygametime.com
DTSTAMP:20220913T221500Z
DTSTART;TZID=America/New_York:20220913T181500
DURATION:PT0H60M0S
SUMMARY:Bottoms vs Ross
DESCRIPTION:5/6 | Fall Soccer 2022\nPutnam County Family YMCA\n
URL;VALUE=URI:https://ygametime.com/branch/putnam/sports/2022-fall-fall-soccer-2022/13795/?utm_medium=calendar&utm_source=team_cal&utm_content=league_url#game-316446
LOCATION:Field 3 (5/6)
BEGIN:VALARM
TRIGGER:-P2H
ACTION:DISPLAY
DESCRIPTION:Bottoms vs Ross
END:VALARM
END:VEVENT
BEGIN:VEVENT
UID:putnam-316700@ygametime.com
DTSTAMP:20220920T214500Z
DTSTART;TZID=America/New_York:20220920T174500
DURATION:PT0H60M0S
SUMMARY:Bottoms vs Peterman
DESCRIPTION:5/6 | Fall Soccer 2022\nPutnam County Family YMCA\n
URL;VALUE=URI:https://ygametime.com/branch/putnam/sports/2022-fall-fall-soccer-2022/13795/?utm_medium=calendar&utm_source=team_cal&utm_content=league_url#game-316700
LOCATION:Field 2 (5/6)
BEGIN:VALARM
TRIGGER:-P2H
ACTION:DISPLAY
DESCRIPTION:Bottoms vs Peterman
END:VALARM
END:VEVENT
BEGIN:VEVENT
UID:putnam-316449@ygametime.com
DTSTAMP:20220927T213000Z
DTSTART;TZID=America/New_York:20220927T173000
DURATION:PT0H60M0S
SUMMARY:Bottoms vs Boaz
DESCRIPTION:5/6 | Fall Soccer 2022\nPutnam County Family YMCA\n
URL;VALUE=URI:https://ygametime.com/branch/putnam/sports/2022-fall-fall-soccer-2022/13795/?utm_medium=calendar&utm_source=team_cal&utm_content=league_url#game-316449
LOCATION:Field 2 (5/6)
BEGIN:VALARM
TRIGGER:-P2H
ACTION:DISPLAY
DESCRIPTION:Bottoms vs Boaz
END:VALARM
END:VEVENT
BEGIN:VEVENT
UID:putnam-316155@ygametime.com
DTSTAMP:20221015T153000Z
DTSTART;TZID=America/New_York:20221015T113000
DURATION:PT0H60M0S
SUMMARY:Bottoms vs Malone
DESCRIPTION:5/6 | Fall Soccer 2022\nPutnam County Family YMCA\n
URL;VALUE=URI:https://ygametime.com/branch/putnam/sports/2022-fall-fall-soccer-2022/13795/?utm_medium=calendar&utm_source=team_cal&utm_content=league_url#game-316155
LOCATION:Field 3 (5/6)
BEGIN:VALARM
TRIGGER:-P2H
ACTION:DISPLAY
DESCRIPTION:Bottoms vs Malone
END:VALARM
END:VEVENT
BEGIN:VEVENT
UID:putnam-316143@ygametime.com
DTSTAMP:20221029T133000Z
DTSTART;TZID=America/New_York:20221029T093000
DURATION:PT0H60M0S
SUMMARY:Bottoms vs Bucher
DESCRIPTION:5/6 | Fall Soccer 2022\nPutnam County Family YMCA\n
URL;VALUE=URI:https://ygametime.com/branch/putnam/sports/2022-fall-fall-soccer-2022/13795/?utm_medium=calendar&utm_source=team_cal&utm_content=league_url#game-316143
LOCATION:Field 2 (5/6)
BEGIN:VALARM
TRIGGER:-P2H
ACTION:DISPLAY
DESCRIPTION:Bottoms vs Bucher
END:VALARM
END:VEVENT
BEGIN:VEVENT
UID:putnam-316452@ygametime.com
DTSTAMP:20221101T211500Z
DTSTART;TZID=America/New_York:20221101T171500
DURATION:PT0H60M0S
SUMMARY:Bottoms vs Currier
DESCRIPTION:5/6 | Fall Soccer 2022\nPutnam County Family YMCA\n
URL;VALUE=URI:https://ygametime.com/branch/putnam/sports/2022-fall-fall-soccer-2022/13795/?utm_medium=calendar&utm_source=team_cal&utm_content=league_url#game-316452
LOCATION:Field 2 (5/6)
BEGIN:VALARM
TRIGGER:-P2H
ACTION:DISPLAY
DESCRIPTION:Bottoms vs Currier
END:VALARM
END:VEVENT
BEGIN:VEVENT
UID:putnam-316148@ygametime.com
DTSTAMP:20221105T143000Z
DTSTART;TZID=America/New_York:20221105T103000
DURATION:PT0H60M0S
SUMMARY:Currier vs Bottoms
DESCRIPTION:5/6 | Fall Soccer 2022\nPutnam County Family YMCA\n
URL;VALUE=URI:https://ygametime.com/branch/putnam/sports/2022-fall-fall-soccer-2022/13795/?utm_medium=calendar&utm_source=team_cal&utm_content=league_url#game-316148
LOCATION:Field 2 (5/6)
BEGIN:VALARM
TRIGGER:-P2H
ACTION:DISPLAY
DESCRIPTION:Currier vs Bottoms
END:VALARM
END:VEVENT
END:VCALENDAR

