BEGIN:VCALENDAR
VERSION:2.0
PRODID:-//YGAMETIME.com//YGT iCal Creator//EN
METHOD:PUBLISH
X-PUBLISHED-TTL:PT6H
REFRESH-INTERVAL;VALUE=DURATION:PT6H
CALSCALE:GREGORIAN
X-WR-CALNAME:YGAMETIME CALENDAR
BEGIN:VTIMEZONE
TZID:America/New_York
X-LIC-LOCATION:America/New_York
BEGIN:DAYLIGHT
TZOFFSETFROM:-0500
TZOFFSETTO:-0400
TZNAME:EDT
DTSTART:19700308T020000
RRULE:FREQ=YEARLY;BYMONTH=3;BYDAY=2SU
END:DAYLIGHT
BEGIN:STANDARD
TZOFFSETFROM:-0400
TZOFFSETTO:-0500
TZNAME:EST
DTSTART:19701101T020000
RRULE:FREQ=YEARLY;BYMONTH=11;BYDAY=1SU
END:STANDARD
END:VTIMEZONE
BEGIN:VEVENT
UID:putnam-316134@ygametime.com
DTSTAMP:20220917T123000Z
DTSTART;TZID=America/New_York:20220917T083000
DURATION:PT0H60M0S
SUMMARY:Currier vs Bucher
DESCRIPTION:5/6 | Fall Soccer 2022\nPutnam County Family YMCA\n
URL;VALUE=URI:https://ygametime.com/branch/putnam/sports/2022-fall-fall-soccer-2022/13795/?utm_medium=calendar&utm_source=team_cal&utm_content=league_url#game-316134
LOCATION:Field 2 (5/6)
BEGIN:VALARM
TRIGGER:-P2H
ACTION:DISPLAY
DESCRIPTION:Currier vs Bucher
END:VALARM
END:VEVENT
BEGIN:VEVENT
UID:putnam-326830@ygametime.com
DTSTAMP:20220921T213000Z
DTSTART;TZID=America/New_York:20220921T173000
DURATION:PT0H60M0S
SUMMARY:Bucher vs Scantland
DESCRIPTION:5/6 | Fall Soccer 2022\nPutnam County Family YMCA\n
URL;VALUE=URI:https://ygametime.com/branch/putnam/sports/2022-fall-fall-soccer-2022/13795/?utm_medium=calendar&utm_source=team_cal&utm_content=league_url#game-326830
LOCATION:Field 2 (5/6)
BEGIN:VALARM
TRIGGER:-P2H
ACTION:DISPLAY
DESCRIPTION:Bucher vs Scantland
END:VALARM
END:VEVENT
BEGIN:VEVENT
UID:putnam-316139@ygametime.com
DTSTAMP:20220924T133000Z
DTSTART;TZID=America/New_York:20220924T093000
DURATION:PT0H60M0S
SUMMARY:Bucher vs Turner
DESCRIPTION:5/6 | Fall Soccer 2022\nPutnam County Family YMCA\n
URL;VALUE=URI:https://ygametime.com/branch/putnam/sports/2022-fall-fall-soccer-2022/13795/?utm_medium=calendar&utm_source=team_cal&utm_content=league_url#game-316139
LOCATION:Field 3 (5/6)
BEGIN:VALARM
TRIGGER:-P2H
ACTION:DISPLAY
DESCRIPTION:Bucher vs Turner
END:VALARM
END:VEVENT
BEGIN:VEVENT
UID:putnam-316154@ygametime.com
DTSTAMP:20221015T143000Z
DTSTART;TZID=America/New_York:20221015T103000
DURATION:PT0H60M0S
SUMMARY:Peterman vs Bucher
DESCRIPTION:5/6 | Fall Soccer 2022\nPutnam County Family YMCA\n
URL;VALUE=URI:https://ygametime.com/branch/putnam/sports/2022-fall-fall-soccer-2022/13795/?utm_medium=calendar&utm_source=team_cal&utm_content=league_url#game-316154
LOCATION:Field 2 (5/6)
BEGIN:VALARM
TRIGGER:-P2H
ACTION:DISPLAY
DESCRIPTION:Peterman vs Bucher
END:VALARM
END:VEVENT
BEGIN:VEVENT
UID:putnam-316157@ygametime.com
DTSTAMP:20221022T123000Z
DTSTART;TZID=America/New_York:20221022T083000
DURATION:PT0H60M0S
SUMMARY:Bucher vs Scantland
DESCRIPTION:5/6 | Fall Soccer 2022\nPutnam County Family YMCA\n
URL;VALUE=URI:https://ygametime.com/branch/putnam/sports/2022-fall-fall-soccer-2022/13795/?utm_medium=calendar&utm_source=team_cal&utm_content=league_url#game-316157
LOCATION:Field 2 (5/6)
BEGIN:VALARM
TRIGGER:-P2H
ACTION:DISPLAY
DESCRIPTION:Bucher vs Scantland
END:VALARM
END:VEVENT
BEGIN:VEVENT
UID:putnam-316143@ygametime.com
DTSTAMP:20221029T133000Z
DTSTART;TZID=America/New_York:20221029T093000
DURATION:PT0H60M0S
SUMMARY:Bottoms vs Bucher
DESCRIPTION:5/6 | Fall Soccer 2022\nPutnam County Family YMCA\n
URL;VALUE=URI:https://ygametime.com/branch/putnam/sports/2022-fall-fall-soccer-2022/13795/?utm_medium=calendar&utm_source=team_cal&utm_content=league_url#game-316143
LOCATION:Field 2 (5/6)
BEGIN:VALARM
TRIGGER:-P2H
ACTION:DISPLAY
DESCRIPTION:Bottoms vs Bucher
END:VALARM
END:VEVENT
BEGIN:VEVENT
UID:putnam-316150@ygametime.com
DTSTAMP:20221105T153000Z
DTSTART;TZID=America/New_York:20221105T113000
DURATION:PT0H60M0S
SUMMARY:Bucher vs Boaz
DESCRIPTION:5/6 | Fall Soccer 2022\nPutnam County Family YMCA\n
URL;VALUE=URI:https://ygametime.com/branch/putnam/sports/2022-fall-fall-soccer-2022/13795/?utm_medium=calendar&utm_source=team_cal&utm_content=league_url#game-316150
LOCATION:Field 3 (5/6)
BEGIN:VALARM
TRIGGER:-P2H
ACTION:DISPLAY
DESCRIPTION:Bucher vs Boaz
END:VALARM
END:VEVENT
END:VCALENDAR

