BEGIN:VCALENDAR
VERSION:2.0
PRODID:-//YGAMETIME.com//YGT iCal Creator//EN
METHOD:PUBLISH
X-PUBLISHED-TTL:PT6H
REFRESH-INTERVAL;VALUE=DURATION:PT6H
CALSCALE:GREGORIAN
X-WR-CALNAME:YGAMETIME CALENDAR
BEGIN:VTIMEZONE
TZID:America/New_York
X-LIC-LOCATION:America/New_York
BEGIN:DAYLIGHT
TZOFFSETFROM:-0500
TZOFFSETTO:-0400
TZNAME:EDT
DTSTART:19700308T020000
RRULE:FREQ=YEARLY;BYMONTH=3;BYDAY=2SU
END:DAYLIGHT
BEGIN:STANDARD
TZOFFSETFROM:-0400
TZOFFSETTO:-0500
TZNAME:EST
DTSTART:19701101T020000
RRULE:FREQ=YEARLY;BYMONTH=11;BYDAY=1SU
END:STANDARD
END:VTIMEZONE
BEGIN:VEVENT
UID:putnam-316447@ygametime.com
DTSTAMP:20220915T214500Z
DTSTART;TZID=America/New_York:20220915T174500
DURATION:PT0H60M0S
SUMMARY:Currier vs Boaz
DESCRIPTION:5/6 | Fall Soccer 2022\nPutnam County Family YMCA\n
URL;VALUE=URI:https://ygametime.com/branch/putnam/sports/2022-fall-fall-soccer-2022/13795/?utm_medium=calendar&utm_source=team_cal&utm_content=league_url#game-316447
LOCATION:Field 3 (5/6)
BEGIN:VALARM
TRIGGER:-P2H
ACTION:DISPLAY
DESCRIPTION:Currier vs Boaz
END:VALARM
END:VEVENT
BEGIN:VEVENT
UID:putnam-316133@ygametime.com
DTSTAMP:20220917T143000Z
DTSTART;TZID=America/New_York:20220917T103000
DURATION:PT0H60M0S
SUMMARY:Boaz vs Turner
DESCRIPTION:5/6 | Fall Soccer 2022\nPutnam County Family YMCA\n
URL;VALUE=URI:https://ygametime.com/branch/putnam/sports/2022-fall-fall-soccer-2022/13795/?utm_medium=calendar&utm_source=team_cal&utm_content=league_url#game-316133
LOCATION:Field 2 (5/6)
BEGIN:VALARM
TRIGGER:-P2H
ACTION:DISPLAY
DESCRIPTION:Boaz vs Turner
END:VALARM
END:VEVENT
BEGIN:VEVENT
UID:putnam-316449@ygametime.com
DTSTAMP:20220927T213000Z
DTSTART;TZID=America/New_York:20220927T173000
DURATION:PT0H60M0S
SUMMARY:Bottoms vs Boaz
DESCRIPTION:5/6 | Fall Soccer 2022\nPutnam County Family YMCA\n
URL;VALUE=URI:https://ygametime.com/branch/putnam/sports/2022-fall-fall-soccer-2022/13795/?utm_medium=calendar&utm_source=team_cal&utm_content=league_url#game-316449
LOCATION:Field 2 (5/6)
BEGIN:VALARM
TRIGGER:-P2H
ACTION:DISPLAY
DESCRIPTION:Bottoms vs Boaz
END:VALARM
END:VEVENT
BEGIN:VEVENT
UID:putnam-316153@ygametime.com
DTSTAMP:20221015T123000Z
DTSTART;TZID=America/New_York:20221015T083000
DURATION:PT0H60M0S
SUMMARY:Boaz vs Scantland
DESCRIPTION:5/6 | Fall Soccer 2022\nPutnam County Family YMCA\n
URL;VALUE=URI:https://ygametime.com/branch/putnam/sports/2022-fall-fall-soccer-2022/13795/?utm_medium=calendar&utm_source=team_cal&utm_content=league_url#game-316153
LOCATION:Field 2 (5/6)
BEGIN:VALARM
TRIGGER:-P2H
ACTION:DISPLAY
DESCRIPTION:Boaz vs Scantland
END:VALARM
END:VEVENT
BEGIN:VEVENT
UID:putnam-316451@ygametime.com
DTSTAMP:20221024T211500Z
DTSTART;TZID=America/New_York:20221024T171500
DURATION:PT0H60M0S
SUMMARY:Boaz vs Ross
DESCRIPTION:5/6 | Fall Soccer 2022\nPutnam County Family YMCA\n
URL;VALUE=URI:https://ygametime.com/branch/putnam/sports/2022-fall-fall-soccer-2022/13795/?utm_medium=calendar&utm_source=team_cal&utm_content=league_url#game-316451
LOCATION:Field 3 (5/6)
BEGIN:VALARM
TRIGGER:-P2H
ACTION:DISPLAY
DESCRIPTION:Boaz vs Ross
END:VALARM
END:VEVENT
BEGIN:VEVENT
UID:putnam-316142@ygametime.com
DTSTAMP:20221029T123000Z
DTSTART;TZID=America/New_York:20221029T083000
DURATION:PT0H60M0S
SUMMARY:Boaz vs Reep
DESCRIPTION:5/6 | Fall Soccer 2022\nPutnam County Family YMCA\n
URL;VALUE=URI:https://ygametime.com/branch/putnam/sports/2022-fall-fall-soccer-2022/13795/?utm_medium=calendar&utm_source=team_cal&utm_content=league_url#game-316142
LOCATION:Field 2 (5/6)
BEGIN:VALARM
TRIGGER:-P2H
ACTION:DISPLAY
DESCRIPTION:Boaz vs Reep
END:VALARM
END:VEVENT
BEGIN:VEVENT
UID:putnam-316150@ygametime.com
DTSTAMP:20221105T153000Z
DTSTART;TZID=America/New_York:20221105T113000
DURATION:PT0H60M0S
SUMMARY:Bucher vs Boaz
DESCRIPTION:5/6 | Fall Soccer 2022\nPutnam County Family YMCA\n
URL;VALUE=URI:https://ygametime.com/branch/putnam/sports/2022-fall-fall-soccer-2022/13795/?utm_medium=calendar&utm_source=team_cal&utm_content=league_url#game-316150
LOCATION:Field 3 (5/6)
BEGIN:VALARM
TRIGGER:-P2H
ACTION:DISPLAY
DESCRIPTION:Bucher vs Boaz
END:VALARM
END:VEVENT
END:VCALENDAR

