BEGIN:VCALENDAR
VERSION:2.0
PRODID:-//YGAMETIME.com//YGT iCal Creator//EN
METHOD:PUBLISH
X-PUBLISHED-TTL:PT6H
REFRESH-INTERVAL;VALUE=DURATION:PT6H
CALSCALE:GREGORIAN
X-WR-CALNAME:YGAMETIME CALENDAR
BEGIN:VTIMEZONE
TZID:America/New_York
X-LIC-LOCATION:America/New_York
BEGIN:DAYLIGHT
TZOFFSETFROM:-0500
TZOFFSETTO:-0400
TZNAME:EDT
DTSTART:19700308T020000
RRULE:FREQ=YEARLY;BYMONTH=3;BYDAY=2SU
END:DAYLIGHT
BEGIN:STANDARD
TZOFFSETFROM:-0400
TZOFFSETTO:-0500
TZNAME:EST
DTSTART:19701101T020000
RRULE:FREQ=YEARLY;BYMONTH=11;BYDAY=1SU
END:STANDARD
END:VTIMEZONE
BEGIN:VEVENT
UID:putnam-316133@ygametime.com
DTSTAMP:20220917T143000Z
DTSTART;TZID=America/New_York:20220917T103000
DURATION:PT0H60M0S
SUMMARY:Boaz vs Turner
DESCRIPTION:5/6 | Fall Soccer 2022\nPutnam County Family YMCA\n
URL;VALUE=URI:https://ygametime.com/branch/putnam/sports/2022-fall-fall-soccer-2022/13795/?utm_medium=calendar&utm_source=team_cal&utm_content=league_url#game-316133
LOCATION:Field 2 (5/6)
BEGIN:VALARM
TRIGGER:-P2H
ACTION:DISPLAY
DESCRIPTION:Boaz vs Turner
END:VALARM
END:VEVENT
BEGIN:VEVENT
UID:putnam-316139@ygametime.com
DTSTAMP:20220924T133000Z
DTSTART;TZID=America/New_York:20220924T093000
DURATION:PT0H60M0S
SUMMARY:Bucher vs Turner
DESCRIPTION:5/6 | Fall Soccer 2022\nPutnam County Family YMCA\n
URL;VALUE=URI:https://ygametime.com/branch/putnam/sports/2022-fall-fall-soccer-2022/13795/?utm_medium=calendar&utm_source=team_cal&utm_content=league_url#game-316139
LOCATION:Field 3 (5/6)
BEGIN:VALARM
TRIGGER:-P2H
ACTION:DISPLAY
DESCRIPTION:Bucher vs Turner
END:VALARM
END:VEVENT
BEGIN:VEVENT
UID:putnam-328257@ygametime.com
DTSTAMP:20220930T213000Z
DTSTART;TZID=America/New_York:20220930T173000
DURATION:PT0H60M0S
SUMMARY:Turner vs Malone
DESCRIPTION:5/6 | Fall Soccer 2022\nPutnam County Family YMCA\n
URL;VALUE=URI:https://ygametime.com/branch/putnam/sports/2022-fall-fall-soccer-2022/13795/?utm_medium=calendar&utm_source=team_cal&utm_content=league_url#game-328257
LOCATION:Field 3 (5/6)
BEGIN:VALARM
TRIGGER:-P2H
ACTION:DISPLAY
DESCRIPTION:Turner vs Malone
END:VALARM
END:VEVENT
BEGIN:VEVENT
UID:putnam-316156@ygametime.com
DTSTAMP:20221015T163000Z
DTSTART;TZID=America/New_York:20221015T123000
DURATION:PT0H60M0S
SUMMARY:Currier vs Turner
DESCRIPTION:5/6 | Fall Soccer 2022\nPutnam County Family YMCA\n
URL;VALUE=URI:https://ygametime.com/branch/putnam/sports/2022-fall-fall-soccer-2022/13795/?utm_medium=calendar&utm_source=team_cal&utm_content=league_url#game-316156
LOCATION:Field 2 (5/6)
BEGIN:VALARM
TRIGGER:-P2H
ACTION:DISPLAY
DESCRIPTION:Currier vs Turner
END:VALARM
END:VEVENT
BEGIN:VEVENT
UID:putnam-316703@ygametime.com
DTSTAMP:20221021T211500Z
DTSTART;TZID=America/New_York:20221021T171500
DURATION:PT0H60M0S
SUMMARY:Turner vs Malone
DESCRIPTION:5/6 | Fall Soccer 2022\nPutnam County Family YMCA\n
URL;VALUE=URI:https://ygametime.com/branch/putnam/sports/2022-fall-fall-soccer-2022/13795/?utm_medium=calendar&utm_source=team_cal&utm_content=league_url#game-316703
LOCATION:Field 3 (5/6)
BEGIN:VALARM
TRIGGER:-P2H
ACTION:DISPLAY
DESCRIPTION:Turner vs Malone
END:VALARM
END:VEVENT
BEGIN:VEVENT
UID:putnam-316146@ygametime.com
DTSTAMP:20221029T163000Z
DTSTART;TZID=America/New_York:20221029T123000
DURATION:PT0H60M0S
SUMMARY:Scantland vs Turner
DESCRIPTION:5/6 | Fall Soccer 2022\nPutnam County Family YMCA\n
URL;VALUE=URI:https://ygametime.com/branch/putnam/sports/2022-fall-fall-soccer-2022/13795/?utm_medium=calendar&utm_source=team_cal&utm_content=league_url#game-316146
LOCATION:Field 2 (5/6)
BEGIN:VALARM
TRIGGER:-P2H
ACTION:DISPLAY
DESCRIPTION:Scantland vs Turner
END:VALARM
END:VEVENT
BEGIN:VEVENT
UID:putnam-316147@ygametime.com
DTSTAMP:20221105T123000Z
DTSTART;TZID=America/New_York:20221105T083000
DURATION:PT0H60M0S
SUMMARY:Reep vs Turner
DESCRIPTION:5/6 | Fall Soccer 2022\nPutnam County Family YMCA\n
URL;VALUE=URI:https://ygametime.com/branch/putnam/sports/2022-fall-fall-soccer-2022/13795/?utm_medium=calendar&utm_source=team_cal&utm_content=league_url#game-316147
LOCATION:Field 2 (5/6)
BEGIN:VALARM
TRIGGER:-P2H
ACTION:DISPLAY
DESCRIPTION:Reep vs Turner
END:VALARM
END:VEVENT
END:VCALENDAR

