BEGIN:VCALENDAR
VERSION:2.0
PRODID:-//YGAMETIME.com//YGT iCal Creator//EN
METHOD:PUBLISH
X-PUBLISHED-TTL:PT6H
REFRESH-INTERVAL;VALUE=DURATION:PT6H
CALSCALE:GREGORIAN
X-WR-CALNAME:YGAMETIME CALENDAR
BEGIN:VTIMEZONE
TZID:America/New_York
X-LIC-LOCATION:America/New_York
BEGIN:DAYLIGHT
TZOFFSETFROM:-0500
TZOFFSETTO:-0400
TZNAME:EDT
DTSTART:19700308T020000
RRULE:FREQ=YEARLY;BYMONTH=3;BYDAY=2SU
END:DAYLIGHT
BEGIN:STANDARD
TZOFFSETFROM:-0400
TZOFFSETTO:-0500
TZNAME:EST
DTSTART:19701101T020000
RRULE:FREQ=YEARLY;BYMONTH=11;BYDAY=1SU
END:STANDARD
END:VTIMEZONE
BEGIN:VEVENT
UID:putnam-316132@ygametime.com
DTSTAMP:20220917T133000Z
DTSTART;TZID=America/New_York:20220917T093000
DURATION:PT0H60M0S
SUMMARY:Malone vs Reep
DESCRIPTION:5/6 | Fall Soccer 2022\nPutnam County Family YMCA\n
URL;VALUE=URI:https://ygametime.com/branch/putnam/sports/2022-fall-fall-soccer-2022/13795/?utm_medium=calendar&utm_source=team_cal&utm_content=league_url#game-316132
LOCATION:Field 3 (5/6)
BEGIN:VALARM
TRIGGER:-P2H
ACTION:DISPLAY
DESCRIPTION:Malone vs Reep
END:VALARM
END:VEVENT
BEGIN:VEVENT
UID:putnam-316448@ygametime.com
DTSTAMP:20220923T213000Z
DTSTART;TZID=America/New_York:20220923T173000
DURATION:PT0H60M0S
SUMMARY:Malone vs Ross
DESCRIPTION:5/6 | Fall Soccer 2022\nPutnam County Family YMCA\n
URL;VALUE=URI:https://ygametime.com/branch/putnam/sports/2022-fall-fall-soccer-2022/13795/?utm_medium=calendar&utm_source=team_cal&utm_content=league_url#game-316448
LOCATION:Field 2 (5/6)
BEGIN:VALARM
TRIGGER:-P2H
ACTION:DISPLAY
DESCRIPTION:Malone vs Ross
END:VALARM
END:VEVENT
BEGIN:VEVENT
UID:putnam-328257@ygametime.com
DTSTAMP:20220930T213000Z
DTSTART;TZID=America/New_York:20220930T173000
DURATION:PT0H60M0S
SUMMARY:Turner vs Malone
DESCRIPTION:5/6 | Fall Soccer 2022\nPutnam County Family YMCA\n
URL;VALUE=URI:https://ygametime.com/branch/putnam/sports/2022-fall-fall-soccer-2022/13795/?utm_medium=calendar&utm_source=team_cal&utm_content=league_url#game-328257
LOCATION:Field 3 (5/6)
BEGIN:VALARM
TRIGGER:-P2H
ACTION:DISPLAY
DESCRIPTION:Turner vs Malone
END:VALARM
END:VEVENT
BEGIN:VEVENT
UID:putnam-316155@ygametime.com
DTSTAMP:20221015T153000Z
DTSTART;TZID=America/New_York:20221015T113000
DURATION:PT0H60M0S
SUMMARY:Bottoms vs Malone
DESCRIPTION:5/6 | Fall Soccer 2022\nPutnam County Family YMCA\n
URL;VALUE=URI:https://ygametime.com/branch/putnam/sports/2022-fall-fall-soccer-2022/13795/?utm_medium=calendar&utm_source=team_cal&utm_content=league_url#game-316155
LOCATION:Field 3 (5/6)
BEGIN:VALARM
TRIGGER:-P2H
ACTION:DISPLAY
DESCRIPTION:Bottoms vs Malone
END:VALARM
END:VEVENT
BEGIN:VEVENT
UID:putnam-316703@ygametime.com
DTSTAMP:20221021T211500Z
DTSTART;TZID=America/New_York:20221021T171500
DURATION:PT0H60M0S
SUMMARY:Turner vs Malone
DESCRIPTION:5/6 | Fall Soccer 2022\nPutnam County Family YMCA\n
URL;VALUE=URI:https://ygametime.com/branch/putnam/sports/2022-fall-fall-soccer-2022/13795/?utm_medium=calendar&utm_source=team_cal&utm_content=league_url#game-316703
LOCATION:Field 3 (5/6)
BEGIN:VALARM
TRIGGER:-P2H
ACTION:DISPLAY
DESCRIPTION:Turner vs Malone
END:VALARM
END:VEVENT
BEGIN:VEVENT
UID:putnam-316145@ygametime.com
DTSTAMP:20221029T153000Z
DTSTART;TZID=America/New_York:20221029T113000
DURATION:PT0H60M0S
SUMMARY:Currier vs Malone
DESCRIPTION:5/6 | Fall Soccer 2022\nPutnam County Family YMCA\n
URL;VALUE=URI:https://ygametime.com/branch/putnam/sports/2022-fall-fall-soccer-2022/13795/?utm_medium=calendar&utm_source=team_cal&utm_content=league_url#game-316145
LOCATION:Field 3 (5/6)
BEGIN:VALARM
TRIGGER:-P2H
ACTION:DISPLAY
DESCRIPTION:Currier vs Malone
END:VALARM
END:VEVENT
BEGIN:VEVENT
UID:putnam-316149@ygametime.com
DTSTAMP:20221105T133000Z
DTSTART;TZID=America/New_York:20221105T093000
DURATION:PT0H60M0S
SUMMARY:Peterman vs Malone
DESCRIPTION:5/6 | Fall Soccer 2022\nPutnam County Family YMCA\n
URL;VALUE=URI:https://ygametime.com/branch/putnam/sports/2022-fall-fall-soccer-2022/13795/?utm_medium=calendar&utm_source=team_cal&utm_content=league_url#game-316149
LOCATION:Field 3 (5/6)
BEGIN:VALARM
TRIGGER:-P2H
ACTION:DISPLAY
DESCRIPTION:Peterman vs Malone
END:VALARM
END:VEVENT
END:VCALENDAR

