BEGIN:VCALENDAR
VERSION:2.0
PRODID:-//YGAMETIME.com//YGT iCal Creator//EN
METHOD:PUBLISH
X-PUBLISHED-TTL:PT6H
REFRESH-INTERVAL;VALUE=DURATION:PT6H
CALSCALE:GREGORIAN
X-WR-CALNAME:YGAMETIME CALENDAR
BEGIN:VTIMEZONE
TZID:America/New_York
X-LIC-LOCATION:America/New_York
BEGIN:DAYLIGHT
TZOFFSETFROM:-0500
TZOFFSETTO:-0400
TZNAME:EDT
DTSTART:19700308T020000
RRULE:FREQ=YEARLY;BYMONTH=3;BYDAY=2SU
END:DAYLIGHT
BEGIN:STANDARD
TZOFFSETFROM:-0400
TZOFFSETTO:-0500
TZNAME:EST
DTSTART:19701101T020000
RRULE:FREQ=YEARLY;BYMONTH=11;BYDAY=1SU
END:STANDARD
END:VTIMEZONE
BEGIN:VEVENT
UID:putnam-325778@ygametime.com
DTSTAMP:20220915T213000Z
DTSTART;TZID=America/New_York:20220915T173000
DURATION:PT0H60M0S
SUMMARY:Reep vs Peterman
DESCRIPTION:5/6 | Fall Soccer 2022\nPutnam County Family YMCA\n
URL;VALUE=URI:https://ygametime.com/branch/putnam/sports/2022-fall-fall-soccer-2022/13795/?utm_medium=calendar&utm_source=team_cal&utm_content=league_url#game-325778
LOCATION:Field 2 (5/6)
BEGIN:VALARM
TRIGGER:-P2H
ACTION:DISPLAY
DESCRIPTION:Reep vs Peterman
END:VALARM
END:VEVENT
BEGIN:VEVENT
UID:putnam-316700@ygametime.com
DTSTAMP:20220920T214500Z
DTSTART;TZID=America/New_York:20220920T174500
DURATION:PT0H60M0S
SUMMARY:Bottoms vs Peterman
DESCRIPTION:5/6 | Fall Soccer 2022\nPutnam County Family YMCA\n
URL;VALUE=URI:https://ygametime.com/branch/putnam/sports/2022-fall-fall-soccer-2022/13795/?utm_medium=calendar&utm_source=team_cal&utm_content=league_url#game-316700
LOCATION:Field 2 (5/6)
BEGIN:VALARM
TRIGGER:-P2H
ACTION:DISPLAY
DESCRIPTION:Bottoms vs Peterman
END:VALARM
END:VEVENT
BEGIN:VEVENT
UID:putnam-316141@ygametime.com
DTSTAMP:20220924T143000Z
DTSTART;TZID=America/New_York:20220924T103000
DURATION:PT0H60M0S
SUMMARY:Peterman vs Scantland
DESCRIPTION:5/6 | Fall Soccer 2022\nPutnam County Family YMCA\n
URL;VALUE=URI:https://ygametime.com/branch/putnam/sports/2022-fall-fall-soccer-2022/13795/?utm_medium=calendar&utm_source=team_cal&utm_content=league_url#game-316141
LOCATION:Field 2 (5/6)
BEGIN:VALARM
TRIGGER:-P2H
ACTION:DISPLAY
DESCRIPTION:Peterman vs Scantland
END:VALARM
END:VEVENT
BEGIN:VEVENT
UID:putnam-316154@ygametime.com
DTSTAMP:20221015T143000Z
DTSTART;TZID=America/New_York:20221015T103000
DURATION:PT0H60M0S
SUMMARY:Peterman vs Bucher
DESCRIPTION:5/6 | Fall Soccer 2022\nPutnam County Family YMCA\n
URL;VALUE=URI:https://ygametime.com/branch/putnam/sports/2022-fall-fall-soccer-2022/13795/?utm_medium=calendar&utm_source=team_cal&utm_content=league_url#game-316154
LOCATION:Field 2 (5/6)
BEGIN:VALARM
TRIGGER:-P2H
ACTION:DISPLAY
DESCRIPTION:Peterman vs Bucher
END:VALARM
END:VEVENT
BEGIN:VEVENT
UID:putnam-316159@ygametime.com
DTSTAMP:20221022T133000Z
DTSTART;TZID=America/New_York:20221022T093000
DURATION:PT0H60M0S
SUMMARY:Reep vs Peterman
DESCRIPTION:5/6 | Fall Soccer 2022\nPutnam County Family YMCA\n
URL;VALUE=URI:https://ygametime.com/branch/putnam/sports/2022-fall-fall-soccer-2022/13795/?utm_medium=calendar&utm_source=team_cal&utm_content=league_url#game-316159
LOCATION:Field 3 (5/6)
BEGIN:VALARM
TRIGGER:-P2H
ACTION:DISPLAY
DESCRIPTION:Reep vs Peterman
END:VALARM
END:VEVENT
BEGIN:VEVENT
UID:putnam-316144@ygametime.com
DTSTAMP:20221029T123000Z
DTSTART;TZID=America/New_York:20221029T083000
DURATION:PT0H60M0S
SUMMARY:Ross vs Peterman
DESCRIPTION:5/6 | Fall Soccer 2022\nPutnam County Family YMCA\n
URL;VALUE=URI:https://ygametime.com/branch/putnam/sports/2022-fall-fall-soccer-2022/13795/?utm_medium=calendar&utm_source=team_cal&utm_content=league_url#game-316144
LOCATION:Field 3 (5/6)
BEGIN:VALARM
TRIGGER:-P2H
ACTION:DISPLAY
DESCRIPTION:Ross vs Peterman
END:VALARM
END:VEVENT
BEGIN:VEVENT
UID:putnam-316149@ygametime.com
DTSTAMP:20221105T133000Z
DTSTART;TZID=America/New_York:20221105T093000
DURATION:PT0H60M0S
SUMMARY:Peterman vs Malone
DESCRIPTION:5/6 | Fall Soccer 2022\nPutnam County Family YMCA\n
URL;VALUE=URI:https://ygametime.com/branch/putnam/sports/2022-fall-fall-soccer-2022/13795/?utm_medium=calendar&utm_source=team_cal&utm_content=league_url#game-316149
LOCATION:Field 3 (5/6)
BEGIN:VALARM
TRIGGER:-P2H
ACTION:DISPLAY
DESCRIPTION:Peterman vs Malone
END:VALARM
END:VEVENT
END:VCALENDAR

