BEGIN:VCALENDAR
VERSION:2.0
PRODID:-//YGAMETIME.com//YGT iCal Creator//EN
METHOD:PUBLISH
X-PUBLISHED-TTL:PT6H
REFRESH-INTERVAL;VALUE=DURATION:PT6H
CALSCALE:GREGORIAN
X-WR-CALNAME:YGAMETIME CALENDAR
BEGIN:VTIMEZONE
TZID:America/New_York
X-LIC-LOCATION:America/New_York
BEGIN:DAYLIGHT
TZOFFSETFROM:-0500
TZOFFSETTO:-0400
TZNAME:EDT
DTSTART:19700308T020000
RRULE:FREQ=YEARLY;BYMONTH=3;BYDAY=2SU
END:DAYLIGHT
BEGIN:STANDARD
TZOFFSETFROM:-0400
TZOFFSETTO:-0500
TZNAME:EST
DTSTART:19701101T020000
RRULE:FREQ=YEARLY;BYMONTH=11;BYDAY=1SU
END:STANDARD
END:VTIMEZONE
BEGIN:VEVENT
UID:putnam-316564@ygametime.com
DTSTAMP:20220917T163000Z
DTSTART;TZID=America/New_York:20220917T123000
DURATION:PT0H60M0S
SUMMARY:Damas vs Null
DESCRIPTION:7/8 | Fall Soccer 2022\nPutnam County Family YMCA\n
URL;VALUE=URI:https://ygametime.com/branch/putnam/sports/2022-fall-fall-soccer-2022/13796/?utm_medium=calendar&utm_source=team_cal&utm_content=league_url#game-316564
LOCATION:Field 4 (7/8)
BEGIN:VALARM
TRIGGER:-P2H
ACTION:DISPLAY
DESCRIPTION:Damas vs Null
END:VALARM
END:VEVENT
BEGIN:VEVENT
UID:putnam-325582@ygametime.com
DTSTAMP:20220924T143000Z
DTSTART;TZID=America/New_York:20220924T103000
DURATION:PT0H60M0S
SUMMARY:Hawkins vs Null
DESCRIPTION:7/8 | Fall Soccer 2022\nPutnam County Family YMCA\n
URL;VALUE=URI:https://ygametime.com/branch/putnam/sports/2022-fall-fall-soccer-2022/13796/?utm_medium=calendar&utm_source=team_cal&utm_content=league_url#game-325582
LOCATION:Field 4 (7/8)
BEGIN:VALARM
TRIGGER:-P2H
ACTION:DISPLAY
DESCRIPTION:Hawkins vs Null
END:VALARM
END:VEVENT
BEGIN:VEVENT
UID:putnam-316592@ygametime.com
DTSTAMP:20220926T211500Z
DTSTART;TZID=America/New_York:20220926T171500
DURATION:PT0H60M0S
SUMMARY:Null vs Krebs
DESCRIPTION:7/8 | Fall Soccer 2022\nPutnam County Family YMCA\n
URL;VALUE=URI:https://ygametime.com/branch/putnam/sports/2022-fall-fall-soccer-2022/13796/?utm_medium=calendar&utm_source=team_cal&utm_content=league_url#game-316592
LOCATION:Field 4 (7/8)
BEGIN:VALARM
TRIGGER:-P2H
ACTION:DISPLAY
DESCRIPTION:Null vs Krebs
END:VALARM
END:VEVENT
BEGIN:VEVENT
UID:putnam-316584@ygametime.com
DTSTAMP:20221015T143000Z
DTSTART;TZID=America/New_York:20221015T103000
DURATION:PT0H60M0S
SUMMARY:Derlinga vs Null
DESCRIPTION:7/8 | Fall Soccer 2022\nPutnam County Family YMCA\n
URL;VALUE=URI:https://ygametime.com/branch/putnam/sports/2022-fall-fall-soccer-2022/13796/?utm_medium=calendar&utm_source=team_cal&utm_content=league_url#game-316584
LOCATION:Field 4 (7/8)
BEGIN:VALARM
TRIGGER:-P2H
ACTION:DISPLAY
DESCRIPTION:Derlinga vs Null
END:VALARM
END:VEVENT
BEGIN:VEVENT
UID:putnam-316596@ygametime.com
DTSTAMP:20221017T211500Z
DTSTART;TZID=America/New_York:20221017T171500
DURATION:PT0H60M0S
SUMMARY:Null vs Damas
DESCRIPTION:7/8 | Fall Soccer 2022\nPutnam County Family YMCA\n
URL;VALUE=URI:https://ygametime.com/branch/putnam/sports/2022-fall-fall-soccer-2022/13796/?utm_medium=calendar&utm_source=team_cal&utm_content=league_url#game-316596
LOCATION:Field 4 (7/8)
BEGIN:VALARM
TRIGGER:-P2H
ACTION:DISPLAY
DESCRIPTION:Null vs Damas
END:VALARM
END:VEVENT
BEGIN:VEVENT
UID:putnam-316581@ygametime.com
DTSTAMP:20221029T163000Z
DTSTART;TZID=America/New_York:20221029T123000
DURATION:PT0H60M0S
SUMMARY:Null vs Stratton
DESCRIPTION:7/8 | Fall Soccer 2022\nPutnam County Family YMCA\n
URL;VALUE=URI:https://ygametime.com/branch/putnam/sports/2022-fall-fall-soccer-2022/13796/?utm_medium=calendar&utm_source=team_cal&utm_content=league_url#game-316581
LOCATION:Field 4 (7/8)
BEGIN:VALARM
TRIGGER:-P2H
ACTION:DISPLAY
DESCRIPTION:Null vs Stratton
END:VALARM
END:VEVENT
BEGIN:VEVENT
UID:putnam-316701@ygametime.com
DTSTAMP:20221101T211500Z
DTSTART;TZID=America/New_York:20221101T171500
DURATION:PT0H60M0S
SUMMARY:Randolph vs Null
DESCRIPTION:7/8 | Fall Soccer 2022\nPutnam County Family YMCA\n
URL;VALUE=URI:https://ygametime.com/branch/putnam/sports/2022-fall-fall-soccer-2022/13796/?utm_medium=calendar&utm_source=team_cal&utm_content=league_url#game-316701
LOCATION:Field 4 (7/8)
BEGIN:VALARM
TRIGGER:-P2H
ACTION:DISPLAY
DESCRIPTION:Randolph vs Null
END:VALARM
END:VEVENT
END:VCALENDAR

