BEGIN:VCALENDAR
VERSION:2.0
PRODID:-//YGAMETIME.com//YGT iCal Creator//EN
METHOD:PUBLISH
X-PUBLISHED-TTL:PT6H
REFRESH-INTERVAL;VALUE=DURATION:PT6H
CALSCALE:GREGORIAN
X-WR-CALNAME:YGAMETIME CALENDAR
BEGIN:VTIMEZONE
TZID:America/New_York
X-LIC-LOCATION:America/New_York
BEGIN:DAYLIGHT
TZOFFSETFROM:-0500
TZOFFSETTO:-0400
TZNAME:EDT
DTSTART:19700308T020000
RRULE:FREQ=YEARLY;BYMONTH=3;BYDAY=2SU
END:DAYLIGHT
BEGIN:STANDARD
TZOFFSETFROM:-0400
TZOFFSETTO:-0500
TZNAME:EST
DTSTART:19701101T020000
RRULE:FREQ=YEARLY;BYMONTH=11;BYDAY=1SU
END:STANDARD
END:VTIMEZONE
BEGIN:VEVENT
UID:putnam-325277@ygametime.com
DTSTAMP:20220916T213000Z
DTSTART;TZID=America/New_York:20220916T173000
DURATION:PT0H60M0S
SUMMARY:Damas vs Rutherford
DESCRIPTION:7/8 | Fall Soccer 2022\nPutnam County Family YMCA\n
URL;VALUE=URI:https://ygametime.com/branch/putnam/sports/2022-fall-fall-soccer-2022/13796/?utm_medium=calendar&utm_source=team_cal&utm_content=league_url#game-325277
LOCATION:Field 4 (7/8)
BEGIN:VALARM
TRIGGER:-P2H
ACTION:DISPLAY
DESCRIPTION:Damas vs Rutherford
END:VALARM
END:VEVENT
BEGIN:VEVENT
UID:putnam-316565@ygametime.com
DTSTAMP:20220917T123000Z
DTSTART;TZID=America/New_York:20220917T083000
DURATION:PT0H60M0S
SUMMARY:Krebs vs Rutherford
DESCRIPTION:7/8 | Fall Soccer 2022\nPutnam County Family YMCA\n
URL;VALUE=URI:https://ygametime.com/branch/putnam/sports/2022-fall-fall-soccer-2022/13796/?utm_medium=calendar&utm_source=team_cal&utm_content=league_url#game-316565
LOCATION:Field 4 (7/8)
BEGIN:VALARM
TRIGGER:-P2H
ACTION:DISPLAY
DESCRIPTION:Krebs vs Rutherford
END:VALARM
END:VEVENT
BEGIN:VEVENT
UID:putnam-316568@ygametime.com
DTSTAMP:20220924T133000Z
DTSTART;TZID=America/New_York:20220924T093000
DURATION:PT0H60M0S
SUMMARY:Rutherford vs Randolph
DESCRIPTION:7/8 | Fall Soccer 2022\nPutnam County Family YMCA\n
URL;VALUE=URI:https://ygametime.com/branch/putnam/sports/2022-fall-fall-soccer-2022/13796/?utm_medium=calendar&utm_source=team_cal&utm_content=league_url#game-316568
LOCATION:Field 5 (7/8)
BEGIN:VALARM
TRIGGER:-P2H
ACTION:DISPLAY
DESCRIPTION:Rutherford vs Randolph
END:VALARM
END:VEVENT
BEGIN:VEVENT
UID:putnam-316582@ygametime.com
DTSTAMP:20221015T123000Z
DTSTART;TZID=America/New_York:20221015T083000
DURATION:PT0H60M0S
SUMMARY:Stiles vs Rutherford
DESCRIPTION:7/8 | Fall Soccer 2022\nPutnam County Family YMCA\n
URL;VALUE=URI:https://ygametime.com/branch/putnam/sports/2022-fall-fall-soccer-2022/13796/?utm_medium=calendar&utm_source=team_cal&utm_content=league_url#game-316582
LOCATION:Field 4 (7/8)
BEGIN:VALARM
TRIGGER:-P2H
ACTION:DISPLAY
DESCRIPTION:Stiles vs Rutherford
END:VALARM
END:VEVENT
BEGIN:VEVENT
UID:putnam-316593@ygametime.com
DTSTAMP:20221024T211500Z
DTSTART;TZID=America/New_York:20221024T171500
DURATION:PT0H60M0S
SUMMARY:Rutherford vs Krebs
DESCRIPTION:7/8 | Fall Soccer 2022\nPutnam County Family YMCA\n
URL;VALUE=URI:https://ygametime.com/branch/putnam/sports/2022-fall-fall-soccer-2022/13796/?utm_medium=calendar&utm_source=team_cal&utm_content=league_url#game-316593
LOCATION:Field 5 (7/8)
BEGIN:VALARM
TRIGGER:-P2H
ACTION:DISPLAY
DESCRIPTION:Rutherford vs Krebs
END:VALARM
END:VEVENT
BEGIN:VEVENT
UID:putnam-316579@ygametime.com
DTSTAMP:20221029T143000Z
DTSTART;TZID=America/New_York:20221029T103000
DURATION:PT0H60M0S
SUMMARY:Rutherford vs Derlinga
DESCRIPTION:7/8 | Fall Soccer 2022\nPutnam County Family YMCA\n
URL;VALUE=URI:https://ygametime.com/branch/putnam/sports/2022-fall-fall-soccer-2022/13796/?utm_medium=calendar&utm_source=team_cal&utm_content=league_url#game-316579
LOCATION:Field 4 (7/8)
BEGIN:VALARM
TRIGGER:-P2H
ACTION:DISPLAY
DESCRIPTION:Rutherford vs Derlinga
END:VALARM
END:VEVENT
BEGIN:VEVENT
UID:putnam-316576@ygametime.com
DTSTAMP:20221105T153000Z
DTSTART;TZID=America/New_York:20221105T113000
DURATION:PT0H60M0S
SUMMARY:Stratton vs Rutherford
DESCRIPTION:7/8 | Fall Soccer 2022\nPutnam County Family YMCA\n
URL;VALUE=URI:https://ygametime.com/branch/putnam/sports/2022-fall-fall-soccer-2022/13796/?utm_medium=calendar&utm_source=team_cal&utm_content=league_url#game-316576
LOCATION:Field 5 (7/8)
BEGIN:VALARM
TRIGGER:-P2H
ACTION:DISPLAY
DESCRIPTION:Stratton vs Rutherford
END:VALARM
END:VEVENT
END:VCALENDAR

