BEGIN:VCALENDAR
VERSION:2.0
PRODID:-//YGAMETIME.com//YGT iCal Creator//EN
METHOD:PUBLISH
X-PUBLISHED-TTL:PT6H
REFRESH-INTERVAL;VALUE=DURATION:PT6H
CALSCALE:GREGORIAN
X-WR-CALNAME:YGAMETIME CALENDAR
BEGIN:VTIMEZONE
TZID:America/New_York
X-LIC-LOCATION:America/New_York
BEGIN:DAYLIGHT
TZOFFSETFROM:-0500
TZOFFSETTO:-0400
TZNAME:EDT
DTSTART:19700308T020000
RRULE:FREQ=YEARLY;BYMONTH=3;BYDAY=2SU
END:DAYLIGHT
BEGIN:STANDARD
TZOFFSETFROM:-0400
TZOFFSETTO:-0500
TZNAME:EST
DTSTART:19701101T020000
RRULE:FREQ=YEARLY;BYMONTH=11;BYDAY=1SU
END:STANDARD
END:VTIMEZONE
BEGIN:VEVENT
UID:putnam-316562@ygametime.com
DTSTAMP:20220917T133000Z
DTSTART;TZID=America/New_York:20220917T093000
DURATION:PT0H60M0S
SUMMARY:Hawkins vs Huddleston
DESCRIPTION:7/8 | Fall Soccer 2022\nPutnam County Family YMCA\n
URL;VALUE=URI:https://ygametime.com/branch/putnam/sports/2022-fall-fall-soccer-2022/13796/?utm_medium=calendar&utm_source=team_cal&utm_content=league_url#game-316562
LOCATION:Field 5 (7/8)
BEGIN:VALARM
TRIGGER:-P2H
ACTION:DISPLAY
DESCRIPTION:Hawkins vs Huddleston
END:VALARM
END:VEVENT
BEGIN:VEVENT
UID:putnam-316567@ygametime.com
DTSTAMP:20220924T123000Z
DTSTART;TZID=America/New_York:20220924T083000
DURATION:PT0H60M0S
SUMMARY:Huddleston vs Stratton
DESCRIPTION:7/8 | Fall Soccer 2022\nPutnam County Family YMCA\n
URL;VALUE=URI:https://ygametime.com/branch/putnam/sports/2022-fall-fall-soccer-2022/13796/?utm_medium=calendar&utm_source=team_cal&utm_content=league_url#game-316567
LOCATION:Field 4 (7/8)
BEGIN:VALARM
TRIGGER:-P2H
ACTION:DISPLAY
DESCRIPTION:Huddleston vs Stratton
END:VALARM
END:VEVENT
BEGIN:VEVENT
UID:putnam-328258@ygametime.com
DTSTAMP:20220930T210000Z
DTSTART;TZID=America/New_York:20220930T170000
DURATION:PT0H60M0S
SUMMARY:Huddleston vs Stiles
DESCRIPTION:7/8 | Fall Soccer 2022\nPutnam County Family YMCA\n
URL;VALUE=URI:https://ygametime.com/branch/putnam/sports/2022-fall-fall-soccer-2022/13796/?utm_medium=calendar&utm_source=team_cal&utm_content=league_url#game-328258
LOCATION:Field 4 (7/8)
BEGIN:VALARM
TRIGGER:-P2H
ACTION:DISPLAY
DESCRIPTION:Huddleston vs Stiles
END:VALARM
END:VEVENT
BEGIN:VEVENT
UID:putnam-331038@ygametime.com
DTSTAMP:20221018T211500Z
DTSTART;TZID=America/New_York:20221018T171500
DURATION:PT0H60M0S
SUMMARY:Stratton vs Huddleston
DESCRIPTION:7/8 | Fall Soccer 2022\nPutnam County Family YMCA\n
URL;VALUE=URI:https://ygametime.com/branch/putnam/sports/2022-fall-fall-soccer-2022/13796/?utm_medium=calendar&utm_source=team_cal&utm_content=league_url#game-331038
LOCATION:Field 5 (7/8)
BEGIN:VALARM
TRIGGER:-P2H
ACTION:DISPLAY
DESCRIPTION:Stratton vs Huddleston
END:VALARM
END:VEVENT
BEGIN:VEVENT
UID:putnam-316589@ygametime.com
DTSTAMP:20221022T133000Z
DTSTART;TZID=America/New_York:20221022T093000
DURATION:PT0H60M0S
SUMMARY:Huddleston vs Derlinga
DESCRIPTION:7/8 | Fall Soccer 2022\nPutnam County Family YMCA\n
URL;VALUE=URI:https://ygametime.com/branch/putnam/sports/2022-fall-fall-soccer-2022/13796/?utm_medium=calendar&utm_source=team_cal&utm_content=league_url#game-316589
LOCATION:Field 4 (7/8)
BEGIN:VALARM
TRIGGER:-P2H
ACTION:DISPLAY
DESCRIPTION:Huddleston vs Derlinga
END:VALARM
END:VEVENT
BEGIN:VEVENT
UID:putnam-316577@ygametime.com
DTSTAMP:20221029T123000Z
DTSTART;TZID=America/New_York:20221029T083000
DURATION:PT0H60M0S
SUMMARY:Huddleston vs Randolph
DESCRIPTION:7/8 | Fall Soccer 2022\nPutnam County Family YMCA\n
URL;VALUE=URI:https://ygametime.com/branch/putnam/sports/2022-fall-fall-soccer-2022/13796/?utm_medium=calendar&utm_source=team_cal&utm_content=league_url#game-316577
LOCATION:Field 4 (7/8)
BEGIN:VALARM
TRIGGER:-P2H
ACTION:DISPLAY
DESCRIPTION:Huddleston vs Randolph
END:VALARM
END:VEVENT
BEGIN:VEVENT
UID:putnam-316572@ygametime.com
DTSTAMP:20221105T123000Z
DTSTART;TZID=America/New_York:20221105T083000
DURATION:PT0H60M0S
SUMMARY:Krebs vs Huddleston
DESCRIPTION:7/8 | Fall Soccer 2022\nPutnam County Family YMCA\n
URL;VALUE=URI:https://ygametime.com/branch/putnam/sports/2022-fall-fall-soccer-2022/13796/?utm_medium=calendar&utm_source=team_cal&utm_content=league_url#game-316572
LOCATION:Field 4 (7/8)
BEGIN:VALARM
TRIGGER:-P2H
ACTION:DISPLAY
DESCRIPTION:Krebs vs Huddleston
END:VALARM
END:VEVENT
END:VCALENDAR

