BEGIN:VCALENDAR
VERSION:2.0
PRODID:-//YGAMETIME.com//YGT iCal Creator//EN
METHOD:PUBLISH
X-PUBLISHED-TTL:PT6H
REFRESH-INTERVAL;VALUE=DURATION:PT6H
CALSCALE:GREGORIAN
X-WR-CALNAME:YGAMETIME CALENDAR
BEGIN:VTIMEZONE
TZID:America/New_York
X-LIC-LOCATION:America/New_York
BEGIN:DAYLIGHT
TZOFFSETFROM:-0500
TZOFFSETTO:-0400
TZNAME:EDT
DTSTART:19700308T020000
RRULE:FREQ=YEARLY;BYMONTH=3;BYDAY=2SU
END:DAYLIGHT
BEGIN:STANDARD
TZOFFSETFROM:-0400
TZOFFSETTO:-0500
TZNAME:EST
DTSTART:19701101T020000
RRULE:FREQ=YEARLY;BYMONTH=11;BYDAY=1SU
END:STANDARD
END:VTIMEZONE
BEGIN:VEVENT
UID:putnam-316562@ygametime.com
DTSTAMP:20220917T133000Z
DTSTART;TZID=America/New_York:20220917T093000
DURATION:PT0H60M0S
SUMMARY:Hawkins vs Huddleston
DESCRIPTION:7/8 | Fall Soccer 2022\nPutnam County Family YMCA\n
URL;VALUE=URI:https://ygametime.com/branch/putnam/sports/2022-fall-fall-soccer-2022/13796/?utm_medium=calendar&utm_source=team_cal&utm_content=league_url#game-316562
LOCATION:Field 5 (7/8)
BEGIN:VALARM
TRIGGER:-P2H
ACTION:DISPLAY
DESCRIPTION:Hawkins vs Huddleston
END:VALARM
END:VEVENT
BEGIN:VEVENT
UID:putnam-325582@ygametime.com
DTSTAMP:20220924T143000Z
DTSTART;TZID=America/New_York:20220924T103000
DURATION:PT0H60M0S
SUMMARY:Hawkins vs Null
DESCRIPTION:7/8 | Fall Soccer 2022\nPutnam County Family YMCA\n
URL;VALUE=URI:https://ygametime.com/branch/putnam/sports/2022-fall-fall-soccer-2022/13796/?utm_medium=calendar&utm_source=team_cal&utm_content=league_url#game-325582
LOCATION:Field 4 (7/8)
BEGIN:VALARM
TRIGGER:-P2H
ACTION:DISPLAY
DESCRIPTION:Hawkins vs Null
END:VALARM
END:VEVENT
BEGIN:VEVENT
UID:putnam-316594@ygametime.com
DTSTAMP:20220929T211500Z
DTSTART;TZID=America/New_York:20220929T171500
DURATION:PT0H60M0S
SUMMARY:Hawkins vs Stiles
DESCRIPTION:7/8 | Fall Soccer 2022\nPutnam County Family YMCA\n
URL;VALUE=URI:https://ygametime.com/branch/putnam/sports/2022-fall-fall-soccer-2022/13796/?utm_medium=calendar&utm_source=team_cal&utm_content=league_url#game-316594
LOCATION:Field 4 (7/8)
BEGIN:VALARM
TRIGGER:-P2H
ACTION:DISPLAY
DESCRIPTION:Hawkins vs Stiles
END:VALARM
END:VEVENT
BEGIN:VEVENT
UID:putnam-316585@ygametime.com
DTSTAMP:20221015T153000Z
DTSTART;TZID=America/New_York:20221015T113000
DURATION:PT0H60M0S
SUMMARY:Randolph vs Hawkins
DESCRIPTION:7/8 | Fall Soccer 2022\nPutnam County Family YMCA\n
URL;VALUE=URI:https://ygametime.com/branch/putnam/sports/2022-fall-fall-soccer-2022/13796/?utm_medium=calendar&utm_source=team_cal&utm_content=league_url#game-316585
LOCATION:Field 5 (7/8)
BEGIN:VALARM
TRIGGER:-P2H
ACTION:DISPLAY
DESCRIPTION:Randolph vs Hawkins
END:VALARM
END:VEVENT
BEGIN:VEVENT
UID:putnam-316590@ygametime.com
DTSTAMP:20221022T143000Z
DTSTART;TZID=America/New_York:20221022T103000
DURATION:PT0H60M0S
SUMMARY:Hawkins vs Stratton
DESCRIPTION:7/8 | Fall Soccer 2022\nPutnam County Family YMCA\n
URL;VALUE=URI:https://ygametime.com/branch/putnam/sports/2022-fall-fall-soccer-2022/13796/?utm_medium=calendar&utm_source=team_cal&utm_content=league_url#game-316590
LOCATION:Field 5 (7/8)
BEGIN:VALARM
TRIGGER:-P2H
ACTION:DISPLAY
DESCRIPTION:Hawkins vs Stratton
END:VALARM
END:VEVENT
BEGIN:VEVENT
UID:putnam-316580@ygametime.com
DTSTAMP:20221029T153000Z
DTSTART;TZID=America/New_York:20221029T113000
DURATION:PT0H60M0S
SUMMARY:Hawkins vs Krebs
DESCRIPTION:7/8 | Fall Soccer 2022\nPutnam County Family YMCA\n
URL;VALUE=URI:https://ygametime.com/branch/putnam/sports/2022-fall-fall-soccer-2022/13796/?utm_medium=calendar&utm_source=team_cal&utm_content=league_url#game-316580
LOCATION:Field 5 (7/8)
BEGIN:VALARM
TRIGGER:-P2H
ACTION:DISPLAY
DESCRIPTION:Hawkins vs Krebs
END:VALARM
END:VEVENT
BEGIN:VEVENT
UID:putnam-316575@ygametime.com
DTSTAMP:20221105T143000Z
DTSTART;TZID=America/New_York:20221105T103000
DURATION:PT0H60M0S
SUMMARY:Damas vs Hawkins
DESCRIPTION:7/8 | Fall Soccer 2022\nPutnam County Family YMCA\n
URL;VALUE=URI:https://ygametime.com/branch/putnam/sports/2022-fall-fall-soccer-2022/13796/?utm_medium=calendar&utm_source=team_cal&utm_content=league_url#game-316575
LOCATION:Field 4 (7/8)
BEGIN:VALARM
TRIGGER:-P2H
ACTION:DISPLAY
DESCRIPTION:Damas vs Hawkins
END:VALARM
END:VEVENT
END:VCALENDAR

