BEGIN:VCALENDAR
VERSION:2.0
PRODID:-//YGAMETIME.com//YGT iCal Creator//EN
METHOD:PUBLISH
X-PUBLISHED-TTL:PT6H
REFRESH-INTERVAL;VALUE=DURATION:PT6H
CALSCALE:GREGORIAN
X-WR-CALNAME:YGAMETIME CALENDAR
BEGIN:VTIMEZONE
TZID:America/New_York
X-LIC-LOCATION:America/New_York
BEGIN:DAYLIGHT
TZOFFSETFROM:-0500
TZOFFSETTO:-0400
TZNAME:EDT
DTSTART:19700308T020000
RRULE:FREQ=YEARLY;BYMONTH=3;BYDAY=2SU
END:DAYLIGHT
BEGIN:STANDARD
TZOFFSETFROM:-0400
TZOFFSETTO:-0500
TZNAME:EST
DTSTART:19701101T020000
RRULE:FREQ=YEARLY;BYMONTH=11;BYDAY=1SU
END:STANDARD
END:VTIMEZONE
BEGIN:VEVENT
UID:putnam-325277@ygametime.com
DTSTAMP:20220916T213000Z
DTSTART;TZID=America/New_York:20220916T173000
DURATION:PT0H60M0S
SUMMARY:Damas vs Rutherford
DESCRIPTION:7/8 | Fall Soccer 2022\nPutnam County Family YMCA\n
URL;VALUE=URI:https://ygametime.com/branch/putnam/sports/2022-fall-fall-soccer-2022/13796/?utm_medium=calendar&utm_source=team_cal&utm_content=league_url#game-325277
LOCATION:Field 4 (7/8)
BEGIN:VALARM
TRIGGER:-P2H
ACTION:DISPLAY
DESCRIPTION:Damas vs Rutherford
END:VALARM
END:VEVENT
BEGIN:VEVENT
UID:putnam-316564@ygametime.com
DTSTAMP:20220917T163000Z
DTSTART;TZID=America/New_York:20220917T123000
DURATION:PT0H60M0S
SUMMARY:Damas vs Null
DESCRIPTION:7/8 | Fall Soccer 2022\nPutnam County Family YMCA\n
URL;VALUE=URI:https://ygametime.com/branch/putnam/sports/2022-fall-fall-soccer-2022/13796/?utm_medium=calendar&utm_source=team_cal&utm_content=league_url#game-316564
LOCATION:Field 4 (7/8)
BEGIN:VALARM
TRIGGER:-P2H
ACTION:DISPLAY
DESCRIPTION:Damas vs Null
END:VALARM
END:VEVENT
BEGIN:VEVENT
UID:putnam-316595@ygametime.com
DTSTAMP:20220923T213000Z
DTSTART;TZID=America/New_York:20220923T173000
DURATION:PT0H60M0S
SUMMARY:Derlinga vs Damas
DESCRIPTION:7/8 | Fall Soccer 2022\nPutnam County Family YMCA\n
URL;VALUE=URI:https://ygametime.com/branch/putnam/sports/2022-fall-fall-soccer-2022/13796/?utm_medium=calendar&utm_source=team_cal&utm_content=league_url#game-316595
LOCATION:Field 5 (7/8)
BEGIN:VALARM
TRIGGER:-P2H
ACTION:DISPLAY
DESCRIPTION:Derlinga vs Damas
END:VALARM
END:VEVENT
BEGIN:VEVENT
UID:putnam-316583@ygametime.com
DTSTAMP:20221015T133000Z
DTSTART;TZID=America/New_York:20221015T093000
DURATION:PT0H60M0S
SUMMARY:Krebs vs Damas
DESCRIPTION:7/8 | Fall Soccer 2022\nPutnam County Family YMCA\n
URL;VALUE=URI:https://ygametime.com/branch/putnam/sports/2022-fall-fall-soccer-2022/13796/?utm_medium=calendar&utm_source=team_cal&utm_content=league_url#game-316583
LOCATION:Field 5 (7/8)
BEGIN:VALARM
TRIGGER:-P2H
ACTION:DISPLAY
DESCRIPTION:Krebs vs Damas
END:VALARM
END:VEVENT
BEGIN:VEVENT
UID:putnam-316596@ygametime.com
DTSTAMP:20221017T211500Z
DTSTART;TZID=America/New_York:20221017T171500
DURATION:PT0H60M0S
SUMMARY:Null vs Damas
DESCRIPTION:7/8 | Fall Soccer 2022\nPutnam County Family YMCA\n
URL;VALUE=URI:https://ygametime.com/branch/putnam/sports/2022-fall-fall-soccer-2022/13796/?utm_medium=calendar&utm_source=team_cal&utm_content=league_url#game-316596
LOCATION:Field 4 (7/8)
BEGIN:VALARM
TRIGGER:-P2H
ACTION:DISPLAY
DESCRIPTION:Null vs Damas
END:VALARM
END:VEVENT
BEGIN:VEVENT
UID:putnam-316578@ygametime.com
DTSTAMP:20221029T133000Z
DTSTART;TZID=America/New_York:20221029T093000
DURATION:PT0H60M0S
SUMMARY:Damas vs Stiles
DESCRIPTION:7/8 | Fall Soccer 2022\nPutnam County Family YMCA\n
URL;VALUE=URI:https://ygametime.com/branch/putnam/sports/2022-fall-fall-soccer-2022/13796/?utm_medium=calendar&utm_source=team_cal&utm_content=league_url#game-316578
LOCATION:Field 5 (7/8)
BEGIN:VALARM
TRIGGER:-P2H
ACTION:DISPLAY
DESCRIPTION:Damas vs Stiles
END:VALARM
END:VEVENT
BEGIN:VEVENT
UID:putnam-316575@ygametime.com
DTSTAMP:20221105T143000Z
DTSTART;TZID=America/New_York:20221105T103000
DURATION:PT0H60M0S
SUMMARY:Damas vs Hawkins
DESCRIPTION:7/8 | Fall Soccer 2022\nPutnam County Family YMCA\n
URL;VALUE=URI:https://ygametime.com/branch/putnam/sports/2022-fall-fall-soccer-2022/13796/?utm_medium=calendar&utm_source=team_cal&utm_content=league_url#game-316575
LOCATION:Field 4 (7/8)
BEGIN:VALARM
TRIGGER:-P2H
ACTION:DISPLAY
DESCRIPTION:Damas vs Hawkins
END:VALARM
END:VEVENT
END:VCALENDAR

