BEGIN:VCALENDAR
VERSION:2.0
PRODID:-//YGAMETIME.com//YGT iCal Creator//EN
METHOD:PUBLISH
X-PUBLISHED-TTL:PT6H
REFRESH-INTERVAL;VALUE=DURATION:PT6H
CALSCALE:GREGORIAN
X-WR-CALNAME:YGAMETIME CALENDAR
BEGIN:VTIMEZONE
TZID:America/New_York
X-LIC-LOCATION:America/New_York
BEGIN:DAYLIGHT
TZOFFSETFROM:-0500
TZOFFSETTO:-0400
TZNAME:EDT
DTSTART:19700308T020000
RRULE:FREQ=YEARLY;BYMONTH=3;BYDAY=2SU
END:DAYLIGHT
BEGIN:STANDARD
TZOFFSETFROM:-0400
TZOFFSETTO:-0500
TZNAME:EST
DTSTART:19701101T020000
RRULE:FREQ=YEARLY;BYMONTH=11;BYDAY=1SU
END:STANDARD
END:VTIMEZONE
BEGIN:VEVENT
UID:putnam-367160@ygametime.com
DTSTAMP:20230401T160000Z
DTSTART;TZID=America/New_York:20230401T120000
DURATION:PT0H90M0S
SUMMARY:Bowers vs Brown
DESCRIPTION:9/10 | Soccer\nPutnam County Family YMCA\n
URL;VALUE=URI:https://ygametime.com/branch/putnam/sports/2023-spring-soccer/15757/?utm_medium=calendar&utm_source=team_cal&utm_content=league_url#game-367160
LOCATION:Field 1 (9/11) Practice field
BEGIN:VALARM
TRIGGER:-P2H
ACTION:DISPLAY
DESCRIPTION:Bowers vs Brown
END:VALARM
END:VEVENT
BEGIN:VEVENT
UID:putnam-367165@ygametime.com
DTSTAMP:20230415T160000Z
DTSTART;TZID=America/New_York:20230415T120000
DURATION:PT0H90M0S
SUMMARY:Languri vs Brown
DESCRIPTION:9/10 | Soccer\nPutnam County Family YMCA\n
URL;VALUE=URI:https://ygametime.com/branch/putnam/sports/2023-spring-soccer/15757/?utm_medium=calendar&utm_source=team_cal&utm_content=league_url#game-367165
LOCATION:Field 1 (9/11) Practice field
BEGIN:VALARM
TRIGGER:-P2H
ACTION:DISPLAY
DESCRIPTION:Languri vs Brown
END:VALARM
END:VEVENT
BEGIN:VEVENT
UID:putnam-367187@ygametime.com
DTSTAMP:20230417T221500Z
DTSTART;TZID=America/New_York:20230417T181500
DURATION:PT0H90M0S
SUMMARY:Brown vs Null
DESCRIPTION:9/10 | Soccer\nPutnam County Family YMCA\n
URL;VALUE=URI:https://ygametime.com/branch/putnam/sports/2023-spring-soccer/15757/?utm_medium=calendar&utm_source=team_cal&utm_content=league_url#game-367187
LOCATION:Field 1 (9/11) Practice field
BEGIN:VALARM
TRIGGER:-P2H
ACTION:DISPLAY
DESCRIPTION:Brown vs Null
END:VALARM
END:VEVENT
BEGIN:VEVENT
UID:putnam-367168@ygametime.com
DTSTAMP:20230422T143000Z
DTSTART;TZID=America/New_York:20230422T103000
DURATION:PT0H90M0S
SUMMARY:Huddleston vs Brown
DESCRIPTION:9/10 | Soccer\nPutnam County Family YMCA\n
URL;VALUE=URI:https://ygametime.com/branch/putnam/sports/2023-spring-soccer/15757/?utm_medium=calendar&utm_source=team_cal&utm_content=league_url#game-367168
LOCATION:Field 1 (9/11) Practice field
BEGIN:VALARM
TRIGGER:-P2H
ACTION:DISPLAY
DESCRIPTION:Huddleston vs Brown
END:VALARM
END:VEVENT
BEGIN:VEVENT
UID:putnam-367171@ygametime.com
DTSTAMP:20230429T130000Z
DTSTART;TZID=America/New_York:20230429T090000
DURATION:PT0H90M0S
SUMMARY:Ramon vs Brown
DESCRIPTION:9/10 | Soccer\nPutnam County Family YMCA\n
URL;VALUE=URI:https://ygametime.com/branch/putnam/sports/2023-spring-soccer/15757/?utm_medium=calendar&utm_source=team_cal&utm_content=league_url#game-367171
LOCATION:Field 1 (9/11) Practice field
BEGIN:VALARM
TRIGGER:-P2H
ACTION:DISPLAY
DESCRIPTION:Ramon vs Brown
END:VALARM
END:VEVENT
BEGIN:VEVENT
UID:putnam-367176@ygametime.com
DTSTAMP:20230506T130000Z
DTSTART;TZID=America/New_York:20230506T090000
DURATION:PT0H90M0S
SUMMARY:Brown vs Huddleston
DESCRIPTION:9/10 | Soccer\nPutnam County Family YMCA\n
URL;VALUE=URI:https://ygametime.com/branch/putnam/sports/2023-spring-soccer/15757/?utm_medium=calendar&utm_source=team_cal&utm_content=league_url#game-367176
LOCATION:Field 1 (9/11) Practice field
BEGIN:VALARM
TRIGGER:-P2H
ACTION:DISPLAY
DESCRIPTION:Brown vs Huddleston
END:VALARM
END:VEVENT
BEGIN:VEVENT
UID:putnam-385234@ygametime.com
DTSTAMP:20230512T223000Z
DTSTART;TZID=America/New_York:20230512T183000
DURATION:PT0H90M0S
SUMMARY:Languri vs Brown
DESCRIPTION:9/10 | Soccer\nPutnam County Family YMCA\n
URL;VALUE=URI:https://ygametime.com/branch/putnam/sports/2023-spring-soccer/15757/?utm_medium=calendar&utm_source=team_cal&utm_content=league_url#game-385234
LOCATION:Field 1 (9/11) Practice field
BEGIN:VALARM
TRIGGER:-P2H
ACTION:DISPLAY
DESCRIPTION:Languri vs Brown
END:VALARM
END:VEVENT
BEGIN:VEVENT
UID:putnam-384593@ygametime.com
DTSTAMP:20230515T223000Z
DTSTART;TZID=America/New_York:20230515T183000
DURATION:PT0H90M0S
SUMMARY:Languri vs Brown
DESCRIPTION:9/10 | Soccer\nPutnam County Family YMCA\n
URL;VALUE=URI:https://ygametime.com/branch/putnam/sports/2023-spring-soccer/15757/?utm_medium=calendar&utm_source=team_cal&utm_content=league_url#game-384593
LOCATION:Field 1 (9/11) Practice field
BEGIN:VALARM
TRIGGER:-P2H
ACTION:DISPLAY
DESCRIPTION:Languri vs Brown
END:VALARM
END:VEVENT
BEGIN:VEVENT
UID:putnam-384596@ygametime.com
DTSTAMP:20230519T213000Z
DTSTART;TZID=America/New_York:20230519T173000
DURATION:PT0H90M0S
SUMMARY:Bowers vs Brown
DESCRIPTION:9/10 | Soccer\nPutnam County Family YMCA\n
URL;VALUE=URI:https://ygametime.com/branch/putnam/sports/2023-spring-soccer/15757/?utm_medium=calendar&utm_source=team_cal&utm_content=league_url#game-384596
LOCATION:Field 6 (9/11 Game Field)
BEGIN:VALARM
TRIGGER:-P2H
ACTION:DISPLAY
DESCRIPTION:Bowers vs Brown
END:VALARM
END:VEVENT
END:VCALENDAR

