BEGIN:VCALENDAR
VERSION:2.0
PRODID:-//YGAMETIME.com//YGT iCal Creator//EN
METHOD:PUBLISH
X-PUBLISHED-TTL:PT6H
REFRESH-INTERVAL;VALUE=DURATION:PT6H
CALSCALE:GREGORIAN
X-WR-CALNAME:YGAMETIME CALENDAR
BEGIN:VTIMEZONE
TZID:America/New_York
X-LIC-LOCATION:America/New_York
BEGIN:DAYLIGHT
TZOFFSETFROM:-0500
TZOFFSETTO:-0400
TZNAME:EDT
DTSTART:19700308T020000
RRULE:FREQ=YEARLY;BYMONTH=3;BYDAY=2SU
END:DAYLIGHT
BEGIN:STANDARD
TZOFFSETFROM:-0400
TZOFFSETTO:-0500
TZNAME:EST
DTSTART:19701101T020000
RRULE:FREQ=YEARLY;BYMONTH=11;BYDAY=1SU
END:STANDARD
END:VTIMEZONE
BEGIN:VEVENT
UID:putnam-367185@ygametime.com
DTSTAMP:20230401T173000Z
DTSTART;TZID=America/New_York:20230401T133000
DURATION:PT0H90M0S
SUMMARY:Huddleston vs Bowers
DESCRIPTION:9/10 | Soccer\nPutnam County Family YMCA\n
URL;VALUE=URI:https://ygametime.com/branch/putnam/sports/2023-spring-soccer/15757/?utm_medium=calendar&utm_source=team_cal&utm_content=league_url#game-367185
LOCATION:Field 1 (9/11) Practice field
BEGIN:VALARM
TRIGGER:-P2H
ACTION:DISPLAY
DESCRIPTION:Huddleston vs Bowers
END:VALARM
END:VEVENT
BEGIN:VEVENT
UID:putnam-367167@ygametime.com
DTSTAMP:20230415T173000Z
DTSTART;TZID=America/New_York:20230415T133000
DURATION:PT0H90M0S
SUMMARY:Fancher vs Huddleston
DESCRIPTION:9/10 | Soccer\nPutnam County Family YMCA\n
URL;VALUE=URI:https://ygametime.com/branch/putnam/sports/2023-spring-soccer/15757/?utm_medium=calendar&utm_source=team_cal&utm_content=league_url#game-367167
LOCATION:Field 1 (9/11) Practice field
BEGIN:VALARM
TRIGGER:-P2H
ACTION:DISPLAY
DESCRIPTION:Fancher vs Huddleston
END:VALARM
END:VEVENT
BEGIN:VEVENT
UID:putnam-367168@ygametime.com
DTSTAMP:20230422T143000Z
DTSTART;TZID=America/New_York:20230422T103000
DURATION:PT0H90M0S
SUMMARY:Huddleston vs Brown
DESCRIPTION:9/10 | Soccer\nPutnam County Family YMCA\n
URL;VALUE=URI:https://ygametime.com/branch/putnam/sports/2023-spring-soccer/15757/?utm_medium=calendar&utm_source=team_cal&utm_content=league_url#game-367168
LOCATION:Field 1 (9/11) Practice field
BEGIN:VALARM
TRIGGER:-P2H
ACTION:DISPLAY
DESCRIPTION:Huddleston vs Brown
END:VALARM
END:VEVENT
BEGIN:VEVENT
UID:putnam-367173@ygametime.com
DTSTAMP:20230429T160000Z
DTSTART;TZID=America/New_York:20230429T120000
DURATION:PT0H90M0S
SUMMARY:Bowers vs Huddleston
DESCRIPTION:9/10 | Soccer\nPutnam County Family YMCA\n
URL;VALUE=URI:https://ygametime.com/branch/putnam/sports/2023-spring-soccer/15757/?utm_medium=calendar&utm_source=team_cal&utm_content=league_url#game-367173
LOCATION:Field 1 (9/11) Practice field
BEGIN:VALARM
TRIGGER:-P2H
ACTION:DISPLAY
DESCRIPTION:Bowers vs Huddleston
END:VALARM
END:VEVENT
BEGIN:VEVENT
UID:putnam-367176@ygametime.com
DTSTAMP:20230506T130000Z
DTSTART;TZID=America/New_York:20230506T090000
DURATION:PT0H90M0S
SUMMARY:Brown vs Huddleston
DESCRIPTION:9/10 | Soccer\nPutnam County Family YMCA\n
URL;VALUE=URI:https://ygametime.com/branch/putnam/sports/2023-spring-soccer/15757/?utm_medium=calendar&utm_source=team_cal&utm_content=league_url#game-367176
LOCATION:Field 1 (9/11) Practice field
BEGIN:VALARM
TRIGGER:-P2H
ACTION:DISPLAY
DESCRIPTION:Brown vs Huddleston
END:VALARM
END:VEVENT
BEGIN:VEVENT
UID:putnam-367179@ygametime.com
DTSTAMP:20230513T130000Z
DTSTART;TZID=America/New_York:20230513T090000
DURATION:PT0H90M0S
SUMMARY:Huddleston vs Fancher
DESCRIPTION:9/10 | Soccer\nPutnam County Family YMCA\n
URL;VALUE=URI:https://ygametime.com/branch/putnam/sports/2023-spring-soccer/15757/?utm_medium=calendar&utm_source=team_cal&utm_content=league_url#game-367179
LOCATION:Field 1 (9/11) Practice field
BEGIN:VALARM
TRIGGER:-P2H
ACTION:DISPLAY
DESCRIPTION:Huddleston vs Fancher
END:VALARM
END:VEVENT
BEGIN:VEVENT
UID:putnam-367178@ygametime.com
DTSTAMP:20230513T143000Z
DTSTART;TZID=America/New_York:20230513T103000
DURATION:PT0H90M0S
SUMMARY:Null vs Huddleston
DESCRIPTION:9/10 | Soccer\nPutnam County Family YMCA\n
URL;VALUE=URI:https://ygametime.com/branch/putnam/sports/2023-spring-soccer/15757/?utm_medium=calendar&utm_source=team_cal&utm_content=league_url#game-367178
LOCATION:Field 1 (9/11) Practice field
BEGIN:VALARM
TRIGGER:-P2H
ACTION:DISPLAY
DESCRIPTION:Null vs Huddleston
END:VALARM
END:VEVENT
BEGIN:VEVENT
UID:putnam-384595@ygametime.com
DTSTAMP:20230519T211500Z
DTSTART;TZID=America/New_York:20230519T171500
DURATION:PT0H90M0S
SUMMARY:Fancher vs Huddleston
DESCRIPTION:9/10 | Soccer\nPutnam County Family YMCA\n
URL;VALUE=URI:https://ygametime.com/branch/putnam/sports/2023-spring-soccer/15757/?utm_medium=calendar&utm_source=team_cal&utm_content=league_url#game-384595
LOCATION:Field 1 (9/11) Practice field
BEGIN:VALARM
TRIGGER:-P2H
ACTION:DISPLAY
DESCRIPTION:Fancher vs Huddleston
END:VALARM
END:VEVENT
BEGIN:VEVENT
UID:putnam-384597@ygametime.com
DTSTAMP:20230519T223000Z
DTSTART;TZID=America/New_York:20230519T183000
DURATION:PT0H90M0S
SUMMARY:Ramon vs Huddleston
DESCRIPTION:9/10 | Soccer\nPutnam County Family YMCA\n
URL;VALUE=URI:https://ygametime.com/branch/putnam/sports/2023-spring-soccer/15757/?utm_medium=calendar&utm_source=team_cal&utm_content=league_url#game-384597
LOCATION:Field 1 (9/11) Practice field
BEGIN:VALARM
TRIGGER:-P2H
ACTION:DISPLAY
DESCRIPTION:Ramon vs Huddleston
END:VALARM
END:VEVENT
END:VCALENDAR

