BEGIN:VCALENDAR
VERSION:2.0
PRODID:-//YGAMETIME.com//YGT iCal Creator//EN
METHOD:PUBLISH
X-PUBLISHED-TTL:PT6H
REFRESH-INTERVAL;VALUE=DURATION:PT6H
CALSCALE:GREGORIAN
X-WR-CALNAME:YGAMETIME CALENDAR
BEGIN:VTIMEZONE
TZID:America/New_York
X-LIC-LOCATION:America/New_York
BEGIN:DAYLIGHT
TZOFFSETFROM:-0500
TZOFFSETTO:-0400
TZNAME:EDT
DTSTART:19700308T020000
RRULE:FREQ=YEARLY;BYMONTH=3;BYDAY=2SU
END:DAYLIGHT
BEGIN:STANDARD
TZOFFSETFROM:-0400
TZOFFSETTO:-0500
TZNAME:EST
DTSTART:19701101T020000
RRULE:FREQ=YEARLY;BYMONTH=11;BYDAY=1SU
END:STANDARD
END:VTIMEZONE
BEGIN:VEVENT
UID:putnam-367161@ygametime.com
DTSTAMP:20230401T143000Z
DTSTART;TZID=America/New_York:20230401T103000
DURATION:PT0H90M0S
SUMMARY:Fancher vs Null
DESCRIPTION:9/10 | Soccer\nPutnam County Family YMCA\n
URL;VALUE=URI:https://ygametime.com/branch/putnam/sports/2023-spring-soccer/15757/?utm_medium=calendar&utm_source=team_cal&utm_content=league_url#game-367161
LOCATION:Field 1 (9/11) Practice field
BEGIN:VALARM
TRIGGER:-P2H
ACTION:DISPLAY
DESCRIPTION:Fancher vs Null
END:VALARM
END:VEVENT
BEGIN:VEVENT
UID:putnam-367207@ygametime.com
DTSTAMP:20230415T130000Z
DTSTART;TZID=America/New_York:20230415T090000
DURATION:PT0H90M0S
SUMMARY:Null vs Bowers
DESCRIPTION:9/10 | Soccer\nPutnam County Family YMCA\n
URL;VALUE=URI:https://ygametime.com/branch/putnam/sports/2023-spring-soccer/15757/?utm_medium=calendar&utm_source=team_cal&utm_content=league_url#game-367207
LOCATION:Field 1 (9/11) Practice field
BEGIN:VALARM
TRIGGER:-P2H
ACTION:DISPLAY
DESCRIPTION:Null vs Bowers
END:VALARM
END:VEVENT
BEGIN:VEVENT
UID:putnam-367186@ygametime.com
DTSTAMP:20230415T143000Z
DTSTART;TZID=America/New_York:20230415T103000
DURATION:PT0H90M0S
SUMMARY:Null vs Ramon
DESCRIPTION:9/10 | Soccer\nPutnam County Family YMCA\n
URL;VALUE=URI:https://ygametime.com/branch/putnam/sports/2023-spring-soccer/15757/?utm_medium=calendar&utm_source=team_cal&utm_content=league_url#game-367186
LOCATION:Field 1 (9/11) Practice field
BEGIN:VALARM
TRIGGER:-P2H
ACTION:DISPLAY
DESCRIPTION:Null vs Ramon
END:VALARM
END:VEVENT
BEGIN:VEVENT
UID:putnam-367187@ygametime.com
DTSTAMP:20230417T221500Z
DTSTART;TZID=America/New_York:20230417T181500
DURATION:PT0H90M0S
SUMMARY:Brown vs Null
DESCRIPTION:9/10 | Soccer\nPutnam County Family YMCA\n
URL;VALUE=URI:https://ygametime.com/branch/putnam/sports/2023-spring-soccer/15757/?utm_medium=calendar&utm_source=team_cal&utm_content=league_url#game-367187
LOCATION:Field 1 (9/11) Practice field
BEGIN:VALARM
TRIGGER:-P2H
ACTION:DISPLAY
DESCRIPTION:Brown vs Null
END:VALARM
END:VEVENT
BEGIN:VEVENT
UID:putnam-367172@ygametime.com
DTSTAMP:20230429T143000Z
DTSTART;TZID=America/New_York:20230429T103000
DURATION:PT0H90M0S
SUMMARY:Languri vs Null
DESCRIPTION:9/10 | Soccer\nPutnam County Family YMCA\n
URL;VALUE=URI:https://ygametime.com/branch/putnam/sports/2023-spring-soccer/15757/?utm_medium=calendar&utm_source=team_cal&utm_content=league_url#game-367172
LOCATION:Field 1 (9/11) Practice field
BEGIN:VALARM
TRIGGER:-P2H
ACTION:DISPLAY
DESCRIPTION:Languri vs Null
END:VALARM
END:VEVENT
BEGIN:VEVENT
UID:putnam-383074@ygametime.com
DTSTAMP:20230506T190000Z
DTSTART;TZID=America/New_York:20230506T150000
DURATION:PT0H90M0S
SUMMARY:Fancher vs Null
DESCRIPTION:9/10 | Soccer\nPutnam County Family YMCA\n
URL;VALUE=URI:https://ygametime.com/branch/putnam/sports/2023-spring-soccer/15757/?utm_medium=calendar&utm_source=team_cal&utm_content=league_url#game-383074
LOCATION:Field 1 (9/11) Practice field
BEGIN:VALARM
TRIGGER:-P2H
ACTION:DISPLAY
DESCRIPTION:Fancher vs Null
END:VALARM
END:VEVENT
BEGIN:VEVENT
UID:putnam-367178@ygametime.com
DTSTAMP:20230513T143000Z
DTSTART;TZID=America/New_York:20230513T103000
DURATION:PT0H90M0S
SUMMARY:Null vs Huddleston
DESCRIPTION:9/10 | Soccer\nPutnam County Family YMCA\n
URL;VALUE=URI:https://ygametime.com/branch/putnam/sports/2023-spring-soccer/15757/?utm_medium=calendar&utm_source=team_cal&utm_content=league_url#game-367178
LOCATION:Field 1 (9/11) Practice field
BEGIN:VALARM
TRIGGER:-P2H
ACTION:DISPLAY
DESCRIPTION:Null vs Huddleston
END:VALARM
END:VEVENT
BEGIN:VEVENT
UID:putnam-384594@ygametime.com
DTSTAMP:20230515T211500Z
DTSTART;TZID=America/New_York:20230515T171500
DURATION:PT0H90M0S
SUMMARY:Ramon vs Null
DESCRIPTION:9/10 | Soccer\nPutnam County Family YMCA\n
URL;VALUE=URI:https://ygametime.com/branch/putnam/sports/2023-spring-soccer/15757/?utm_medium=calendar&utm_source=team_cal&utm_content=league_url#game-384594
LOCATION:Field 1 (9/11) Practice field
BEGIN:VALARM
TRIGGER:-P2H
ACTION:DISPLAY
DESCRIPTION:Ramon vs Null
END:VALARM
END:VEVENT
END:VCALENDAR

