BEGIN:VCALENDAR
VERSION:2.0
PRODID:-//YGAMETIME.com//YGT iCal Creator//EN
METHOD:PUBLISH
X-PUBLISHED-TTL:PT6H
REFRESH-INTERVAL;VALUE=DURATION:PT6H
CALSCALE:GREGORIAN
X-WR-CALNAME:YGAMETIME CALENDAR
BEGIN:VTIMEZONE
TZID:America/New_York
X-LIC-LOCATION:America/New_York
BEGIN:DAYLIGHT
TZOFFSETFROM:-0500
TZOFFSETTO:-0400
TZNAME:EDT
DTSTART:19700308T020000
RRULE:FREQ=YEARLY;BYMONTH=3;BYDAY=2SU
END:DAYLIGHT
BEGIN:STANDARD
TZOFFSETFROM:-0400
TZOFFSETTO:-0500
TZNAME:EST
DTSTART:19701101T020000
RRULE:FREQ=YEARLY;BYMONTH=11;BYDAY=1SU
END:STANDARD
END:VTIMEZONE
BEGIN:VEVENT
UID:putnam-367159@ygametime.com
DTSTAMP:20230401T130000Z
DTSTART;TZID=America/New_York:20230401T090000
DURATION:PT0H90M0S
SUMMARY:Languri vs Ramon
DESCRIPTION:9/10 | Soccer\nPutnam County Family YMCA\n
URL;VALUE=URI:https://ygametime.com/branch/putnam/sports/2023-spring-soccer/15757/?utm_medium=calendar&utm_source=team_cal&utm_content=league_url#game-367159
LOCATION:Field 1 (9/11) Practice field
BEGIN:VALARM
TRIGGER:-P2H
ACTION:DISPLAY
DESCRIPTION:Languri vs Ramon
END:VALARM
END:VEVENT
BEGIN:VEVENT
UID:putnam-367186@ygametime.com
DTSTAMP:20230415T143000Z
DTSTART;TZID=America/New_York:20230415T103000
DURATION:PT0H90M0S
SUMMARY:Null vs Ramon
DESCRIPTION:9/10 | Soccer\nPutnam County Family YMCA\n
URL;VALUE=URI:https://ygametime.com/branch/putnam/sports/2023-spring-soccer/15757/?utm_medium=calendar&utm_source=team_cal&utm_content=league_url#game-367186
LOCATION:Field 1 (9/11) Practice field
BEGIN:VALARM
TRIGGER:-P2H
ACTION:DISPLAY
DESCRIPTION:Null vs Ramon
END:VALARM
END:VEVENT
BEGIN:VEVENT
UID:putnam-367189@ygametime.com
DTSTAMP:20230420T213000Z
DTSTART;TZID=America/New_York:20230420T173000
DURATION:PT0H90M0S
SUMMARY:Fancher vs Ramon
DESCRIPTION:9/10 | Soccer\nPutnam County Family YMCA\n
URL;VALUE=URI:https://ygametime.com/branch/putnam/sports/2023-spring-soccer/15757/?utm_medium=calendar&utm_source=team_cal&utm_content=league_url#game-367189
LOCATION:Field 1 (9/11) Practice field
BEGIN:VALARM
TRIGGER:-P2H
ACTION:DISPLAY
DESCRIPTION:Fancher vs Ramon
END:VALARM
END:VEVENT
BEGIN:VEVENT
UID:putnam-367171@ygametime.com
DTSTAMP:20230429T130000Z
DTSTART;TZID=America/New_York:20230429T090000
DURATION:PT0H90M0S
SUMMARY:Ramon vs Brown
DESCRIPTION:9/10 | Soccer\nPutnam County Family YMCA\n
URL;VALUE=URI:https://ygametime.com/branch/putnam/sports/2023-spring-soccer/15757/?utm_medium=calendar&utm_source=team_cal&utm_content=league_url#game-367171
LOCATION:Field 1 (9/11) Practice field
BEGIN:VALARM
TRIGGER:-P2H
ACTION:DISPLAY
DESCRIPTION:Ramon vs Brown
END:VALARM
END:VEVENT
BEGIN:VEVENT
UID:putnam-367174@ygametime.com
DTSTAMP:20230506T143000Z
DTSTART;TZID=America/New_York:20230506T103000
DURATION:PT0H90M0S
SUMMARY:Languri vs Ramon
DESCRIPTION:9/10 | Soccer\nPutnam County Family YMCA\n
URL;VALUE=URI:https://ygametime.com/branch/putnam/sports/2023-spring-soccer/15757/?utm_medium=calendar&utm_source=team_cal&utm_content=league_url#game-367174
LOCATION:Field 1 (9/11) Practice field
BEGIN:VALARM
TRIGGER:-P2H
ACTION:DISPLAY
DESCRIPTION:Languri vs Ramon
END:VALARM
END:VEVENT
BEGIN:VEVENT
UID:putnam-367184@ygametime.com
DTSTAMP:20230506T160000Z
DTSTART;TZID=America/New_York:20230506T120000
DURATION:PT0H90M0S
SUMMARY:Bowers vs Ramon
DESCRIPTION:9/10 | Soccer\nPutnam County Family YMCA\n
URL;VALUE=URI:https://ygametime.com/branch/putnam/sports/2023-spring-soccer/15757/?utm_medium=calendar&utm_source=team_cal&utm_content=league_url#game-367184
LOCATION:Field 1 (9/11) Practice field
BEGIN:VALARM
TRIGGER:-P2H
ACTION:DISPLAY
DESCRIPTION:Bowers vs Ramon
END:VALARM
END:VEVENT
BEGIN:VEVENT
UID:putnam-384594@ygametime.com
DTSTAMP:20230515T211500Z
DTSTART;TZID=America/New_York:20230515T171500
DURATION:PT0H90M0S
SUMMARY:Ramon vs Null
DESCRIPTION:9/10 | Soccer\nPutnam County Family YMCA\n
URL;VALUE=URI:https://ygametime.com/branch/putnam/sports/2023-spring-soccer/15757/?utm_medium=calendar&utm_source=team_cal&utm_content=league_url#game-384594
LOCATION:Field 1 (9/11) Practice field
BEGIN:VALARM
TRIGGER:-P2H
ACTION:DISPLAY
DESCRIPTION:Ramon vs Null
END:VALARM
END:VEVENT
BEGIN:VEVENT
UID:putnam-384597@ygametime.com
DTSTAMP:20230519T223000Z
DTSTART;TZID=America/New_York:20230519T183000
DURATION:PT0H90M0S
SUMMARY:Ramon vs Huddleston
DESCRIPTION:9/10 | Soccer\nPutnam County Family YMCA\n
URL;VALUE=URI:https://ygametime.com/branch/putnam/sports/2023-spring-soccer/15757/?utm_medium=calendar&utm_source=team_cal&utm_content=league_url#game-384597
LOCATION:Field 1 (9/11) Practice field
BEGIN:VALARM
TRIGGER:-P2H
ACTION:DISPLAY
DESCRIPTION:Ramon vs Huddleston
END:VALARM
END:VEVENT
BEGIN:VEVENT
UID:putnam-384598@ygametime.com
DTSTAMP:20230523T224500Z
DTSTART;TZID=America/New_York:20230523T184500
DURATION:PT0H90M0S
SUMMARY:Bowers vs Ramon
DESCRIPTION:9/10 | Soccer\nPutnam County Family YMCA\n
URL;VALUE=URI:https://ygametime.com/branch/putnam/sports/2023-spring-soccer/15757/?utm_medium=calendar&utm_source=team_cal&utm_content=league_url#game-384598
LOCATION:Field 1 (9/11) Practice field
BEGIN:VALARM
TRIGGER:-P2H
ACTION:DISPLAY
DESCRIPTION:Bowers vs Ramon
END:VALARM
END:VEVENT
END:VCALENDAR

