BEGIN:VCALENDAR
VERSION:2.0
PRODID:-//YGAMETIME.com//YGT iCal Creator//EN
METHOD:PUBLISH
X-PUBLISHED-TTL:PT6H
REFRESH-INTERVAL;VALUE=DURATION:PT6H
CALSCALE:GREGORIAN
X-WR-CALNAME:YGAMETIME CALENDAR
BEGIN:VTIMEZONE
TZID:America/New_York
X-LIC-LOCATION:America/New_York
BEGIN:DAYLIGHT
TZOFFSETFROM:-0500
TZOFFSETTO:-0400
TZNAME:EDT
DTSTART:19700308T020000
RRULE:FREQ=YEARLY;BYMONTH=3;BYDAY=2SU
END:DAYLIGHT
BEGIN:STANDARD
TZOFFSETFROM:-0400
TZOFFSETTO:-0500
TZNAME:EST
DTSTART:19701101T020000
RRULE:FREQ=YEARLY;BYMONTH=11;BYDAY=1SU
END:STANDARD
END:VTIMEZONE
BEGIN:VEVENT
UID:putnam-367094@ygametime.com
DTSTAMP:20230401T160000Z
DTSTART;TZID=America/New_York:20230401T120000
DURATION:PT0H90M0S
SUMMARY:Tonietti vs Wallace
DESCRIPTION:11-14 | Soccer\nPutnam County Family YMCA\n
URL;VALUE=URI:https://ygametime.com/branch/putnam/sports/2023-spring-soccer/15758/?utm_medium=calendar&utm_source=team_cal&utm_content=league_url#game-367094
LOCATION:Field 6 (9/11 Game Field)
BEGIN:VALARM
TRIGGER:-P2H
ACTION:DISPLAY
DESCRIPTION:Tonietti vs Wallace
END:VALARM
END:VEVENT
BEGIN:VEVENT
UID:putnam-367082@ygametime.com
DTSTAMP:20230415T130000Z
DTSTART;TZID=America/New_York:20230415T090000
DURATION:PT0H90M0S
SUMMARY:Tonietti vs Wallace
DESCRIPTION:11-14 | Soccer\nPutnam County Family YMCA\n
URL;VALUE=URI:https://ygametime.com/branch/putnam/sports/2023-spring-soccer/15758/?utm_medium=calendar&utm_source=team_cal&utm_content=league_url#game-367082
LOCATION:Field 6 (9/11 Game Field)
BEGIN:VALARM
TRIGGER:-P2H
ACTION:DISPLAY
DESCRIPTION:Tonietti vs Wallace
END:VALARM
END:VEVENT
BEGIN:VEVENT
UID:putnam-367085@ygametime.com
DTSTAMP:20230422T160000Z
DTSTART;TZID=America/New_York:20230422T120000
DURATION:PT0H90M0S
SUMMARY:Teyo vs Tonietti
DESCRIPTION:11-14 | Soccer\nPutnam County Family YMCA\n
URL;VALUE=URI:https://ygametime.com/branch/putnam/sports/2023-spring-soccer/15758/?utm_medium=calendar&utm_source=team_cal&utm_content=league_url#game-367085
LOCATION:Field 6 (9/11 Game Field)
BEGIN:VALARM
TRIGGER:-P2H
ACTION:DISPLAY
DESCRIPTION:Teyo vs Tonietti
END:VALARM
END:VEVENT
BEGIN:VEVENT
UID:putnam-383255@ygametime.com
DTSTAMP:20230425T213000Z
DTSTART;TZID=America/New_York:20230425T173000
DURATION:PT0H90M0S
SUMMARY:Bowers vs Tonietti
DESCRIPTION:11-14 | Soccer\nPutnam County Family YMCA\n
URL;VALUE=URI:https://ygametime.com/branch/putnam/sports/2023-spring-soccer/15758/?utm_medium=calendar&utm_source=team_cal&utm_content=league_url#game-383255
LOCATION:Field 6 (9/11 Game Field)
BEGIN:VALARM
TRIGGER:-P2H
ACTION:DISPLAY
DESCRIPTION:Bowers vs Tonietti
END:VALARM
END:VEVENT
BEGIN:VEVENT
UID:putnam-367087@ygametime.com
DTSTAMP:20230429T143000Z
DTSTART;TZID=America/New_York:20230429T103000
DURATION:PT0H90M0S
SUMMARY:Tonietti vs Bowers
DESCRIPTION:11-14 | Soccer\nPutnam County Family YMCA\n
URL;VALUE=URI:https://ygametime.com/branch/putnam/sports/2023-spring-soccer/15758/?utm_medium=calendar&utm_source=team_cal&utm_content=league_url#game-367087
LOCATION:Field 6 (9/11 Game Field)
BEGIN:VALARM
TRIGGER:-P2H
ACTION:DISPLAY
DESCRIPTION:Tonietti vs Bowers
END:VALARM
END:VEVENT
BEGIN:VEVENT
UID:putnam-382306@ygametime.com
DTSTAMP:20230429T160000Z
DTSTART;TZID=America/New_York:20230429T120000
DURATION:PT0H90M0S
SUMMARY:Tonietti vs Teyo
DESCRIPTION:11-14 | Soccer\nPutnam County Family YMCA\n
URL;VALUE=URI:https://ygametime.com/branch/putnam/sports/2023-spring-soccer/15758/?utm_medium=calendar&utm_source=team_cal&utm_content=league_url#game-382306
LOCATION:Field 6 (9/11 Game Field)
BEGIN:VALARM
TRIGGER:-P2H
ACTION:DISPLAY
DESCRIPTION:Tonietti vs Teyo
END:VALARM
END:VEVENT
BEGIN:VEVENT
UID:putnam-367091@ygametime.com
DTSTAMP:20230513T143000Z
DTSTART;TZID=America/New_York:20230513T103000
DURATION:PT0H90M0S
SUMMARY:Mack vs Tonietti
DESCRIPTION:11-14 | Soccer\nPutnam County Family YMCA\n
URL;VALUE=URI:https://ygametime.com/branch/putnam/sports/2023-spring-soccer/15758/?utm_medium=calendar&utm_source=team_cal&utm_content=league_url#game-367091
LOCATION:Field 6 (9/11 Game Field)
BEGIN:VALARM
TRIGGER:-P2H
ACTION:DISPLAY
DESCRIPTION:Mack vs Tonietti
END:VALARM
END:VEVENT
BEGIN:VEVENT
UID:putnam-383627@ygametime.com
DTSTAMP:20230517T211500Z
DTSTART;TZID=America/New_York:20230517T171500
DURATION:PT0H90M0S
SUMMARY:Tonietti vs Teyo
DESCRIPTION:11-14 | Soccer\nPutnam County Family YMCA\n
URL;VALUE=URI:https://ygametime.com/branch/putnam/sports/2023-spring-soccer/15758/?utm_medium=calendar&utm_source=team_cal&utm_content=league_url#game-383627
LOCATION:Field 6 (9/11 Game Field)
BEGIN:VALARM
TRIGGER:-P2H
ACTION:DISPLAY
DESCRIPTION:Tonietti vs Teyo
END:VALARM
END:VEVENT
BEGIN:VEVENT
UID:putnam-383629@ygametime.com
DTSTAMP:20230523T211500Z
DTSTART;TZID=America/New_York:20230523T171500
DURATION:PT0H90M0S
SUMMARY:Tonietti vs Bowers
DESCRIPTION:11-14 | Soccer\nPutnam County Family YMCA\n
URL;VALUE=URI:https://ygametime.com/branch/putnam/sports/2023-spring-soccer/15758/?utm_medium=calendar&utm_source=team_cal&utm_content=league_url#game-383629
LOCATION:Field 6 (9/11 Game Field)
BEGIN:VALARM
TRIGGER:-P2H
ACTION:DISPLAY
DESCRIPTION:Tonietti vs Bowers
END:VALARM
END:VEVENT
END:VCALENDAR

