BEGIN:VCALENDAR
VERSION:2.0
PRODID:-//YGAMETIME.com//YGT iCal Creator//EN
METHOD:PUBLISH
X-PUBLISHED-TTL:PT6H
REFRESH-INTERVAL;VALUE=DURATION:PT6H
CALSCALE:GREGORIAN
X-WR-CALNAME:YGAMETIME CALENDAR
BEGIN:VTIMEZONE
TZID:America/New_York
X-LIC-LOCATION:America/New_York
BEGIN:DAYLIGHT
TZOFFSETFROM:-0500
TZOFFSETTO:-0400
TZNAME:EDT
DTSTART:19700308T020000
RRULE:FREQ=YEARLY;BYMONTH=3;BYDAY=2SU
END:DAYLIGHT
BEGIN:STANDARD
TZOFFSETFROM:-0400
TZOFFSETTO:-0500
TZNAME:EST
DTSTART:19701101T020000
RRULE:FREQ=YEARLY;BYMONTH=11;BYDAY=1SU
END:STANDARD
END:VTIMEZONE
BEGIN:VEVENT
UID:putnam-367078@ygametime.com
DTSTAMP:20230401T130000Z
DTSTART;TZID=America/New_York:20230401T090000
DURATION:PT0H90M0S
SUMMARY:Teyo vs Mack
DESCRIPTION:11-14 | Soccer\nPutnam County Family YMCA\n
URL;VALUE=URI:https://ygametime.com/branch/putnam/sports/2023-spring-soccer/15758/?utm_medium=calendar&utm_source=team_cal&utm_content=league_url#game-367078
LOCATION:Field 6 (9/11 Game Field)
BEGIN:VALARM
TRIGGER:-P2H
ACTION:DISPLAY
DESCRIPTION:Teyo vs Mack
END:VALARM
END:VEVENT
BEGIN:VEVENT
UID:putnam-367083@ygametime.com
DTSTAMP:20230415T143000Z
DTSTART;TZID=America/New_York:20230415T103000
DURATION:PT0H90M0S
SUMMARY:Teyo vs Mack
DESCRIPTION:11-14 | Soccer\nPutnam County Family YMCA\n
URL;VALUE=URI:https://ygametime.com/branch/putnam/sports/2023-spring-soccer/15758/?utm_medium=calendar&utm_source=team_cal&utm_content=league_url#game-367083
LOCATION:Field 6 (9/11 Game Field)
BEGIN:VALARM
TRIGGER:-P2H
ACTION:DISPLAY
DESCRIPTION:Teyo vs Mack
END:VALARM
END:VEVENT
BEGIN:VEVENT
UID:putnam-367085@ygametime.com
DTSTAMP:20230422T160000Z
DTSTART;TZID=America/New_York:20230422T120000
DURATION:PT0H90M0S
SUMMARY:Teyo vs Tonietti
DESCRIPTION:11-14 | Soccer\nPutnam County Family YMCA\n
URL;VALUE=URI:https://ygametime.com/branch/putnam/sports/2023-spring-soccer/15758/?utm_medium=calendar&utm_source=team_cal&utm_content=league_url#game-367085
LOCATION:Field 6 (9/11 Game Field)
BEGIN:VALARM
TRIGGER:-P2H
ACTION:DISPLAY
DESCRIPTION:Teyo vs Tonietti
END:VALARM
END:VEVENT
BEGIN:VEVENT
UID:putnam-382306@ygametime.com
DTSTAMP:20230429T160000Z
DTSTART;TZID=America/New_York:20230429T120000
DURATION:PT0H90M0S
SUMMARY:Tonietti vs Teyo
DESCRIPTION:11-14 | Soccer\nPutnam County Family YMCA\n
URL;VALUE=URI:https://ygametime.com/branch/putnam/sports/2023-spring-soccer/15758/?utm_medium=calendar&utm_source=team_cal&utm_content=league_url#game-382306
LOCATION:Field 6 (9/11 Game Field)
BEGIN:VALARM
TRIGGER:-P2H
ACTION:DISPLAY
DESCRIPTION:Tonietti vs Teyo
END:VALARM
END:VEVENT
BEGIN:VEVENT
UID:putnam-367089@ygametime.com
DTSTAMP:20230506T143000Z
DTSTART;TZID=America/New_York:20230506T103000
DURATION:PT0H90M0S
SUMMARY:Teyo vs Bowers
DESCRIPTION:11-14 | Soccer\nPutnam County Family YMCA\n
URL;VALUE=URI:https://ygametime.com/branch/putnam/sports/2023-spring-soccer/15758/?utm_medium=calendar&utm_source=team_cal&utm_content=league_url#game-367089
LOCATION:Field 6 (9/11 Game Field)
BEGIN:VALARM
TRIGGER:-P2H
ACTION:DISPLAY
DESCRIPTION:Teyo vs Bowers
END:VALARM
END:VEVENT
BEGIN:VEVENT
UID:putnam-367090@ygametime.com
DTSTAMP:20230513T130000Z
DTSTART;TZID=America/New_York:20230513T090000
DURATION:PT0H90M0S
SUMMARY:Teyo vs Wallace
DESCRIPTION:11-14 | Soccer\nPutnam County Family YMCA\n
URL;VALUE=URI:https://ygametime.com/branch/putnam/sports/2023-spring-soccer/15758/?utm_medium=calendar&utm_source=team_cal&utm_content=league_url#game-367090
LOCATION:Field 6 (9/11 Game Field)
BEGIN:VALARM
TRIGGER:-P2H
ACTION:DISPLAY
DESCRIPTION:Teyo vs Wallace
END:VALARM
END:VEVENT
BEGIN:VEVENT
UID:putnam-383626@ygametime.com
DTSTAMP:20230515T223000Z
DTSTART;TZID=America/New_York:20230515T183000
DURATION:PT0H90M0S
SUMMARY:Teyo vs Mack
DESCRIPTION:11-14 | Soccer\nPutnam County Family YMCA\n
URL;VALUE=URI:https://ygametime.com/branch/putnam/sports/2023-spring-soccer/15758/?utm_medium=calendar&utm_source=team_cal&utm_content=league_url#game-383626
LOCATION:Field 6 (9/11 Game Field)
BEGIN:VALARM
TRIGGER:-P2H
ACTION:DISPLAY
DESCRIPTION:Teyo vs Mack
END:VALARM
END:VEVENT
BEGIN:VEVENT
UID:putnam-383627@ygametime.com
DTSTAMP:20230517T211500Z
DTSTART;TZID=America/New_York:20230517T171500
DURATION:PT0H90M0S
SUMMARY:Tonietti vs Teyo
DESCRIPTION:11-14 | Soccer\nPutnam County Family YMCA\n
URL;VALUE=URI:https://ygametime.com/branch/putnam/sports/2023-spring-soccer/15758/?utm_medium=calendar&utm_source=team_cal&utm_content=league_url#game-383627
LOCATION:Field 6 (9/11 Game Field)
BEGIN:VALARM
TRIGGER:-P2H
ACTION:DISPLAY
DESCRIPTION:Tonietti vs Teyo
END:VALARM
END:VEVENT
END:VCALENDAR

