BEGIN:VCALENDAR
VERSION:2.0
PRODID:-//YGAMETIME.com//YGT iCal Creator//EN
METHOD:PUBLISH
X-PUBLISHED-TTL:PT6H
REFRESH-INTERVAL;VALUE=DURATION:PT6H
CALSCALE:GREGORIAN
X-WR-CALNAME:YGAMETIME CALENDAR
BEGIN:VTIMEZONE
TZID:America/New_York
X-LIC-LOCATION:America/New_York
BEGIN:DAYLIGHT
TZOFFSETFROM:-0500
TZOFFSETTO:-0400
TZNAME:EDT
DTSTART:19700308T020000
RRULE:FREQ=YEARLY;BYMONTH=3;BYDAY=2SU
END:DAYLIGHT
BEGIN:STANDARD
TZOFFSETFROM:-0400
TZOFFSETTO:-0500
TZNAME:EST
DTSTART:19701101T020000
RRULE:FREQ=YEARLY;BYMONTH=11;BYDAY=1SU
END:STANDARD
END:VTIMEZONE
BEGIN:VEVENT
UID:putnam-367079@ygametime.com
DTSTAMP:20230401T143000Z
DTSTART;TZID=America/New_York:20230401T103000
DURATION:PT0H90M0S
SUMMARY:Wallace vs Bowers
DESCRIPTION:11-14 | Soccer\nPutnam County Family YMCA\n
URL;VALUE=URI:https://ygametime.com/branch/putnam/sports/2023-spring-soccer/15758/?utm_medium=calendar&utm_source=team_cal&utm_content=league_url#game-367079
LOCATION:Field 6 (9/11 Game Field)
BEGIN:VALARM
TRIGGER:-P2H
ACTION:DISPLAY
DESCRIPTION:Wallace vs Bowers
END:VALARM
END:VEVENT
BEGIN:VEVENT
UID:putnam-367094@ygametime.com
DTSTAMP:20230401T160000Z
DTSTART;TZID=America/New_York:20230401T120000
DURATION:PT0H90M0S
SUMMARY:Tonietti vs Wallace
DESCRIPTION:11-14 | Soccer\nPutnam County Family YMCA\n
URL;VALUE=URI:https://ygametime.com/branch/putnam/sports/2023-spring-soccer/15758/?utm_medium=calendar&utm_source=team_cal&utm_content=league_url#game-367094
LOCATION:Field 6 (9/11 Game Field)
BEGIN:VALARM
TRIGGER:-P2H
ACTION:DISPLAY
DESCRIPTION:Tonietti vs Wallace
END:VALARM
END:VEVENT
BEGIN:VEVENT
UID:putnam-367082@ygametime.com
DTSTAMP:20230415T130000Z
DTSTART;TZID=America/New_York:20230415T090000
DURATION:PT0H90M0S
SUMMARY:Tonietti vs Wallace
DESCRIPTION:11-14 | Soccer\nPutnam County Family YMCA\n
URL;VALUE=URI:https://ygametime.com/branch/putnam/sports/2023-spring-soccer/15758/?utm_medium=calendar&utm_source=team_cal&utm_content=league_url#game-367082
LOCATION:Field 6 (9/11 Game Field)
BEGIN:VALARM
TRIGGER:-P2H
ACTION:DISPLAY
DESCRIPTION:Tonietti vs Wallace
END:VALARM
END:VEVENT
BEGIN:VEVENT
UID:putnam-367084@ygametime.com
DTSTAMP:20230422T143000Z
DTSTART;TZID=America/New_York:20230422T103000
DURATION:PT0H90M0S
SUMMARY:Wallace vs Mack
DESCRIPTION:11-14 | Soccer\nPutnam County Family YMCA\n
URL;VALUE=URI:https://ygametime.com/branch/putnam/sports/2023-spring-soccer/15758/?utm_medium=calendar&utm_source=team_cal&utm_content=league_url#game-367084
LOCATION:Field 6 (9/11 Game Field)
BEGIN:VALARM
TRIGGER:-P2H
ACTION:DISPLAY
DESCRIPTION:Wallace vs Mack
END:VALARM
END:VEVENT
BEGIN:VEVENT
UID:putnam-367088@ygametime.com
DTSTAMP:20230506T130000Z
DTSTART;TZID=America/New_York:20230506T090000
DURATION:PT0H90M0S
SUMMARY:Wallace vs Mack
DESCRIPTION:11-14 | Soccer\nPutnam County Family YMCA\n
URL;VALUE=URI:https://ygametime.com/branch/putnam/sports/2023-spring-soccer/15758/?utm_medium=calendar&utm_source=team_cal&utm_content=league_url#game-367088
LOCATION:Field 6 (9/11 Game Field)
BEGIN:VALARM
TRIGGER:-P2H
ACTION:DISPLAY
DESCRIPTION:Wallace vs Mack
END:VALARM
END:VEVENT
BEGIN:VEVENT
UID:putnam-367090@ygametime.com
DTSTAMP:20230513T130000Z
DTSTART;TZID=America/New_York:20230513T090000
DURATION:PT0H90M0S
SUMMARY:Teyo vs Wallace
DESCRIPTION:11-14 | Soccer\nPutnam County Family YMCA\n
URL;VALUE=URI:https://ygametime.com/branch/putnam/sports/2023-spring-soccer/15758/?utm_medium=calendar&utm_source=team_cal&utm_content=league_url#game-367090
LOCATION:Field 6 (9/11 Game Field)
BEGIN:VALARM
TRIGGER:-P2H
ACTION:DISPLAY
DESCRIPTION:Teyo vs Wallace
END:VALARM
END:VEVENT
BEGIN:VEVENT
UID:putnam-383628@ygametime.com
DTSTAMP:20230519T201500Z
DTSTART;TZID=America/New_York:20230519T161500
DURATION:PT0H90M0S
SUMMARY:Bowers vs Wallace
DESCRIPTION:11-14 | Soccer\nPutnam County Family YMCA\n
URL;VALUE=URI:https://ygametime.com/branch/putnam/sports/2023-spring-soccer/15758/?utm_medium=calendar&utm_source=team_cal&utm_content=league_url#game-383628
LOCATION:Field 6 (9/11 Game Field)
BEGIN:VALARM
TRIGGER:-P2H
ACTION:DISPLAY
DESCRIPTION:Bowers vs Wallace
END:VALARM
END:VEVENT
END:VCALENDAR

