BEGIN:VCALENDAR
VERSION:2.0
PRODID:-//YGAMETIME.com//YGT iCal Creator//EN
METHOD:PUBLISH
X-PUBLISHED-TTL:PT6H
REFRESH-INTERVAL;VALUE=DURATION:PT6H
CALSCALE:GREGORIAN
X-WR-CALNAME:YGAMETIME CALENDAR
BEGIN:VTIMEZONE
TZID:America/New_York
X-LIC-LOCATION:America/New_York
BEGIN:DAYLIGHT
TZOFFSETFROM:-0500
TZOFFSETTO:-0400
TZNAME:EDT
DTSTART:19700308T020000
RRULE:FREQ=YEARLY;BYMONTH=3;BYDAY=2SU
END:DAYLIGHT
BEGIN:STANDARD
TZOFFSETFROM:-0400
TZOFFSETTO:-0500
TZNAME:EST
DTSTART:19701101T020000
RRULE:FREQ=YEARLY;BYMONTH=11;BYDAY=1SU
END:STANDARD
END:VTIMEZONE
BEGIN:VEVENT
UID:putnam-366844@ygametime.com
DTSTAMP:20230401T123000Z
DTSTART;TZID=America/New_York:20230401T083000
DURATION:PT0H45M0S
SUMMARY:Dartez vs Paramore
DESCRIPTION:3/4 | Soccer\nPutnam County Family YMCA\n
URL;VALUE=URI:https://ygametime.com/branch/putnam/sports/2023-spring-soccer/15754/?utm_medium=calendar&utm_source=team_cal&utm_content=league_url#game-366844
LOCATION:Field 7 (3/4)
BEGIN:VALARM
TRIGGER:-P2H
ACTION:DISPLAY
DESCRIPTION:Dartez vs Paramore
END:VALARM
END:VEVENT
BEGIN:VEVENT
UID:putnam-366885@ygametime.com
DTSTAMP:20230404T213000Z
DTSTART;TZID=America/New_York:20230404T173000
DURATION:PT0H45M0S
SUMMARY:Mapes vs Paramore
DESCRIPTION:3/4 | Soccer\nPutnam County Family YMCA\n
URL;VALUE=URI:https://ygametime.com/branch/putnam/sports/2023-spring-soccer/15754/?utm_medium=calendar&utm_source=team_cal&utm_content=league_url#game-366885
LOCATION:Field 7 (3/4)
BEGIN:VALARM
TRIGGER:-P2H
ACTION:DISPLAY
DESCRIPTION:Mapes vs Paramore
END:VALARM
END:VEVENT
BEGIN:VEVENT
UID:putnam-366854@ygametime.com
DTSTAMP:20230415T131500Z
DTSTART;TZID=America/New_York:20230415T091500
DURATION:PT0H45M0S
SUMMARY:Mills vs Paramore
DESCRIPTION:3/4 | Soccer\nPutnam County Family YMCA\n
URL;VALUE=URI:https://ygametime.com/branch/putnam/sports/2023-spring-soccer/15754/?utm_medium=calendar&utm_source=team_cal&utm_content=league_url#game-366854
LOCATION:Field 9 (3/4)
BEGIN:VALARM
TRIGGER:-P2H
ACTION:DISPLAY
DESCRIPTION:Mills vs Paramore
END:VALARM
END:VEVENT
BEGIN:VEVENT
UID:putnam-368290@ygametime.com
DTSTAMP:20230425T214500Z
DTSTART;TZID=America/New_York:20230425T174500
DURATION:PT0H45M0S
SUMMARY:Hafner vs Paramore
DESCRIPTION:3/4 | Soccer\nPutnam County Family YMCA\n
URL;VALUE=URI:https://ygametime.com/branch/putnam/sports/2023-spring-soccer/15754/?utm_medium=calendar&utm_source=team_cal&utm_content=league_url#game-368290
LOCATION:Field 7 (3/4)
BEGIN:VALARM
TRIGGER:-P2H
ACTION:DISPLAY
DESCRIPTION:Hafner vs Paramore
END:VALARM
END:VEVENT
BEGIN:VEVENT
UID:putnam-366867@ygametime.com
DTSTAMP:20230506T144500Z
DTSTART;TZID=America/New_York:20230506T104500
DURATION:PT0H45M0S
SUMMARY:Paramore vs Cotten
DESCRIPTION:3/4 | Soccer\nPutnam County Family YMCA\n
URL;VALUE=URI:https://ygametime.com/branch/putnam/sports/2023-spring-soccer/15754/?utm_medium=calendar&utm_source=team_cal&utm_content=league_url#game-366867
LOCATION:Field 9 (3/4)
BEGIN:VALARM
TRIGGER:-P2H
ACTION:DISPLAY
DESCRIPTION:Paramore vs Cotten
END:VALARM
END:VEVENT
BEGIN:VEVENT
UID:putnam-366870@ygametime.com
DTSTAMP:20230513T140000Z
DTSTART;TZID=America/New_York:20230513T100000
DURATION:PT0H45M0S
SUMMARY:Gilpin vs Paramore
DESCRIPTION:3/4 | Soccer\nPutnam County Family YMCA\n
URL;VALUE=URI:https://ygametime.com/branch/putnam/sports/2023-spring-soccer/15754/?utm_medium=calendar&utm_source=team_cal&utm_content=league_url#game-366870
LOCATION:Field 7 (3/4)
BEGIN:VALARM
TRIGGER:-P2H
ACTION:DISPLAY
DESCRIPTION:Gilpin vs Paramore
END:VALARM
END:VEVENT
END:VCALENDAR

