BEGIN:VCALENDAR
VERSION:2.0
PRODID:-//YGAMETIME.com//YGT iCal Creator//EN
METHOD:PUBLISH
X-PUBLISHED-TTL:PT6H
REFRESH-INTERVAL;VALUE=DURATION:PT6H
CALSCALE:GREGORIAN
X-WR-CALNAME:YGAMETIME CALENDAR
BEGIN:VTIMEZONE
TZID:America/New_York
X-LIC-LOCATION:America/New_York
BEGIN:DAYLIGHT
TZOFFSETFROM:-0500
TZOFFSETTO:-0400
TZNAME:EDT
DTSTART:19700308T020000
RRULE:FREQ=YEARLY;BYMONTH=3;BYDAY=2SU
END:DAYLIGHT
BEGIN:STANDARD
TZOFFSETFROM:-0400
TZOFFSETTO:-0500
TZNAME:EST
DTSTART:19701101T020000
RRULE:FREQ=YEARLY;BYMONTH=11;BYDAY=1SU
END:STANDARD
END:VTIMEZONE
BEGIN:VEVENT
UID:putnam-366845@ygametime.com
DTSTAMP:20230401T131500Z
DTSTART;TZID=America/New_York:20230401T091500
DURATION:PT0H45M0S
SUMMARY:Mapes vs Gilpin
DESCRIPTION:3/4 | Soccer\nPutnam County Family YMCA\n
URL;VALUE=URI:https://ygametime.com/branch/putnam/sports/2023-spring-soccer/15754/?utm_medium=calendar&utm_source=team_cal&utm_content=league_url#game-366845
LOCATION:Field 9 (3/4)
BEGIN:VALARM
TRIGGER:-P2H
ACTION:DISPLAY
DESCRIPTION:Mapes vs Gilpin
END:VALARM
END:VEVENT
BEGIN:VEVENT
UID:putnam-366852@ygametime.com
DTSTAMP:20230415T123000Z
DTSTART;TZID=America/New_York:20230415T083000
DURATION:PT0H45M0S
SUMMARY:Krebs vs Gilpin
DESCRIPTION:3/4 | Soccer\nPutnam County Family YMCA\n
URL;VALUE=URI:https://ygametime.com/branch/putnam/sports/2023-spring-soccer/15754/?utm_medium=calendar&utm_source=team_cal&utm_content=league_url#game-366852
LOCATION:Field 7 (3/4)
BEGIN:VALARM
TRIGGER:-P2H
ACTION:DISPLAY
DESCRIPTION:Krebs vs Gilpin
END:VALARM
END:VEVENT
BEGIN:VEVENT
UID:putnam-366856@ygametime.com
DTSTAMP:20230422T123000Z
DTSTART;TZID=America/New_York:20230422T083000
DURATION:PT0H45M0S
SUMMARY:Mills vs Gilpin
DESCRIPTION:3/4 | Soccer\nPutnam County Family YMCA\n
URL;VALUE=URI:https://ygametime.com/branch/putnam/sports/2023-spring-soccer/15754/?utm_medium=calendar&utm_source=team_cal&utm_content=league_url#game-366856
LOCATION:Field 7 (3/4)
BEGIN:VALARM
TRIGGER:-P2H
ACTION:DISPLAY
DESCRIPTION:Mills vs Gilpin
END:VALARM
END:VEVENT
BEGIN:VEVENT
UID:putnam-366877@ygametime.com
DTSTAMP:20230424T213000Z
DTSTART;TZID=America/New_York:20230424T173000
DURATION:PT0H45M0S
SUMMARY:Gilpin vs Krebs
DESCRIPTION:3/4 | Soccer\nPutnam County Family YMCA\n
URL;VALUE=URI:https://ygametime.com/branch/putnam/sports/2023-spring-soccer/15754/?utm_medium=calendar&utm_source=team_cal&utm_content=league_url#game-366877
LOCATION:Field 8 (3/4)
BEGIN:VALARM
TRIGGER:-P2H
ACTION:DISPLAY
DESCRIPTION:Gilpin vs Krebs
END:VALARM
END:VEVENT
BEGIN:VEVENT
UID:putnam-366863@ygametime.com
DTSTAMP:20230429T144500Z
DTSTART;TZID=America/New_York:20230429T104500
DURATION:PT0H45M0S
SUMMARY:Dartez vs Gilpin
DESCRIPTION:3/4 | Soccer\nPutnam County Family YMCA\n
URL;VALUE=URI:https://ygametime.com/branch/putnam/sports/2023-spring-soccer/15754/?utm_medium=calendar&utm_source=team_cal&utm_content=league_url#game-366863
LOCATION:Field 9 (3/4)
BEGIN:VALARM
TRIGGER:-P2H
ACTION:DISPLAY
DESCRIPTION:Dartez vs Gilpin
END:VALARM
END:VEVENT
BEGIN:VEVENT
UID:putnam-366865@ygametime.com
DTSTAMP:20230506T131500Z
DTSTART;TZID=America/New_York:20230506T091500
DURATION:PT0H45M0S
SUMMARY:Gilpin vs Lunn
DESCRIPTION:3/4 | Soccer\nPutnam County Family YMCA\n
URL;VALUE=URI:https://ygametime.com/branch/putnam/sports/2023-spring-soccer/15754/?utm_medium=calendar&utm_source=team_cal&utm_content=league_url#game-366865
LOCATION:Field 9 (3/4)
BEGIN:VALARM
TRIGGER:-P2H
ACTION:DISPLAY
DESCRIPTION:Gilpin vs Lunn
END:VALARM
END:VEVENT
BEGIN:VEVENT
UID:putnam-366870@ygametime.com
DTSTAMP:20230513T140000Z
DTSTART;TZID=America/New_York:20230513T100000
DURATION:PT0H45M0S
SUMMARY:Gilpin vs Paramore
DESCRIPTION:3/4 | Soccer\nPutnam County Family YMCA\n
URL;VALUE=URI:https://ygametime.com/branch/putnam/sports/2023-spring-soccer/15754/?utm_medium=calendar&utm_source=team_cal&utm_content=league_url#game-366870
LOCATION:Field 7 (3/4)
BEGIN:VALARM
TRIGGER:-P2H
ACTION:DISPLAY
DESCRIPTION:Gilpin vs Paramore
END:VALARM
END:VEVENT
BEGIN:VEVENT
UID:putnam-386024@ygametime.com
DTSTAMP:20230522T213000Z
DTSTART;TZID=America/New_York:20230522T173000
DURATION:PT0H45M0S
SUMMARY:Gilpin vs Mills
DESCRIPTION:3/4 | Soccer\nPutnam County Family YMCA\n
URL;VALUE=URI:https://ygametime.com/branch/putnam/sports/2023-spring-soccer/15754/?utm_medium=calendar&utm_source=team_cal&utm_content=league_url#game-386024
LOCATION:Field 8 (3/4)
BEGIN:VALARM
TRIGGER:-P2H
ACTION:DISPLAY
DESCRIPTION:Gilpin vs Mills
END:VALARM
END:VEVENT
END:VCALENDAR

