BEGIN:VCALENDAR
VERSION:2.0
PRODID:-//YGAMETIME.com//YGT iCal Creator//EN
METHOD:PUBLISH
X-PUBLISHED-TTL:PT6H
REFRESH-INTERVAL;VALUE=DURATION:PT6H
CALSCALE:GREGORIAN
X-WR-CALNAME:YGAMETIME CALENDAR
BEGIN:VTIMEZONE
TZID:America/New_York
X-LIC-LOCATION:America/New_York
BEGIN:DAYLIGHT
TZOFFSETFROM:-0500
TZOFFSETTO:-0400
TZNAME:EDT
DTSTART:19700308T020000
RRULE:FREQ=YEARLY;BYMONTH=3;BYDAY=2SU
END:DAYLIGHT
BEGIN:STANDARD
TZOFFSETFROM:-0400
TZOFFSETTO:-0500
TZNAME:EST
DTSTART:19701101T020000
RRULE:FREQ=YEARLY;BYMONTH=11;BYDAY=1SU
END:STANDARD
END:VTIMEZONE
BEGIN:VEVENT
UID:putnam-366844@ygametime.com
DTSTAMP:20230401T123000Z
DTSTART;TZID=America/New_York:20230401T083000
DURATION:PT0H45M0S
SUMMARY:Dartez vs Paramore
DESCRIPTION:3/4 | Soccer\nPutnam County Family YMCA\n
URL;VALUE=URI:https://ygametime.com/branch/putnam/sports/2023-spring-soccer/15754/?utm_medium=calendar&utm_source=team_cal&utm_content=league_url#game-366844
LOCATION:Field 7 (3/4)
BEGIN:VALARM
TRIGGER:-P2H
ACTION:DISPLAY
DESCRIPTION:Dartez vs Paramore
END:VALARM
END:VEVENT
BEGIN:VEVENT
UID:putnam-366880@ygametime.com
DTSTAMP:20230412T213000Z
DTSTART;TZID=America/New_York:20230412T173000
DURATION:PT0H45M0S
SUMMARY:Dartez vs Mills
DESCRIPTION:3/4 | Soccer\nPutnam County Family YMCA\n
URL;VALUE=URI:https://ygametime.com/branch/putnam/sports/2023-spring-soccer/15754/?utm_medium=calendar&utm_source=team_cal&utm_content=league_url#game-366880
LOCATION:Field 8 (3/4)
BEGIN:VALARM
TRIGGER:-P2H
ACTION:DISPLAY
DESCRIPTION:Dartez vs Mills
END:VALARM
END:VEVENT
BEGIN:VEVENT
UID:putnam-366878@ygametime.com
DTSTAMP:20230415T144500Z
DTSTART;TZID=America/New_York:20230415T104500
DURATION:PT0H45M0S
SUMMARY:Dartez vs Lunn
DESCRIPTION:3/4 | Soccer\nPutnam County Family YMCA\n
URL;VALUE=URI:https://ygametime.com/branch/putnam/sports/2023-spring-soccer/15754/?utm_medium=calendar&utm_source=team_cal&utm_content=league_url#game-366878
LOCATION:Field 9 (3/4)
BEGIN:VALARM
TRIGGER:-P2H
ACTION:DISPLAY
DESCRIPTION:Dartez vs Lunn
END:VALARM
END:VEVENT
BEGIN:VEVENT
UID:putnam-366863@ygametime.com
DTSTAMP:20230429T144500Z
DTSTART;TZID=America/New_York:20230429T104500
DURATION:PT0H45M0S
SUMMARY:Dartez vs Gilpin
DESCRIPTION:3/4 | Soccer\nPutnam County Family YMCA\n
URL;VALUE=URI:https://ygametime.com/branch/putnam/sports/2023-spring-soccer/15754/?utm_medium=calendar&utm_source=team_cal&utm_content=league_url#game-366863
LOCATION:Field 9 (3/4)
BEGIN:VALARM
TRIGGER:-P2H
ACTION:DISPLAY
DESCRIPTION:Dartez vs Gilpin
END:VALARM
END:VEVENT
BEGIN:VEVENT
UID:putnam-366866@ygametime.com
DTSTAMP:20230506T140000Z
DTSTART;TZID=America/New_York:20230506T100000
DURATION:PT0H45M0S
SUMMARY:Mapes vs Dartez
DESCRIPTION:3/4 | Soccer\nPutnam County Family YMCA\n
URL;VALUE=URI:https://ygametime.com/branch/putnam/sports/2023-spring-soccer/15754/?utm_medium=calendar&utm_source=team_cal&utm_content=league_url#game-366866
LOCATION:Field 7 (3/4)
BEGIN:VALARM
TRIGGER:-P2H
ACTION:DISPLAY
DESCRIPTION:Mapes vs Dartez
END:VALARM
END:VEVENT
BEGIN:VEVENT
UID:putnam-366868@ygametime.com
DTSTAMP:20230513T123000Z
DTSTART;TZID=America/New_York:20230513T083000
DURATION:PT0H45M0S
SUMMARY:Dartez vs Hafner
DESCRIPTION:3/4 | Soccer\nPutnam County Family YMCA\n
URL;VALUE=URI:https://ygametime.com/branch/putnam/sports/2023-spring-soccer/15754/?utm_medium=calendar&utm_source=team_cal&utm_content=league_url#game-366868
LOCATION:Field 7 (3/4)
BEGIN:VALARM
TRIGGER:-P2H
ACTION:DISPLAY
DESCRIPTION:Dartez vs Hafner
END:VALARM
END:VEVENT
BEGIN:VEVENT
UID:putnam-366875@ygametime.com
DTSTAMP:20230520T144500Z
DTSTART;TZID=America/New_York:20230520T104500
DURATION:PT0H45M0S
SUMMARY:Cotten vs Dartez
DESCRIPTION:3/4 | Soccer\nPutnam County Family YMCA\n
URL;VALUE=URI:https://ygametime.com/branch/putnam/sports/2023-spring-soccer/15754/?utm_medium=calendar&utm_source=team_cal&utm_content=league_url#game-366875
LOCATION:Field 9 (3/4)
BEGIN:VALARM
TRIGGER:-P2H
ACTION:DISPLAY
DESCRIPTION:Cotten vs Dartez
END:VALARM
END:VEVENT
END:VCALENDAR

