BEGIN:VCALENDAR
VERSION:2.0
PRODID:-//YGAMETIME.com//YGT iCal Creator//EN
METHOD:PUBLISH
X-PUBLISHED-TTL:PT6H
REFRESH-INTERVAL;VALUE=DURATION:PT6H
CALSCALE:GREGORIAN
X-WR-CALNAME:YGAMETIME CALENDAR
BEGIN:VTIMEZONE
TZID:America/New_York
X-LIC-LOCATION:America/New_York
BEGIN:DAYLIGHT
TZOFFSETFROM:-0500
TZOFFSETTO:-0400
TZNAME:EDT
DTSTART:19700308T020000
RRULE:FREQ=YEARLY;BYMONTH=3;BYDAY=2SU
END:DAYLIGHT
BEGIN:STANDARD
TZOFFSETFROM:-0400
TZOFFSETTO:-0500
TZNAME:EST
DTSTART:19701101T020000
RRULE:FREQ=YEARLY;BYMONTH=11;BYDAY=1SU
END:STANDARD
END:VTIMEZONE
BEGIN:VEVENT
UID:putnam-366845@ygametime.com
DTSTAMP:20230401T131500Z
DTSTART;TZID=America/New_York:20230401T091500
DURATION:PT0H45M0S
SUMMARY:Mapes vs Gilpin
DESCRIPTION:3/4 | Soccer\nPutnam County Family YMCA\n
URL;VALUE=URI:https://ygametime.com/branch/putnam/sports/2023-spring-soccer/15754/?utm_medium=calendar&utm_source=team_cal&utm_content=league_url#game-366845
LOCATION:Field 9 (3/4)
BEGIN:VALARM
TRIGGER:-P2H
ACTION:DISPLAY
DESCRIPTION:Mapes vs Gilpin
END:VALARM
END:VEVENT
BEGIN:VEVENT
UID:putnam-366885@ygametime.com
DTSTAMP:20230404T213000Z
DTSTART;TZID=America/New_York:20230404T173000
DURATION:PT0H45M0S
SUMMARY:Mapes vs Paramore
DESCRIPTION:3/4 | Soccer\nPutnam County Family YMCA\n
URL;VALUE=URI:https://ygametime.com/branch/putnam/sports/2023-spring-soccer/15754/?utm_medium=calendar&utm_source=team_cal&utm_content=league_url#game-366885
LOCATION:Field 7 (3/4)
BEGIN:VALARM
TRIGGER:-P2H
ACTION:DISPLAY
DESCRIPTION:Mapes vs Paramore
END:VALARM
END:VEVENT
BEGIN:VEVENT
UID:putnam-366855@ygametime.com
DTSTAMP:20230415T140000Z
DTSTART;TZID=America/New_York:20230415T100000
DURATION:PT0H45M0S
SUMMARY:Hafner vs Mapes
DESCRIPTION:3/4 | Soccer\nPutnam County Family YMCA\n
URL;VALUE=URI:https://ygametime.com/branch/putnam/sports/2023-spring-soccer/15754/?utm_medium=calendar&utm_source=team_cal&utm_content=league_url#game-366855
LOCATION:Field 7 (3/4)
BEGIN:VALARM
TRIGGER:-P2H
ACTION:DISPLAY
DESCRIPTION:Hafner vs Mapes
END:VALARM
END:VEVENT
BEGIN:VEVENT
UID:putnam-366858@ygametime.com
DTSTAMP:20230422T140000Z
DTSTART;TZID=America/New_York:20230422T100000
DURATION:PT0H45M0S
SUMMARY:Mapes vs Cotten
DESCRIPTION:3/4 | Soccer\nPutnam County Family YMCA\n
URL;VALUE=URI:https://ygametime.com/branch/putnam/sports/2023-spring-soccer/15754/?utm_medium=calendar&utm_source=team_cal&utm_content=league_url#game-366858
LOCATION:Field 7 (3/4)
BEGIN:VALARM
TRIGGER:-P2H
ACTION:DISPLAY
DESCRIPTION:Mapes vs Cotten
END:VALARM
END:VEVENT
BEGIN:VEVENT
UID:putnam-366862@ygametime.com
DTSTAMP:20230429T140000Z
DTSTART;TZID=America/New_York:20230429T100000
DURATION:PT0H45M0S
SUMMARY:Krebs vs Mapes
DESCRIPTION:3/4 | Soccer\nPutnam County Family YMCA\n
URL;VALUE=URI:https://ygametime.com/branch/putnam/sports/2023-spring-soccer/15754/?utm_medium=calendar&utm_source=team_cal&utm_content=league_url#game-366862
LOCATION:Field 7 (3/4)
BEGIN:VALARM
TRIGGER:-P2H
ACTION:DISPLAY
DESCRIPTION:Krebs vs Mapes
END:VALARM
END:VEVENT
BEGIN:VEVENT
UID:putnam-366866@ygametime.com
DTSTAMP:20230506T140000Z
DTSTART;TZID=America/New_York:20230506T100000
DURATION:PT0H45M0S
SUMMARY:Mapes vs Dartez
DESCRIPTION:3/4 | Soccer\nPutnam County Family YMCA\n
URL;VALUE=URI:https://ygametime.com/branch/putnam/sports/2023-spring-soccer/15754/?utm_medium=calendar&utm_source=team_cal&utm_content=league_url#game-366866
LOCATION:Field 7 (3/4)
BEGIN:VALARM
TRIGGER:-P2H
ACTION:DISPLAY
DESCRIPTION:Mapes vs Dartez
END:VALARM
END:VEVENT
BEGIN:VEVENT
UID:putnam-366869@ygametime.com
DTSTAMP:20230513T131500Z
DTSTART;TZID=America/New_York:20230513T091500
DURATION:PT0H45M0S
SUMMARY:Lunn vs Mapes
DESCRIPTION:3/4 | Soccer\nPutnam County Family YMCA\n
URL;VALUE=URI:https://ygametime.com/branch/putnam/sports/2023-spring-soccer/15754/?utm_medium=calendar&utm_source=team_cal&utm_content=league_url#game-366869
LOCATION:Field 9 (3/4)
BEGIN:VALARM
TRIGGER:-P2H
ACTION:DISPLAY
DESCRIPTION:Lunn vs Mapes
END:VALARM
END:VEVENT
END:VCALENDAR

