BEGIN:VCALENDAR
VERSION:2.0
PRODID:-//YGAMETIME.com//YGT iCal Creator//EN
METHOD:PUBLISH
X-PUBLISHED-TTL:PT6H
REFRESH-INTERVAL;VALUE=DURATION:PT6H
CALSCALE:GREGORIAN
X-WR-CALNAME:YGAMETIME CALENDAR
BEGIN:VTIMEZONE
TZID:America/New_York
X-LIC-LOCATION:America/New_York
BEGIN:DAYLIGHT
TZOFFSETFROM:-0500
TZOFFSETTO:-0400
TZNAME:EDT
DTSTART:19700308T020000
RRULE:FREQ=YEARLY;BYMONTH=3;BYDAY=2SU
END:DAYLIGHT
BEGIN:STANDARD
TZOFFSETFROM:-0400
TZOFFSETTO:-0500
TZNAME:EST
DTSTART:19701101T020000
RRULE:FREQ=YEARLY;BYMONTH=11;BYDAY=1SU
END:STANDARD
END:VTIMEZONE
BEGIN:VEVENT
UID:putnam-366846@ygametime.com
DTSTAMP:20230401T140000Z
DTSTART;TZID=America/New_York:20230401T100000
DURATION:PT0H45M0S
SUMMARY:Krebs vs Lunn
DESCRIPTION:3/4 | Soccer\nPutnam County Family YMCA\n
URL;VALUE=URI:https://ygametime.com/branch/putnam/sports/2023-spring-soccer/15754/?utm_medium=calendar&utm_source=team_cal&utm_content=league_url#game-366846
LOCATION:Field 7 (3/4)
BEGIN:VALARM
TRIGGER:-P2H
ACTION:DISPLAY
DESCRIPTION:Krebs vs Lunn
END:VALARM
END:VEVENT
BEGIN:VEVENT
UID:putnam-366883@ygametime.com
DTSTAMP:20230413T213000Z
DTSTART;TZID=America/New_York:20230413T173000
DURATION:PT0H45M0S
SUMMARY:Cotten vs Lunn
DESCRIPTION:3/4 | Soccer\nPutnam County Family YMCA\n
URL;VALUE=URI:https://ygametime.com/branch/putnam/sports/2023-spring-soccer/15754/?utm_medium=calendar&utm_source=team_cal&utm_content=league_url#game-366883
LOCATION:Field 9 (3/4)
BEGIN:VALARM
TRIGGER:-P2H
ACTION:DISPLAY
DESCRIPTION:Cotten vs Lunn
END:VALARM
END:VEVENT
BEGIN:VEVENT
UID:putnam-366878@ygametime.com
DTSTAMP:20230415T144500Z
DTSTART;TZID=America/New_York:20230415T104500
DURATION:PT0H45M0S
SUMMARY:Dartez vs Lunn
DESCRIPTION:3/4 | Soccer\nPutnam County Family YMCA\n
URL;VALUE=URI:https://ygametime.com/branch/putnam/sports/2023-spring-soccer/15754/?utm_medium=calendar&utm_source=team_cal&utm_content=league_url#game-366878
LOCATION:Field 9 (3/4)
BEGIN:VALARM
TRIGGER:-P2H
ACTION:DISPLAY
DESCRIPTION:Dartez vs Lunn
END:VALARM
END:VEVENT
BEGIN:VEVENT
UID:putnam-366861@ygametime.com
DTSTAMP:20230429T131500Z
DTSTART;TZID=America/New_York:20230429T091500
DURATION:PT0H45M0S
SUMMARY:Lunn vs Mills
DESCRIPTION:3/4 | Soccer\nPutnam County Family YMCA\n
URL;VALUE=URI:https://ygametime.com/branch/putnam/sports/2023-spring-soccer/15754/?utm_medium=calendar&utm_source=team_cal&utm_content=league_url#game-366861
LOCATION:Field 9 (3/4)
BEGIN:VALARM
TRIGGER:-P2H
ACTION:DISPLAY
DESCRIPTION:Lunn vs Mills
END:VALARM
END:VEVENT
BEGIN:VEVENT
UID:putnam-366865@ygametime.com
DTSTAMP:20230506T131500Z
DTSTART;TZID=America/New_York:20230506T091500
DURATION:PT0H45M0S
SUMMARY:Gilpin vs Lunn
DESCRIPTION:3/4 | Soccer\nPutnam County Family YMCA\n
URL;VALUE=URI:https://ygametime.com/branch/putnam/sports/2023-spring-soccer/15754/?utm_medium=calendar&utm_source=team_cal&utm_content=league_url#game-366865
LOCATION:Field 9 (3/4)
BEGIN:VALARM
TRIGGER:-P2H
ACTION:DISPLAY
DESCRIPTION:Gilpin vs Lunn
END:VALARM
END:VEVENT
BEGIN:VEVENT
UID:putnam-366869@ygametime.com
DTSTAMP:20230513T131500Z
DTSTART;TZID=America/New_York:20230513T091500
DURATION:PT0H45M0S
SUMMARY:Lunn vs Mapes
DESCRIPTION:3/4 | Soccer\nPutnam County Family YMCA\n
URL;VALUE=URI:https://ygametime.com/branch/putnam/sports/2023-spring-soccer/15754/?utm_medium=calendar&utm_source=team_cal&utm_content=league_url#game-366869
LOCATION:Field 9 (3/4)
BEGIN:VALARM
TRIGGER:-P2H
ACTION:DISPLAY
DESCRIPTION:Lunn vs Mapes
END:VALARM
END:VEVENT
BEGIN:VEVENT
UID:putnam-366872@ygametime.com
DTSTAMP:20230520T123000Z
DTSTART;TZID=America/New_York:20230520T083000
DURATION:PT0H45M0S
SUMMARY:Hafner vs Lunn
DESCRIPTION:3/4 | Soccer\nPutnam County Family YMCA\n
URL;VALUE=URI:https://ygametime.com/branch/putnam/sports/2023-spring-soccer/15754/?utm_medium=calendar&utm_source=team_cal&utm_content=league_url#game-366872
LOCATION:Field 7 (3/4)
BEGIN:VALARM
TRIGGER:-P2H
ACTION:DISPLAY
DESCRIPTION:Hafner vs Lunn
END:VALARM
END:VEVENT
END:VCALENDAR

