BEGIN:VCALENDAR
VERSION:2.0
PRODID:-//YGAMETIME.com//YGT iCal Creator//EN
METHOD:PUBLISH
X-PUBLISHED-TTL:PT6H
REFRESH-INTERVAL;VALUE=DURATION:PT6H
CALSCALE:GREGORIAN
X-WR-CALNAME:YGAMETIME CALENDAR
BEGIN:VTIMEZONE
TZID:America/New_York
X-LIC-LOCATION:America/New_York
BEGIN:DAYLIGHT
TZOFFSETFROM:-0500
TZOFFSETTO:-0400
TZNAME:EDT
DTSTART:19700308T020000
RRULE:FREQ=YEARLY;BYMONTH=3;BYDAY=2SU
END:DAYLIGHT
BEGIN:STANDARD
TZOFFSETFROM:-0400
TZOFFSETTO:-0500
TZNAME:EST
DTSTART:19701101T020000
RRULE:FREQ=YEARLY;BYMONTH=11;BYDAY=1SU
END:STANDARD
END:VTIMEZONE
BEGIN:VEVENT
UID:putnam-368077@ygametime.com
DTSTAMP:20230401T131500Z
DTSTART;TZID=America/New_York:20230401T091500
DURATION:PT0H60M0S
SUMMARY:Martin vs Bottoms
DESCRIPTION:5/6 | Soccer\nPutnam County Family YMCA\n
URL;VALUE=URI:https://ygametime.com/branch/putnam/sports/2023-spring-soccer/15755/?utm_medium=calendar&utm_source=team_cal&utm_content=league_url#game-368077
LOCATION:Field 3 (5/6)
BEGIN:VALARM
TRIGGER:-P2H
ACTION:DISPLAY
DESCRIPTION:Martin vs Bottoms
END:VALARM
END:VEVENT
BEGIN:VEVENT
UID:putnam-368089@ygametime.com
DTSTAMP:20230415T130000Z
DTSTART;TZID=America/New_York:20230415T090000
DURATION:PT0H60M0S
SUMMARY:Stites vs Bottoms
DESCRIPTION:5/6 | Soccer\nPutnam County Family YMCA\n
URL;VALUE=URI:https://ygametime.com/branch/putnam/sports/2023-spring-soccer/15755/?utm_medium=calendar&utm_source=team_cal&utm_content=league_url#game-368089
LOCATION:Field 2 (5/6)
BEGIN:VALARM
TRIGGER:-P2H
ACTION:DISPLAY
DESCRIPTION:Stites vs Bottoms
END:VALARM
END:VEVENT
BEGIN:VEVENT
UID:putnam-368120@ygametime.com
DTSTAMP:20230421T213000Z
DTSTART;TZID=America/New_York:20230421T173000
DURATION:PT0H60M0S
SUMMARY:Bottoms vs Grimm
DESCRIPTION:5/6 | Soccer\nPutnam County Family YMCA\n
URL;VALUE=URI:https://ygametime.com/branch/putnam/sports/2023-spring-soccer/15755/?utm_medium=calendar&utm_source=team_cal&utm_content=league_url#game-368120
LOCATION:Field 3 (5/6)
BEGIN:VALARM
TRIGGER:-P2H
ACTION:DISPLAY
DESCRIPTION:Bottoms vs Grimm
END:VALARM
END:VEVENT
BEGIN:VEVENT
UID:putnam-382049@ygametime.com
DTSTAMP:20230505T213000Z
DTSTART;TZID=America/New_York:20230505T173000
DURATION:PT0H60M0S
SUMMARY:Bottoms vs Currier
DESCRIPTION:5/6 | Soccer\nPutnam County Family YMCA\n
URL;VALUE=URI:https://ygametime.com/branch/putnam/sports/2023-spring-soccer/15755/?utm_medium=calendar&utm_source=team_cal&utm_content=league_url#game-382049
LOCATION:Field 3 (5/6)
BEGIN:VALARM
TRIGGER:-P2H
ACTION:DISPLAY
DESCRIPTION:Bottoms vs Currier
END:VALARM
END:VEVENT
BEGIN:VEVENT
UID:putnam-368108@ygametime.com
DTSTAMP:20230506T131500Z
DTSTART;TZID=America/New_York:20230506T091500
DURATION:PT0H60M0S
SUMMARY:Bottoms vs Stratton
DESCRIPTION:5/6 | Soccer\nPutnam County Family YMCA\n
URL;VALUE=URI:https://ygametime.com/branch/putnam/sports/2023-spring-soccer/15755/?utm_medium=calendar&utm_source=team_cal&utm_content=league_url#game-368108
LOCATION:Field 3 (5/6)
BEGIN:VALARM
TRIGGER:-P2H
ACTION:DISPLAY
DESCRIPTION:Bottoms vs Stratton
END:VALARM
END:VEVENT
BEGIN:VEVENT
UID:putnam-383296@ygametime.com
DTSTAMP:20230515T211500Z
DTSTART;TZID=America/New_York:20230515T171500
DURATION:PT0H60M0S
SUMMARY:Bottoms vs Grimm
DESCRIPTION:5/6 | Soccer\nPutnam County Family YMCA\n
URL;VALUE=URI:https://ygametime.com/branch/putnam/sports/2023-spring-soccer/15755/?utm_medium=calendar&utm_source=team_cal&utm_content=league_url#game-383296
LOCATION:Field 3 (5/6)
BEGIN:VALARM
TRIGGER:-P2H
ACTION:DISPLAY
DESCRIPTION:Bottoms vs Grimm
END:VALARM
END:VEVENT
BEGIN:VEVENT
UID:putnam-385399@ygametime.com
DTSTAMP:20230516T220000Z
DTSTART;TZID=America/New_York:20230516T180000
DURATION:PT0H60M0S
SUMMARY:Bottoms vs Jones
DESCRIPTION:5/6 | Soccer\nPutnam County Family YMCA\n
URL;VALUE=URI:https://ygametime.com/branch/putnam/sports/2023-spring-soccer/15755/?utm_medium=calendar&utm_source=team_cal&utm_content=league_url#game-385399
LOCATION:Field 2 (5/6)
BEGIN:VALARM
TRIGGER:-P2H
ACTION:DISPLAY
DESCRIPTION:Bottoms vs Jones
END:VALARM
END:VEVENT
BEGIN:VEVENT
UID:putnam-386014@ygametime.com
DTSTAMP:20230522T223000Z
DTSTART;TZID=America/New_York:20230522T183000
DURATION:PT0H60M0S
SUMMARY:Cochran vs Bottoms
DESCRIPTION:5/6 | Soccer\nPutnam County Family YMCA\n
URL;VALUE=URI:https://ygametime.com/branch/putnam/sports/2023-spring-soccer/15755/?utm_medium=calendar&utm_source=team_cal&utm_content=league_url#game-386014
LOCATION:Field 2 (5/6)
BEGIN:VALARM
TRIGGER:-P2H
ACTION:DISPLAY
DESCRIPTION:Cochran vs Bottoms
END:VALARM
END:VEVENT
END:VCALENDAR

