BEGIN:VCALENDAR
VERSION:2.0
PRODID:-//YGAMETIME.com//YGT iCal Creator//EN
METHOD:PUBLISH
X-PUBLISHED-TTL:PT6H
REFRESH-INTERVAL;VALUE=DURATION:PT6H
CALSCALE:GREGORIAN
X-WR-CALNAME:YGAMETIME CALENDAR
BEGIN:VTIMEZONE
TZID:America/New_York
X-LIC-LOCATION:America/New_York
BEGIN:DAYLIGHT
TZOFFSETFROM:-0500
TZOFFSETTO:-0400
TZNAME:EDT
DTSTART:19700308T020000
RRULE:FREQ=YEARLY;BYMONTH=3;BYDAY=2SU
END:DAYLIGHT
BEGIN:STANDARD
TZOFFSETFROM:-0400
TZOFFSETTO:-0500
TZNAME:EST
DTSTART:19701101T020000
RRULE:FREQ=YEARLY;BYMONTH=11;BYDAY=1SU
END:STANDARD
END:VTIMEZONE
BEGIN:VEVENT
UID:putnam-368080@ygametime.com
DTSTAMP:20230401T143000Z
DTSTART;TZID=America/New_York:20230401T103000
DURATION:PT0H60M0S
SUMMARY:Malone vs Grimm
DESCRIPTION:5/6 | Soccer\nPutnam County Family YMCA\n
URL;VALUE=URI:https://ygametime.com/branch/putnam/sports/2023-spring-soccer/15755/?utm_medium=calendar&utm_source=team_cal&utm_content=league_url#game-368080
LOCATION:Field 3 (5/6)
BEGIN:VALARM
TRIGGER:-P2H
ACTION:DISPLAY
DESCRIPTION:Malone vs Grimm
END:VALARM
END:VEVENT
BEGIN:VEVENT
UID:putnam-368091@ygametime.com
DTSTAMP:20230415T141500Z
DTSTART;TZID=America/New_York:20230415T101500
DURATION:PT0H60M0S
SUMMARY:Malone vs Currier
DESCRIPTION:5/6 | Soccer\nPutnam County Family YMCA\n
URL;VALUE=URI:https://ygametime.com/branch/putnam/sports/2023-spring-soccer/15755/?utm_medium=calendar&utm_source=team_cal&utm_content=league_url#game-368091
LOCATION:Field 2 (5/6)
BEGIN:VALARM
TRIGGER:-P2H
ACTION:DISPLAY
DESCRIPTION:Malone vs Currier
END:VALARM
END:VEVENT
BEGIN:VEVENT
UID:putnam-368121@ygametime.com
DTSTAMP:20230421T211500Z
DTSTART;TZID=America/New_York:20230421T171500
DURATION:PT0H60M0S
SUMMARY:Malone vs Cochran
DESCRIPTION:5/6 | Soccer\nPutnam County Family YMCA\n
URL;VALUE=URI:https://ygametime.com/branch/putnam/sports/2023-spring-soccer/15755/?utm_medium=calendar&utm_source=team_cal&utm_content=league_url#game-368121
LOCATION:Field 2 (5/6)
BEGIN:VALARM
TRIGGER:-P2H
ACTION:DISPLAY
DESCRIPTION:Malone vs Cochran
END:VALARM
END:VEVENT
BEGIN:VEVENT
UID:putnam-368103@ygametime.com
DTSTAMP:20230429T141500Z
DTSTART;TZID=America/New_York:20230429T101500
DURATION:PT0H60M0S
SUMMARY:Martin vs Malone
DESCRIPTION:5/6 | Soccer\nPutnam County Family YMCA\n
URL;VALUE=URI:https://ygametime.com/branch/putnam/sports/2023-spring-soccer/15755/?utm_medium=calendar&utm_source=team_cal&utm_content=league_url#game-368103
LOCATION:Field 3 (5/6)
BEGIN:VALARM
TRIGGER:-P2H
ACTION:DISPLAY
DESCRIPTION:Martin vs Malone
END:VALARM
END:VEVENT
BEGIN:VEVENT
UID:putnam-383071@ygametime.com
DTSTAMP:20230505T220000Z
DTSTART;TZID=America/New_York:20230505T180000
DURATION:PT0H60M0S
SUMMARY:Cochran vs Malone
DESCRIPTION:5/6 | Soccer\nPutnam County Family YMCA\n
URL;VALUE=URI:https://ygametime.com/branch/putnam/sports/2023-spring-soccer/15755/?utm_medium=calendar&utm_source=team_cal&utm_content=league_url#game-383071
LOCATION:Field 2 (5/6)
BEGIN:VALARM
TRIGGER:-P2H
ACTION:DISPLAY
DESCRIPTION:Cochran vs Malone
END:VALARM
END:VEVENT
BEGIN:VEVENT
UID:putnam-368109@ygametime.com
DTSTAMP:20230506T141500Z
DTSTART;TZID=America/New_York:20230506T101500
DURATION:PT0H60M0S
SUMMARY:Cochran vs Malone
DESCRIPTION:5/6 | Soccer\nPutnam County Family YMCA\n
URL;VALUE=URI:https://ygametime.com/branch/putnam/sports/2023-spring-soccer/15755/?utm_medium=calendar&utm_source=team_cal&utm_content=league_url#game-368109
LOCATION:Field 2 (5/6)
BEGIN:VALARM
TRIGGER:-P2H
ACTION:DISPLAY
DESCRIPTION:Cochran vs Malone
END:VALARM
END:VEVENT
BEGIN:VEVENT
UID:putnam-368534@ygametime.com
DTSTAMP:20230519T214500Z
DTSTART;TZID=America/New_York:20230519T174500
DURATION:PT0H60M0S
SUMMARY:Malone vs Stites
DESCRIPTION:5/6 | Soccer\nPutnam County Family YMCA\n
URL;VALUE=URI:https://ygametime.com/branch/putnam/sports/2023-spring-soccer/15755/?utm_medium=calendar&utm_source=team_cal&utm_content=league_url#game-368534
LOCATION:Field 2 (5/6)
BEGIN:VALARM
TRIGGER:-P2H
ACTION:DISPLAY
DESCRIPTION:Malone vs Stites
END:VALARM
END:VEVENT
BEGIN:VEVENT
UID:putnam-386015@ygametime.com
DTSTAMP:20230523T221500Z
DTSTART;TZID=America/New_York:20230523T181500
DURATION:PT0H60M0S
SUMMARY:Malone vs Jones
DESCRIPTION:5/6 | Soccer\nPutnam County Family YMCA\n
URL;VALUE=URI:https://ygametime.com/branch/putnam/sports/2023-spring-soccer/15755/?utm_medium=calendar&utm_source=team_cal&utm_content=league_url#game-386015
LOCATION:Field 2 (5/6)
BEGIN:VALARM
TRIGGER:-P2H
ACTION:DISPLAY
DESCRIPTION:Malone vs Jones
END:VALARM
END:VEVENT
END:VCALENDAR

