BEGIN:VCALENDAR
VERSION:2.0
PRODID:-//YGAMETIME.com//YGT iCal Creator//EN
METHOD:PUBLISH
X-PUBLISHED-TTL:PT6H
REFRESH-INTERVAL;VALUE=DURATION:PT6H
CALSCALE:GREGORIAN
X-WR-CALNAME:YGAMETIME CALENDAR
BEGIN:VTIMEZONE
TZID:America/New_York
X-LIC-LOCATION:America/New_York
BEGIN:DAYLIGHT
TZOFFSETFROM:-0500
TZOFFSETTO:-0400
TZNAME:EDT
DTSTART:19700308T020000
RRULE:FREQ=YEARLY;BYMONTH=3;BYDAY=2SU
END:DAYLIGHT
BEGIN:STANDARD
TZOFFSETFROM:-0400
TZOFFSETTO:-0500
TZNAME:EST
DTSTART:19701101T020000
RRULE:FREQ=YEARLY;BYMONTH=11;BYDAY=1SU
END:STANDARD
END:VTIMEZONE
BEGIN:VEVENT
UID:putnam-368078@ygametime.com
DTSTAMP:20230401T141500Z
DTSTART;TZID=America/New_York:20230401T101500
DURATION:PT0H60M0S
SUMMARY:Boaz vs Brown
DESCRIPTION:5/6 | Soccer\nPutnam County Family YMCA\n
URL;VALUE=URI:https://ygametime.com/branch/putnam/sports/2023-spring-soccer/15755/?utm_medium=calendar&utm_source=team_cal&utm_content=league_url#game-368078
LOCATION:Field 2 (5/6)
BEGIN:VALARM
TRIGGER:-P2H
ACTION:DISPLAY
DESCRIPTION:Boaz vs Brown
END:VALARM
END:VEVENT
BEGIN:VEVENT
UID:putnam-368118@ygametime.com
DTSTAMP:20230420T213000Z
DTSTART;TZID=America/New_York:20230420T173000
DURATION:PT0H60M0S
SUMMARY:Brown vs Stratton
DESCRIPTION:5/6 | Soccer\nPutnam County Family YMCA\n
URL;VALUE=URI:https://ygametime.com/branch/putnam/sports/2023-spring-soccer/15755/?utm_medium=calendar&utm_source=team_cal&utm_content=league_url#game-368118
LOCATION:Field 2 (5/6)
BEGIN:VALARM
TRIGGER:-P2H
ACTION:DISPLAY
DESCRIPTION:Brown vs Stratton
END:VALARM
END:VEVENT
BEGIN:VEVENT
UID:putnam-368125@ygametime.com
DTSTAMP:20230422T130000Z
DTSTART;TZID=America/New_York:20230422T090000
DURATION:PT0H60M0S
SUMMARY:Brown vs Stites
DESCRIPTION:5/6 | Soccer\nPutnam County Family YMCA\n
URL;VALUE=URI:https://ygametime.com/branch/putnam/sports/2023-spring-soccer/15755/?utm_medium=calendar&utm_source=team_cal&utm_content=league_url#game-368125
LOCATION:Field 3 (5/6)
BEGIN:VALARM
TRIGGER:-P2H
ACTION:DISPLAY
DESCRIPTION:Brown vs Stites
END:VALARM
END:VEVENT
BEGIN:VEVENT
UID:putnam-368100@ygametime.com
DTSTAMP:20230429T143000Z
DTSTART;TZID=America/New_York:20230429T103000
DURATION:PT0H60M0S
SUMMARY:Brown vs Boaz
DESCRIPTION:5/6 | Soccer\nPutnam County Family YMCA\n
URL;VALUE=URI:https://ygametime.com/branch/putnam/sports/2023-spring-soccer/15755/?utm_medium=calendar&utm_source=team_cal&utm_content=league_url#game-368100
LOCATION:Field 2 (5/6)
BEGIN:VALARM
TRIGGER:-P2H
ACTION:DISPLAY
DESCRIPTION:Brown vs Boaz
END:VALARM
END:VEVENT
BEGIN:VEVENT
UID:putnam-368110@ygametime.com
DTSTAMP:20230506T153000Z
DTSTART;TZID=America/New_York:20230506T113000
DURATION:PT0H60M0S
SUMMARY:Jones vs Brown
DESCRIPTION:5/6 | Soccer\nPutnam County Family YMCA\n
URL;VALUE=URI:https://ygametime.com/branch/putnam/sports/2023-spring-soccer/15755/?utm_medium=calendar&utm_source=team_cal&utm_content=league_url#game-368110
LOCATION:Field 2 (5/6)
BEGIN:VALARM
TRIGGER:-P2H
ACTION:DISPLAY
DESCRIPTION:Jones vs Brown
END:VALARM
END:VEVENT
BEGIN:VEVENT
UID:putnam-385836@ygametime.com
DTSTAMP:20230518T221500Z
DTSTART;TZID=America/New_York:20230518T181500
DURATION:PT0H60M0S
SUMMARY:Brown vs Grimm
DESCRIPTION:5/6 | Soccer\nPutnam County Family YMCA\n
URL;VALUE=URI:https://ygametime.com/branch/putnam/sports/2023-spring-soccer/15755/?utm_medium=calendar&utm_source=team_cal&utm_content=league_url#game-385836
LOCATION:Field 2 (5/6)
BEGIN:VALARM
TRIGGER:-P2H
ACTION:DISPLAY
DESCRIPTION:Brown vs Grimm
END:VALARM
END:VEVENT
BEGIN:VEVENT
UID:putnam-386008@ygametime.com
DTSTAMP:20230525T221500Z
DTSTART;TZID=America/New_York:20230525T181500
DURATION:PT0H60M0S
SUMMARY:Brown vs Martin
DESCRIPTION:5/6 | Soccer\nPutnam County Family YMCA\n
URL;VALUE=URI:https://ygametime.com/branch/putnam/sports/2023-spring-soccer/15755/?utm_medium=calendar&utm_source=team_cal&utm_content=league_url#game-386008
LOCATION:Field 2 (5/6)
BEGIN:VALARM
TRIGGER:-P2H
ACTION:DISPLAY
DESCRIPTION:Brown vs Martin
END:VALARM
END:VEVENT
END:VCALENDAR

