BEGIN:VCALENDAR
VERSION:2.0
PRODID:-//YGAMETIME.com//YGT iCal Creator//EN
METHOD:PUBLISH
X-PUBLISHED-TTL:PT6H
REFRESH-INTERVAL;VALUE=DURATION:PT6H
CALSCALE:GREGORIAN
X-WR-CALNAME:YGAMETIME CALENDAR
BEGIN:VTIMEZONE
TZID:America/New_York
X-LIC-LOCATION:America/New_York
BEGIN:DAYLIGHT
TZOFFSETFROM:-0500
TZOFFSETTO:-0400
TZNAME:EDT
DTSTART:19700308T020000
RRULE:FREQ=YEARLY;BYMONTH=3;BYDAY=2SU
END:DAYLIGHT
BEGIN:STANDARD
TZOFFSETFROM:-0400
TZOFFSETTO:-0500
TZNAME:EST
DTSTART:19701101T020000
RRULE:FREQ=YEARLY;BYMONTH=11;BYDAY=1SU
END:STANDARD
END:VTIMEZONE
BEGIN:VEVENT
UID:putnam-368077@ygametime.com
DTSTAMP:20230401T131500Z
DTSTART;TZID=America/New_York:20230401T091500
DURATION:PT0H60M0S
SUMMARY:Martin vs Bottoms
DESCRIPTION:5/6 | Soccer\nPutnam County Family YMCA\n
URL;VALUE=URI:https://ygametime.com/branch/putnam/sports/2023-spring-soccer/15755/?utm_medium=calendar&utm_source=team_cal&utm_content=league_url#game-368077
LOCATION:Field 3 (5/6)
BEGIN:VALARM
TRIGGER:-P2H
ACTION:DISPLAY
DESCRIPTION:Martin vs Bottoms
END:VALARM
END:VEVENT
BEGIN:VEVENT
UID:putnam-368093@ygametime.com
DTSTAMP:20230415T131500Z
DTSTART;TZID=America/New_York:20230415T091500
DURATION:PT0H60M0S
SUMMARY:Cochran vs Martin
DESCRIPTION:5/6 | Soccer\nPutnam County Family YMCA\n
URL;VALUE=URI:https://ygametime.com/branch/putnam/sports/2023-spring-soccer/15755/?utm_medium=calendar&utm_source=team_cal&utm_content=league_url#game-368093
LOCATION:Field 3 (5/6)
BEGIN:VALARM
TRIGGER:-P2H
ACTION:DISPLAY
DESCRIPTION:Cochran vs Martin
END:VALARM
END:VEVENT
BEGIN:VEVENT
UID:putnam-368098@ygametime.com
DTSTAMP:20230422T150000Z
DTSTART;TZID=America/New_York:20230422T110000
DURATION:PT0H60M0S
SUMMARY:Bell vs Martin
DESCRIPTION:5/6 | Soccer\nPutnam County Family YMCA\n
URL;VALUE=URI:https://ygametime.com/branch/putnam/sports/2023-spring-soccer/15755/?utm_medium=calendar&utm_source=team_cal&utm_content=league_url#game-368098
LOCATION:Field 3 (5/6)
BEGIN:VALARM
TRIGGER:-P2H
ACTION:DISPLAY
DESCRIPTION:Bell vs Martin
END:VALARM
END:VEVENT
BEGIN:VEVENT
UID:putnam-368103@ygametime.com
DTSTAMP:20230429T141500Z
DTSTART;TZID=America/New_York:20230429T101500
DURATION:PT0H60M0S
SUMMARY:Martin vs Malone
DESCRIPTION:5/6 | Soccer\nPutnam County Family YMCA\n
URL;VALUE=URI:https://ygametime.com/branch/putnam/sports/2023-spring-soccer/15755/?utm_medium=calendar&utm_source=team_cal&utm_content=league_url#game-368103
LOCATION:Field 3 (5/6)
BEGIN:VALARM
TRIGGER:-P2H
ACTION:DISPLAY
DESCRIPTION:Martin vs Malone
END:VALARM
END:VEVENT
BEGIN:VEVENT
UID:putnam-368111@ygametime.com
DTSTAMP:20230506T154500Z
DTSTART;TZID=America/New_York:20230506T114500
DURATION:PT0H60M0S
SUMMARY:Boaz vs Martin
DESCRIPTION:5/6 | Soccer\nPutnam County Family YMCA\n
URL;VALUE=URI:https://ygametime.com/branch/putnam/sports/2023-spring-soccer/15755/?utm_medium=calendar&utm_source=team_cal&utm_content=league_url#game-368111
LOCATION:Field 3 (5/6)
BEGIN:VALARM
TRIGGER:-P2H
ACTION:DISPLAY
DESCRIPTION:Boaz vs Martin
END:VALARM
END:VEVENT
BEGIN:VEVENT
UID:putnam-368115@ygametime.com
DTSTAMP:20230513T150000Z
DTSTART;TZID=America/New_York:20230513T110000
DURATION:PT0H60M0S
SUMMARY:Martin vs Stratton
DESCRIPTION:5/6 | Soccer\nPutnam County Family YMCA\n
URL;VALUE=URI:https://ygametime.com/branch/putnam/sports/2023-spring-soccer/15755/?utm_medium=calendar&utm_source=team_cal&utm_content=league_url#game-368115
LOCATION:Field 2 (5/6)
BEGIN:VALARM
TRIGGER:-P2H
ACTION:DISPLAY
DESCRIPTION:Martin vs Stratton
END:VALARM
END:VEVENT
BEGIN:VEVENT
UID:putnam-386008@ygametime.com
DTSTAMP:20230525T221500Z
DTSTART;TZID=America/New_York:20230525T181500
DURATION:PT0H60M0S
SUMMARY:Brown vs Martin
DESCRIPTION:5/6 | Soccer\nPutnam County Family YMCA\n
URL;VALUE=URI:https://ygametime.com/branch/putnam/sports/2023-spring-soccer/15755/?utm_medium=calendar&utm_source=team_cal&utm_content=league_url#game-386008
LOCATION:Field 2 (5/6)
BEGIN:VALARM
TRIGGER:-P2H
ACTION:DISPLAY
DESCRIPTION:Brown vs Martin
END:VALARM
END:VEVENT
END:VCALENDAR

