BEGIN:VCALENDAR
VERSION:2.0
PRODID:-//YGAMETIME.com//YGT iCal Creator//EN
METHOD:PUBLISH
X-PUBLISHED-TTL:PT6H
REFRESH-INTERVAL;VALUE=DURATION:PT6H
CALSCALE:GREGORIAN
X-WR-CALNAME:YGAMETIME CALENDAR
BEGIN:VTIMEZONE
TZID:America/New_York
X-LIC-LOCATION:America/New_York
BEGIN:DAYLIGHT
TZOFFSETFROM:-0500
TZOFFSETTO:-0400
TZNAME:EDT
DTSTART:19700308T020000
RRULE:FREQ=YEARLY;BYMONTH=3;BYDAY=2SU
END:DAYLIGHT
BEGIN:STANDARD
TZOFFSETFROM:-0400
TZOFFSETTO:-0500
TZNAME:EST
DTSTART:19701101T020000
RRULE:FREQ=YEARLY;BYMONTH=11;BYDAY=1SU
END:STANDARD
END:VTIMEZONE
BEGIN:VEVENT
UID:putnam-368081@ygametime.com
DTSTAMP:20230401T154500Z
DTSTART;TZID=America/New_York:20230401T114500
DURATION:PT0H60M0S
SUMMARY:Bell vs Stratton
DESCRIPTION:5/6 | Soccer\nPutnam County Family YMCA\n
URL;VALUE=URI:https://ygametime.com/branch/putnam/sports/2023-spring-soccer/15755/?utm_medium=calendar&utm_source=team_cal&utm_content=league_url#game-368081
LOCATION:Field 3 (5/6)
BEGIN:VALARM
TRIGGER:-P2H
ACTION:DISPLAY
DESCRIPTION:Bell vs Stratton
END:VALARM
END:VEVENT
BEGIN:VEVENT
UID:putnam-368119@ygametime.com
DTSTAMP:20230413T211500Z
DTSTART;TZID=America/New_York:20230413T171500
DURATION:PT0H60M0S
SUMMARY:Bell vs Boaz
DESCRIPTION:5/6 | Soccer\nPutnam County Family YMCA\n
URL;VALUE=URI:https://ygametime.com/branch/putnam/sports/2023-spring-soccer/15755/?utm_medium=calendar&utm_source=team_cal&utm_content=league_url#game-368119
LOCATION:Field 3 (5/6)
BEGIN:VALARM
TRIGGER:-P2H
ACTION:DISPLAY
DESCRIPTION:Bell vs Boaz
END:VALARM
END:VEVENT
BEGIN:VEVENT
UID:putnam-368098@ygametime.com
DTSTAMP:20230422T150000Z
DTSTART;TZID=America/New_York:20230422T110000
DURATION:PT0H60M0S
SUMMARY:Bell vs Martin
DESCRIPTION:5/6 | Soccer\nPutnam County Family YMCA\n
URL;VALUE=URI:https://ygametime.com/branch/putnam/sports/2023-spring-soccer/15755/?utm_medium=calendar&utm_source=team_cal&utm_content=league_url#game-368098
LOCATION:Field 3 (5/6)
BEGIN:VALARM
TRIGGER:-P2H
ACTION:DISPLAY
DESCRIPTION:Bell vs Martin
END:VALARM
END:VEVENT
BEGIN:VEVENT
UID:putnam-368105@ygametime.com
DTSTAMP:20230429T154500Z
DTSTART;TZID=America/New_York:20230429T114500
DURATION:PT0H60M0S
SUMMARY:Bell vs Cochran
DESCRIPTION:5/6 | Soccer\nPutnam County Family YMCA\n
URL;VALUE=URI:https://ygametime.com/branch/putnam/sports/2023-spring-soccer/15755/?utm_medium=calendar&utm_source=team_cal&utm_content=league_url#game-368105
LOCATION:Field 2 (5/6)
BEGIN:VALARM
TRIGGER:-P2H
ACTION:DISPLAY
DESCRIPTION:Bell vs Cochran
END:VALARM
END:VEVENT
BEGIN:VEVENT
UID:putnam-368107@ygametime.com
DTSTAMP:20230506T143000Z
DTSTART;TZID=America/New_York:20230506T103000
DURATION:PT0H60M0S
SUMMARY:Grimm vs Bell
DESCRIPTION:5/6 | Soccer\nPutnam County Family YMCA\n
URL;VALUE=URI:https://ygametime.com/branch/putnam/sports/2023-spring-soccer/15755/?utm_medium=calendar&utm_source=team_cal&utm_content=league_url#game-368107
LOCATION:Field 3 (5/6)
BEGIN:VALARM
TRIGGER:-P2H
ACTION:DISPLAY
DESCRIPTION:Grimm vs Bell
END:VALARM
END:VEVENT
BEGIN:VEVENT
UID:putnam-368114@ygametime.com
DTSTAMP:20230513T140000Z
DTSTART;TZID=America/New_York:20230513T100000
DURATION:PT0H60M0S
SUMMARY:Bell vs Currier
DESCRIPTION:5/6 | Soccer\nPutnam County Family YMCA\n
URL;VALUE=URI:https://ygametime.com/branch/putnam/sports/2023-spring-soccer/15755/?utm_medium=calendar&utm_source=team_cal&utm_content=league_url#game-368114
LOCATION:Field 3 (5/6)
BEGIN:VALARM
TRIGGER:-P2H
ACTION:DISPLAY
DESCRIPTION:Bell vs Currier
END:VALARM
END:VEVENT
BEGIN:VEVENT
UID:putnam-368084@ygametime.com
DTSTAMP:20230520T141500Z
DTSTART;TZID=America/New_York:20230520T101500
DURATION:PT0H60M0S
SUMMARY:Bell vs Stites
DESCRIPTION:5/6 | Soccer\nPutnam County Family YMCA\n
URL;VALUE=URI:https://ygametime.com/branch/putnam/sports/2023-spring-soccer/15755/?utm_medium=calendar&utm_source=team_cal&utm_content=league_url#game-368084
LOCATION:Field 2 (5/6)
BEGIN:VALARM
TRIGGER:-P2H
ACTION:DISPLAY
DESCRIPTION:Bell vs Stites
END:VALARM
END:VEVENT
BEGIN:VEVENT
UID:putnam-386018@ygametime.com
DTSTAMP:20230525T211500Z
DTSTART;TZID=America/New_York:20230525T171500
DURATION:PT0H60M0S
SUMMARY:Stites vs Bell
DESCRIPTION:5/6 | Soccer\nPutnam County Family YMCA\n
URL;VALUE=URI:https://ygametime.com/branch/putnam/sports/2023-spring-soccer/15755/?utm_medium=calendar&utm_source=team_cal&utm_content=league_url#game-386018
LOCATION:Field 2 (5/6)
BEGIN:VALARM
TRIGGER:-P2H
ACTION:DISPLAY
DESCRIPTION:Stites vs Bell
END:VALARM
END:VEVENT
END:VCALENDAR

