BEGIN:VCALENDAR
VERSION:2.0
PRODID:-//YGAMETIME.com//YGT iCal Creator//EN
METHOD:PUBLISH
X-PUBLISHED-TTL:PT6H
REFRESH-INTERVAL;VALUE=DURATION:PT6H
CALSCALE:GREGORIAN
X-WR-CALNAME:YGAMETIME CALENDAR
BEGIN:VTIMEZONE
TZID:America/New_York
X-LIC-LOCATION:America/New_York
BEGIN:DAYLIGHT
TZOFFSETFROM:-0500
TZOFFSETTO:-0400
TZNAME:EDT
DTSTART:19700308T020000
RRULE:FREQ=YEARLY;BYMONTH=3;BYDAY=2SU
END:DAYLIGHT
BEGIN:STANDARD
TZOFFSETFROM:-0400
TZOFFSETTO:-0500
TZNAME:EST
DTSTART:19701101T020000
RRULE:FREQ=YEARLY;BYMONTH=11;BYDAY=1SU
END:STANDARD
END:VTIMEZONE
BEGIN:VEVENT
UID:putnam-367222@ygametime.com
DTSTAMP:20230401T123000Z
DTSTART;TZID=America/New_York:20230401T083000
DURATION:PT0H60M0S
SUMMARY:Smith vs Randolph
DESCRIPTION:7/8 | Soccer\nPutnam County Family YMCA\n
URL;VALUE=URI:https://ygametime.com/branch/putnam/sports/2023-spring-soccer/15756/?utm_medium=calendar&utm_source=team_cal&utm_content=league_url#game-367222
LOCATION:Field 4 (7/8)
BEGIN:VALARM
TRIGGER:-P2H
ACTION:DISPLAY
DESCRIPTION:Smith vs Randolph
END:VALARM
END:VEVENT
BEGIN:VEVENT
UID:putnam-367235@ygametime.com
DTSTAMP:20230415T143000Z
DTSTART;TZID=America/New_York:20230415T103000
DURATION:PT0H60M0S
SUMMARY:Czalbowski vs Randolph
DESCRIPTION:7/8 | Soccer\nPutnam County Family YMCA\n
URL;VALUE=URI:https://ygametime.com/branch/putnam/sports/2023-spring-soccer/15756/?utm_medium=calendar&utm_source=team_cal&utm_content=league_url#game-367235
LOCATION:Field 4 (7/8)
BEGIN:VALARM
TRIGGER:-P2H
ACTION:DISPLAY
DESCRIPTION:Czalbowski vs Randolph
END:VALARM
END:VEVENT
BEGIN:VEVENT
UID:putnam-367239@ygametime.com
DTSTAMP:20230422T133000Z
DTSTART;TZID=America/New_York:20230422T093000
DURATION:PT0H60M0S
SUMMARY:Randolph vs Lafountain
DESCRIPTION:7/8 | Soccer\nPutnam County Family YMCA\n
URL;VALUE=URI:https://ygametime.com/branch/putnam/sports/2023-spring-soccer/15756/?utm_medium=calendar&utm_source=team_cal&utm_content=league_url#game-367239
LOCATION:Field 5 (7/8)
BEGIN:VALARM
TRIGGER:-P2H
ACTION:DISPLAY
DESCRIPTION:Randolph vs Lafountain
END:VALARM
END:VEVENT
BEGIN:VEVENT
UID:putnam-367259@ygametime.com
DTSTAMP:20230427T214500Z
DTSTART;TZID=America/New_York:20230427T174500
DURATION:PT0H60M0S
SUMMARY:Thompson vs Randolph
DESCRIPTION:7/8 | Soccer\nPutnam County Family YMCA\n
URL;VALUE=URI:https://ygametime.com/branch/putnam/sports/2023-spring-soccer/15756/?utm_medium=calendar&utm_source=team_cal&utm_content=league_url#game-367259
LOCATION:Field 4 (7/8)
BEGIN:VALARM
TRIGGER:-P2H
ACTION:DISPLAY
DESCRIPTION:Thompson vs Randolph
END:VALARM
END:VEVENT
BEGIN:VEVENT
UID:putnam-367247@ygametime.com
DTSTAMP:20230506T133000Z
DTSTART;TZID=America/New_York:20230506T093000
DURATION:PT0H60M0S
SUMMARY:Randolph vs Stiles
DESCRIPTION:7/8 | Soccer\nPutnam County Family YMCA\n
URL;VALUE=URI:https://ygametime.com/branch/putnam/sports/2023-spring-soccer/15756/?utm_medium=calendar&utm_source=team_cal&utm_content=league_url#game-367247
LOCATION:Field 5 (7/8)
BEGIN:VALARM
TRIGGER:-P2H
ACTION:DISPLAY
DESCRIPTION:Randolph vs Stiles
END:VALARM
END:VEVENT
BEGIN:VEVENT
UID:putnam-367255@ygametime.com
DTSTAMP:20230513T153000Z
DTSTART;TZID=America/New_York:20230513T113000
DURATION:PT0H60M0S
SUMMARY:Randolph vs Currier
DESCRIPTION:7/8 | Soccer\nPutnam County Family YMCA\n
URL;VALUE=URI:https://ygametime.com/branch/putnam/sports/2023-spring-soccer/15756/?utm_medium=calendar&utm_source=team_cal&utm_content=league_url#game-367255
LOCATION:Field 5 (7/8)
BEGIN:VALARM
TRIGGER:-P2H
ACTION:DISPLAY
DESCRIPTION:Randolph vs Currier
END:VALARM
END:VEVENT
BEGIN:VEVENT
UID:putnam-386023@ygametime.com
DTSTAMP:20230526T213000Z
DTSTART;TZID=America/New_York:20230526T173000
DURATION:PT0H60M0S
SUMMARY:Currier vs Randolph
DESCRIPTION:7/8 | Soccer\nPutnam County Family YMCA\n
URL;VALUE=URI:https://ygametime.com/branch/putnam/sports/2023-spring-soccer/15756/?utm_medium=calendar&utm_source=team_cal&utm_content=league_url#game-386023
LOCATION:Field 5 (7/8)
BEGIN:VALARM
TRIGGER:-P2H
ACTION:DISPLAY
DESCRIPTION:Currier vs Randolph
END:VALARM
END:VEVENT
END:VCALENDAR

