BEGIN:VCALENDAR
VERSION:2.0
PRODID:-//YGAMETIME.com//YGT iCal Creator//EN
METHOD:PUBLISH
X-PUBLISHED-TTL:PT6H
REFRESH-INTERVAL;VALUE=DURATION:PT6H
CALSCALE:GREGORIAN
X-WR-CALNAME:YGAMETIME CALENDAR
BEGIN:VTIMEZONE
TZID:America/New_York
X-LIC-LOCATION:America/New_York
BEGIN:DAYLIGHT
TZOFFSETFROM:-0500
TZOFFSETTO:-0400
TZNAME:EDT
DTSTART:19700308T020000
RRULE:FREQ=YEARLY;BYMONTH=3;BYDAY=2SU
END:DAYLIGHT
BEGIN:STANDARD
TZOFFSETFROM:-0400
TZOFFSETTO:-0500
TZNAME:EST
DTSTART:19701101T020000
RRULE:FREQ=YEARLY;BYMONTH=11;BYDAY=1SU
END:STANDARD
END:VTIMEZONE
BEGIN:VEVENT
UID:putnam-367226@ygametime.com
DTSTAMP:20230401T163000Z
DTSTART;TZID=America/New_York:20230401T123000
DURATION:PT0H60M0S
SUMMARY:Thompson vs Eldridge
DESCRIPTION:7/8 | Soccer\nPutnam County Family YMCA\n
URL;VALUE=URI:https://ygametime.com/branch/putnam/sports/2023-spring-soccer/15756/?utm_medium=calendar&utm_source=team_cal&utm_content=league_url#game-367226
LOCATION:Field 4 (7/8)
BEGIN:VALARM
TRIGGER:-P2H
ACTION:DISPLAY
DESCRIPTION:Thompson vs Eldridge
END:VALARM
END:VEVENT
BEGIN:VEVENT
UID:putnam-367819@ygametime.com
DTSTAMP:20230415T123000Z
DTSTART;TZID=America/New_York:20230415T083000
DURATION:PT0H60M0S
SUMMARY:Smith vs Thompson
DESCRIPTION:7/8 | Soccer\nPutnam County Family YMCA\n
URL;VALUE=URI:https://ygametime.com/branch/putnam/sports/2023-spring-soccer/15756/?utm_medium=calendar&utm_source=team_cal&utm_content=league_url#game-367819
LOCATION:Field 4 (7/8)
BEGIN:VALARM
TRIGGER:-P2H
ACTION:DISPLAY
DESCRIPTION:Smith vs Thompson
END:VALARM
END:VEVENT
BEGIN:VEVENT
UID:putnam-367238@ygametime.com
DTSTAMP:20230422T123000Z
DTSTART;TZID=America/New_York:20230422T083000
DURATION:PT0H60M0S
SUMMARY:Scantland vs Thompson
DESCRIPTION:7/8 | Soccer\nPutnam County Family YMCA\n
URL;VALUE=URI:https://ygametime.com/branch/putnam/sports/2023-spring-soccer/15756/?utm_medium=calendar&utm_source=team_cal&utm_content=league_url#game-367238
LOCATION:Field 4 (7/8)
BEGIN:VALARM
TRIGGER:-P2H
ACTION:DISPLAY
DESCRIPTION:Scantland vs Thompson
END:VALARM
END:VEVENT
BEGIN:VEVENT
UID:putnam-367259@ygametime.com
DTSTAMP:20230427T214500Z
DTSTART;TZID=America/New_York:20230427T174500
DURATION:PT0H60M0S
SUMMARY:Thompson vs Randolph
DESCRIPTION:7/8 | Soccer\nPutnam County Family YMCA\n
URL;VALUE=URI:https://ygametime.com/branch/putnam/sports/2023-spring-soccer/15756/?utm_medium=calendar&utm_source=team_cal&utm_content=league_url#game-367259
LOCATION:Field 4 (7/8)
BEGIN:VALARM
TRIGGER:-P2H
ACTION:DISPLAY
DESCRIPTION:Thompson vs Randolph
END:VALARM
END:VEVENT
BEGIN:VEVENT
UID:putnam-367246@ygametime.com
DTSTAMP:20230429T153000Z
DTSTART;TZID=America/New_York:20230429T113000
DURATION:PT0H60M0S
SUMMARY:Thompson vs Currier
DESCRIPTION:7/8 | Soccer\nPutnam County Family YMCA\n
URL;VALUE=URI:https://ygametime.com/branch/putnam/sports/2023-spring-soccer/15756/?utm_medium=calendar&utm_source=team_cal&utm_content=league_url#game-367246
LOCATION:Field 5 (7/8)
BEGIN:VALARM
TRIGGER:-P2H
ACTION:DISPLAY
DESCRIPTION:Thompson vs Currier
END:VALARM
END:VEVENT
BEGIN:VEVENT
UID:putnam-367249@ygametime.com
DTSTAMP:20230506T143000Z
DTSTART;TZID=America/New_York:20230506T103000
DURATION:PT0H60M0S
SUMMARY:Lafountain vs Thompson
DESCRIPTION:7/8 | Soccer\nPutnam County Family YMCA\n
URL;VALUE=URI:https://ygametime.com/branch/putnam/sports/2023-spring-soccer/15756/?utm_medium=calendar&utm_source=team_cal&utm_content=league_url#game-367249
LOCATION:Field 4 (7/8)
BEGIN:VALARM
TRIGGER:-P2H
ACTION:DISPLAY
DESCRIPTION:Lafountain vs Thompson
END:VALARM
END:VEVENT
BEGIN:VEVENT
UID:putnam-367252@ygametime.com
DTSTAMP:20230513T133000Z
DTSTART;TZID=America/New_York:20230513T093000
DURATION:PT0H60M0S
SUMMARY:Thompson vs Stiles
DESCRIPTION:7/8 | Soccer\nPutnam County Family YMCA\n
URL;VALUE=URI:https://ygametime.com/branch/putnam/sports/2023-spring-soccer/15756/?utm_medium=calendar&utm_source=team_cal&utm_content=league_url#game-367252
LOCATION:Field 5 (7/8)
BEGIN:VALARM
TRIGGER:-P2H
ACTION:DISPLAY
DESCRIPTION:Thompson vs Stiles
END:VALARM
END:VEVENT
BEGIN:VEVENT
UID:putnam-386010@ygametime.com
DTSTAMP:20230525T221500Z
DTSTART;TZID=America/New_York:20230525T181500
DURATION:PT0H60M0S
SUMMARY:Eldridge vs Thompson
DESCRIPTION:7/8 | Soccer\nPutnam County Family YMCA\n
URL;VALUE=URI:https://ygametime.com/branch/putnam/sports/2023-spring-soccer/15756/?utm_medium=calendar&utm_source=team_cal&utm_content=league_url#game-386010
LOCATION:Field 5 (7/8)
BEGIN:VALARM
TRIGGER:-P2H
ACTION:DISPLAY
DESCRIPTION:Eldridge vs Thompson
END:VALARM
END:VEVENT
END:VCALENDAR

