BEGIN:VCALENDAR
VERSION:2.0
PRODID:-//YGAMETIME.com//YGT iCal Creator//EN
METHOD:PUBLISH
X-PUBLISHED-TTL:PT6H
REFRESH-INTERVAL;VALUE=DURATION:PT6H
CALSCALE:GREGORIAN
X-WR-CALNAME:YGAMETIME CALENDAR
BEGIN:VTIMEZONE
TZID:America/New_York
X-LIC-LOCATION:America/New_York
BEGIN:DAYLIGHT
TZOFFSETFROM:-0500
TZOFFSETTO:-0400
TZNAME:EDT
DTSTART:19700308T020000
RRULE:FREQ=YEARLY;BYMONTH=3;BYDAY=2SU
END:DAYLIGHT
BEGIN:STANDARD
TZOFFSETFROM:-0400
TZOFFSETTO:-0500
TZNAME:EST
DTSTART:19701101T020000
RRULE:FREQ=YEARLY;BYMONTH=11;BYDAY=1SU
END:STANDARD
END:VTIMEZONE
BEGIN:VEVENT
UID:putnam-367222@ygametime.com
DTSTAMP:20230401T123000Z
DTSTART;TZID=America/New_York:20230401T083000
DURATION:PT0H60M0S
SUMMARY:Smith vs Randolph
DESCRIPTION:7/8 | Soccer\nPutnam County Family YMCA\n
URL;VALUE=URI:https://ygametime.com/branch/putnam/sports/2023-spring-soccer/15756/?utm_medium=calendar&utm_source=team_cal&utm_content=league_url#game-367222
LOCATION:Field 4 (7/8)
BEGIN:VALARM
TRIGGER:-P2H
ACTION:DISPLAY
DESCRIPTION:Smith vs Randolph
END:VALARM
END:VEVENT
BEGIN:VEVENT
UID:putnam-367819@ygametime.com
DTSTAMP:20230415T123000Z
DTSTART;TZID=America/New_York:20230415T083000
DURATION:PT0H60M0S
SUMMARY:Smith vs Thompson
DESCRIPTION:7/8 | Soccer\nPutnam County Family YMCA\n
URL;VALUE=URI:https://ygametime.com/branch/putnam/sports/2023-spring-soccer/15756/?utm_medium=calendar&utm_source=team_cal&utm_content=league_url#game-367819
LOCATION:Field 4 (7/8)
BEGIN:VALARM
TRIGGER:-P2H
ACTION:DISPLAY
DESCRIPTION:Smith vs Thompson
END:VALARM
END:VEVENT
BEGIN:VEVENT
UID:putnam-367435@ygametime.com
DTSTAMP:20230417T211500Z
DTSTART;TZID=America/New_York:20230417T171500
DURATION:PT0H60M0S
SUMMARY:Smith vs Eldridge
DESCRIPTION:7/8 | Soccer\nPutnam County Family YMCA\n
URL;VALUE=URI:https://ygametime.com/branch/putnam/sports/2023-spring-soccer/15756/?utm_medium=calendar&utm_source=team_cal&utm_content=league_url#game-367435
LOCATION:Field 5 (7/8)
BEGIN:VALARM
TRIGGER:-P2H
ACTION:DISPLAY
DESCRIPTION:Smith vs Eldridge
END:VALARM
END:VEVENT
BEGIN:VEVENT
UID:putnam-367241@ygametime.com
DTSTAMP:20230422T143000Z
DTSTART;TZID=America/New_York:20230422T103000
DURATION:PT0H60M0S
SUMMARY:Smith vs Stiles
DESCRIPTION:7/8 | Soccer\nPutnam County Family YMCA\n
URL;VALUE=URI:https://ygametime.com/branch/putnam/sports/2023-spring-soccer/15756/?utm_medium=calendar&utm_source=team_cal&utm_content=league_url#game-367241
LOCATION:Field 4 (7/8)
BEGIN:VALARM
TRIGGER:-P2H
ACTION:DISPLAY
DESCRIPTION:Smith vs Stiles
END:VALARM
END:VEVENT
BEGIN:VEVENT
UID:putnam-367242@ygametime.com
DTSTAMP:20230429T123000Z
DTSTART;TZID=America/New_York:20230429T083000
DURATION:PT0H60M0S
SUMMARY:Smith vs Scantland
DESCRIPTION:7/8 | Soccer\nPutnam County Family YMCA\n
URL;VALUE=URI:https://ygametime.com/branch/putnam/sports/2023-spring-soccer/15756/?utm_medium=calendar&utm_source=team_cal&utm_content=league_url#game-367242
LOCATION:Field 4 (7/8)
BEGIN:VALARM
TRIGGER:-P2H
ACTION:DISPLAY
DESCRIPTION:Smith vs Scantland
END:VALARM
END:VEVENT
BEGIN:VEVENT
UID:putnam-367251@ygametime.com
DTSTAMP:20230506T163000Z
DTSTART;TZID=America/New_York:20230506T123000
DURATION:PT0H60M0S
SUMMARY:Currier vs Smith
DESCRIPTION:7/8 | Soccer\nPutnam County Family YMCA\n
URL;VALUE=URI:https://ygametime.com/branch/putnam/sports/2023-spring-soccer/15756/?utm_medium=calendar&utm_source=team_cal&utm_content=league_url#game-367251
LOCATION:Field 4 (7/8)
BEGIN:VALARM
TRIGGER:-P2H
ACTION:DISPLAY
DESCRIPTION:Currier vs Smith
END:VALARM
END:VEVENT
BEGIN:VEVENT
UID:putnam-367254@ygametime.com
DTSTAMP:20230513T123000Z
DTSTART;TZID=America/New_York:20230513T083000
DURATION:PT0H60M0S
SUMMARY:Smith vs Lafountain
DESCRIPTION:7/8 | Soccer\nPutnam County Family YMCA\n
URL;VALUE=URI:https://ygametime.com/branch/putnam/sports/2023-spring-soccer/15756/?utm_medium=calendar&utm_source=team_cal&utm_content=league_url#game-367254
LOCATION:Field 4 (7/8)
BEGIN:VALARM
TRIGGER:-P2H
ACTION:DISPLAY
DESCRIPTION:Smith vs Lafountain
END:VALARM
END:VEVENT
BEGIN:VEVENT
UID:putnam-386005@ygametime.com
DTSTAMP:20230525T211500Z
DTSTART;TZID=America/New_York:20230525T171500
DURATION:PT0H60M0S
SUMMARY:Czalbowski vs Smith
DESCRIPTION:7/8 | Soccer\nPutnam County Family YMCA\n
URL;VALUE=URI:https://ygametime.com/branch/putnam/sports/2023-spring-soccer/15756/?utm_medium=calendar&utm_source=team_cal&utm_content=league_url#game-386005
LOCATION:Field 4 (7/8)
BEGIN:VALARM
TRIGGER:-P2H
ACTION:DISPLAY
DESCRIPTION:Czalbowski vs Smith
END:VALARM
END:VEVENT
END:VCALENDAR

