BEGIN:VCALENDAR
VERSION:2.0
PRODID:-//YGAMETIME.com//YGT iCal Creator//EN
METHOD:PUBLISH
X-PUBLISHED-TTL:PT6H
REFRESH-INTERVAL;VALUE=DURATION:PT6H
CALSCALE:GREGORIAN
X-WR-CALNAME:YGAMETIME CALENDAR
BEGIN:VTIMEZONE
TZID:America/New_York
X-LIC-LOCATION:America/New_York
BEGIN:DAYLIGHT
TZOFFSETFROM:-0500
TZOFFSETTO:-0400
TZNAME:EDT
DTSTART:19700308T020000
RRULE:FREQ=YEARLY;BYMONTH=3;BYDAY=2SU
END:DAYLIGHT
BEGIN:STANDARD
TZOFFSETFROM:-0400
TZOFFSETTO:-0500
TZNAME:EST
DTSTART:19701101T020000
RRULE:FREQ=YEARLY;BYMONTH=11;BYDAY=1SU
END:STANDARD
END:VTIMEZONE
BEGIN:VEVENT
UID:putnam-367224@ygametime.com
DTSTAMP:20230401T143000Z
DTSTART;TZID=America/New_York:20230401T103000
DURATION:PT0H60M0S
SUMMARY:Stiles vs Czalbowski
DESCRIPTION:7/8 | Soccer\nPutnam County Family YMCA\n
URL;VALUE=URI:https://ygametime.com/branch/putnam/sports/2023-spring-soccer/15756/?utm_medium=calendar&utm_source=team_cal&utm_content=league_url#game-367224
LOCATION:Field 4 (7/8)
BEGIN:VALARM
TRIGGER:-P2H
ACTION:DISPLAY
DESCRIPTION:Stiles vs Czalbowski
END:VALARM
END:VEVENT
BEGIN:VEVENT
UID:putnam-367235@ygametime.com
DTSTAMP:20230415T143000Z
DTSTART;TZID=America/New_York:20230415T103000
DURATION:PT0H60M0S
SUMMARY:Czalbowski vs Randolph
DESCRIPTION:7/8 | Soccer\nPutnam County Family YMCA\n
URL;VALUE=URI:https://ygametime.com/branch/putnam/sports/2023-spring-soccer/15756/?utm_medium=calendar&utm_source=team_cal&utm_content=league_url#game-367235
LOCATION:Field 4 (7/8)
BEGIN:VALARM
TRIGGER:-P2H
ACTION:DISPLAY
DESCRIPTION:Czalbowski vs Randolph
END:VALARM
END:VEVENT
BEGIN:VEVENT
UID:putnam-368289@ygametime.com
DTSTAMP:20230424T220000Z
DTSTART;TZID=America/New_York:20230424T180000
DURATION:PT0H60M0S
SUMMARY:Eldridge vs Czalbowski
DESCRIPTION:7/8 | Soccer\nPutnam County Family YMCA\n
URL;VALUE=URI:https://ygametime.com/branch/putnam/sports/2023-spring-soccer/15756/?utm_medium=calendar&utm_source=team_cal&utm_content=league_url#game-368289
LOCATION:Field 5 (7/8)
BEGIN:VALARM
TRIGGER:-P2H
ACTION:DISPLAY
DESCRIPTION:Eldridge vs Czalbowski
END:VALARM
END:VEVENT
BEGIN:VEVENT
UID:putnam-367245@ygametime.com
DTSTAMP:20230429T143000Z
DTSTART;TZID=America/New_York:20230429T103000
DURATION:PT0H60M0S
SUMMARY:Czalbowski vs Damas
DESCRIPTION:7/8 | Soccer\nPutnam County Family YMCA\n
URL;VALUE=URI:https://ygametime.com/branch/putnam/sports/2023-spring-soccer/15756/?utm_medium=calendar&utm_source=team_cal&utm_content=league_url#game-367245
LOCATION:Field 4 (7/8)
BEGIN:VALARM
TRIGGER:-P2H
ACTION:DISPLAY
DESCRIPTION:Czalbowski vs Damas
END:VALARM
END:VEVENT
BEGIN:VEVENT
UID:putnam-367250@ygametime.com
DTSTAMP:20230506T153000Z
DTSTART;TZID=America/New_York:20230506T113000
DURATION:PT0H60M0S
SUMMARY:Scantland vs Czalbowski
DESCRIPTION:7/8 | Soccer\nPutnam County Family YMCA\n
URL;VALUE=URI:https://ygametime.com/branch/putnam/sports/2023-spring-soccer/15756/?utm_medium=calendar&utm_source=team_cal&utm_content=league_url#game-367250
LOCATION:Field 5 (7/8)
BEGIN:VALARM
TRIGGER:-P2H
ACTION:DISPLAY
DESCRIPTION:Scantland vs Czalbowski
END:VALARM
END:VEVENT
BEGIN:VEVENT
UID:putnam-367260@ygametime.com
DTSTAMP:20230512T213000Z
DTSTART;TZID=America/New_York:20230512T173000
DURATION:PT0H60M0S
SUMMARY:Damas vs Czalbowski
DESCRIPTION:7/8 | Soccer\nPutnam County Family YMCA\n
URL;VALUE=URI:https://ygametime.com/branch/putnam/sports/2023-spring-soccer/15756/?utm_medium=calendar&utm_source=team_cal&utm_content=league_url#game-367260
LOCATION:Field 5 (7/8)
BEGIN:VALARM
TRIGGER:-P2H
ACTION:DISPLAY
DESCRIPTION:Damas vs Czalbowski
END:VALARM
END:VEVENT
BEGIN:VEVENT
UID:putnam-386005@ygametime.com
DTSTAMP:20230525T211500Z
DTSTART;TZID=America/New_York:20230525T171500
DURATION:PT0H60M0S
SUMMARY:Czalbowski vs Smith
DESCRIPTION:7/8 | Soccer\nPutnam County Family YMCA\n
URL;VALUE=URI:https://ygametime.com/branch/putnam/sports/2023-spring-soccer/15756/?utm_medium=calendar&utm_source=team_cal&utm_content=league_url#game-386005
LOCATION:Field 4 (7/8)
BEGIN:VALARM
TRIGGER:-P2H
ACTION:DISPLAY
DESCRIPTION:Czalbowski vs Smith
END:VALARM
END:VEVENT
END:VCALENDAR

