BEGIN:VCALENDAR
VERSION:2.0
PRODID:-//YGAMETIME.com//YGT iCal Creator//EN
METHOD:PUBLISH
X-PUBLISHED-TTL:PT6H
REFRESH-INTERVAL;VALUE=DURATION:PT6H
CALSCALE:GREGORIAN
X-WR-CALNAME:YGAMETIME CALENDAR
BEGIN:VTIMEZONE
TZID:America/New_York
X-LIC-LOCATION:America/New_York
BEGIN:DAYLIGHT
TZOFFSETFROM:-0500
TZOFFSETTO:-0400
TZNAME:EDT
DTSTART:19700308T020000
RRULE:FREQ=YEARLY;BYMONTH=3;BYDAY=2SU
END:DAYLIGHT
BEGIN:STANDARD
TZOFFSETFROM:-0400
TZOFFSETTO:-0500
TZNAME:EST
DTSTART:19701101T020000
RRULE:FREQ=YEARLY;BYMONTH=11;BYDAY=1SU
END:STANDARD
END:VTIMEZONE
BEGIN:VEVENT
UID:putnam-400867@ygametime.com
DTSTAMP:20230908T211500Z
DTSTART;TZID=America/New_York:20230908T171500
DURATION:PT0H90M0S
SUMMARY:Meadows vs Bowers
DESCRIPTION:11/14 | Soccer\nPutnam County Family YMCA\n
URL;VALUE=URI:https://ygametime.com/branch/putnam/sports/2023-fall-soccer/16806/?utm_medium=calendar&utm_source=team_cal&utm_content=league_url#game-400867
LOCATION:Field 6 (9/11 Game Field)
BEGIN:VALARM
TRIGGER:-P2H
ACTION:DISPLAY
DESCRIPTION:Meadows vs Bowers
END:VALARM
END:VEVENT
BEGIN:VEVENT
UID:putnam-400856@ygametime.com
DTSTAMP:20230916T130000Z
DTSTART;TZID=America/New_York:20230916T090000
DURATION:PT0H90M0S
SUMMARY:Tonietti vs Bowers
DESCRIPTION:11/14 | Soccer\nPutnam County Family YMCA\n
URL;VALUE=URI:https://ygametime.com/branch/putnam/sports/2023-fall-soccer/16806/?utm_medium=calendar&utm_source=team_cal&utm_content=league_url#game-400856
LOCATION:Field 6 (9/11 Game Field)
BEGIN:VALARM
TRIGGER:-P2H
ACTION:DISPLAY
DESCRIPTION:Tonietti vs Bowers
END:VALARM
END:VEVENT
BEGIN:VEVENT
UID:putnam-400858@ygametime.com
DTSTAMP:20230923T130000Z
DTSTART;TZID=America/New_York:20230923T090000
DURATION:PT0H90M0S
SUMMARY:Wallace vs Bowers
DESCRIPTION:11/14 | Soccer\nPutnam County Family YMCA\n
URL;VALUE=URI:https://ygametime.com/branch/putnam/sports/2023-fall-soccer/16806/?utm_medium=calendar&utm_source=team_cal&utm_content=league_url#game-400858
LOCATION:Field 6 (9/11 Game Field)
BEGIN:VALARM
TRIGGER:-P2H
ACTION:DISPLAY
DESCRIPTION:Wallace vs Bowers
END:VALARM
END:VEVENT
BEGIN:VEVENT
UID:putnam-400864@ygametime.com
DTSTAMP:20231014T130000Z
DTSTART;TZID=America/New_York:20231014T090000
DURATION:PT0H90M0S
SUMMARY:Bowers vs Meadows
DESCRIPTION:11/14 | Soccer\nPutnam County Family YMCA\n
URL;VALUE=URI:https://ygametime.com/branch/putnam/sports/2023-fall-soccer/16806/?utm_medium=calendar&utm_source=team_cal&utm_content=league_url#game-400864
LOCATION:Field 6 (9/11 Game Field)
BEGIN:VALARM
TRIGGER:-P2H
ACTION:DISPLAY
DESCRIPTION:Bowers vs Meadows
END:VALARM
END:VEVENT
BEGIN:VEVENT
UID:putnam-401251@ygametime.com
DTSTAMP:20231028T140000Z
DTSTART;TZID=America/New_York:20231028T100000
DURATION:PT0H90M0S
SUMMARY:Bowers vs Wallace
DESCRIPTION:11/14 | Soccer\nPutnam County Family YMCA\n
URL;VALUE=URI:https://ygametime.com/branch/putnam/sports/2023-fall-soccer/16806/?utm_medium=calendar&utm_source=team_cal&utm_content=league_url#game-401251
LOCATION:Field 6 (9/11 Game Field)
BEGIN:VALARM
TRIGGER:-P2H
ACTION:DISPLAY
DESCRIPTION:Bowers vs Wallace
END:VALARM
END:VEVENT
END:VCALENDAR

