BEGIN:VCALENDAR
VERSION:2.0
PRODID:-//YGAMETIME.com//YGT iCal Creator//EN
METHOD:PUBLISH
X-PUBLISHED-TTL:PT6H
REFRESH-INTERVAL;VALUE=DURATION:PT6H
CALSCALE:GREGORIAN
X-WR-CALNAME:YGAMETIME CALENDAR
BEGIN:VTIMEZONE
TZID:America/New_York
X-LIC-LOCATION:America/New_York
BEGIN:DAYLIGHT
TZOFFSETFROM:-0500
TZOFFSETTO:-0400
TZNAME:EDT
DTSTART:19700308T020000
RRULE:FREQ=YEARLY;BYMONTH=3;BYDAY=2SU
END:DAYLIGHT
BEGIN:STANDARD
TZOFFSETFROM:-0400
TZOFFSETTO:-0500
TZNAME:EST
DTSTART:19701101T020000
RRULE:FREQ=YEARLY;BYMONTH=11;BYDAY=1SU
END:STANDARD
END:VTIMEZONE
BEGIN:VEVENT
UID:putnam-400915@ygametime.com
DTSTAMP:20230909T143000Z
DTSTART;TZID=America/New_York:20230909T103000
DURATION:PT0H60M0S
SUMMARY:Stratton vs Paramore
DESCRIPTION:5/6 | Soccer\nPutnam County Family YMCA\n
URL;VALUE=URI:https://ygametime.com/branch/putnam/sports/2023-fall-soccer/16809/?utm_medium=calendar&utm_source=team_cal&utm_content=league_url#game-400915
LOCATION:Field 3 (5/6)
BEGIN:VALARM
TRIGGER:-P2H
ACTION:DISPLAY
DESCRIPTION:Stratton vs Paramore
END:VALARM
END:VEVENT
BEGIN:VEVENT
UID:putnam-401184@ygametime.com
DTSTAMP:20230915T213000Z
DTSTART;TZID=America/New_York:20230915T173000
DURATION:PT0H60M0S
SUMMARY:Currier vs Paramore
DESCRIPTION:5/6 | Soccer\nPutnam County Family YMCA\n
URL;VALUE=URI:https://ygametime.com/branch/putnam/sports/2023-fall-soccer/16809/?utm_medium=calendar&utm_source=team_cal&utm_content=league_url#game-401184
LOCATION:Field 3 (5/6)
BEGIN:VALARM
TRIGGER:-P2H
ACTION:DISPLAY
DESCRIPTION:Currier vs Paramore
END:VALARM
END:VEVENT
BEGIN:VEVENT
UID:putnam-400931@ygametime.com
DTSTAMP:20230923T173000Z
DTSTART;TZID=America/New_York:20230923T133000
DURATION:PT0H60M0S
SUMMARY:Cameron vs Paramore
DESCRIPTION:5/6 | Soccer\nPutnam County Family YMCA\n
URL;VALUE=URI:https://ygametime.com/branch/putnam/sports/2023-fall-soccer/16809/?utm_medium=calendar&utm_source=team_cal&utm_content=league_url#game-400931
LOCATION:Field 3 (5/6)
BEGIN:VALARM
TRIGGER:-P2H
ACTION:DISPLAY
DESCRIPTION:Cameron vs Paramore
END:VALARM
END:VEVENT
BEGIN:VEVENT
UID:putnam-410280@ygametime.com
DTSTAMP:20230926T213000Z
DTSTART;TZID=America/New_York:20230926T173000
DURATION:PT0H60M0S
SUMMARY:Cotten vs Paramore
DESCRIPTION:5/6 | Soccer\nPutnam County Family YMCA\n
URL;VALUE=URI:https://ygametime.com/branch/putnam/sports/2023-fall-soccer/16809/?utm_medium=calendar&utm_source=team_cal&utm_content=league_url#game-410280
LOCATION:Field 3 (5/6)
BEGIN:VALARM
TRIGGER:-P2H
ACTION:DISPLAY
DESCRIPTION:Cotten vs Paramore
END:VALARM
END:VEVENT
BEGIN:VEVENT
UID:putnam-400946@ygametime.com
DTSTAMP:20231014T133000Z
DTSTART;TZID=America/New_York:20231014T093000
DURATION:PT0H60M0S
SUMMARY:Paramore vs Garvey
DESCRIPTION:5/6 | Soccer\nPutnam County Family YMCA\n
URL;VALUE=URI:https://ygametime.com/branch/putnam/sports/2023-fall-soccer/16809/?utm_medium=calendar&utm_source=team_cal&utm_content=league_url#game-400946
LOCATION:Field 3 (5/6)
BEGIN:VALARM
TRIGGER:-P2H
ACTION:DISPLAY
DESCRIPTION:Paramore vs Garvey
END:VALARM
END:VEVENT
BEGIN:VEVENT
UID:putnam-414430@ygametime.com
DTSTAMP:20231024T210000Z
DTSTART;TZID=America/New_York:20231024T170000
DURATION:PT0H60M0S
SUMMARY:Paramore vs Rice
DESCRIPTION:5/6 | Soccer\nPutnam County Family YMCA\n
URL;VALUE=URI:https://ygametime.com/branch/putnam/sports/2023-fall-soccer/16809/?utm_medium=calendar&utm_source=team_cal&utm_content=league_url#game-414430
LOCATION:Field 3 (5/6)
BEGIN:VALARM
TRIGGER:-P2H
ACTION:DISPLAY
DESCRIPTION:Paramore vs Rice
END:VALARM
END:VEVENT
END:VCALENDAR

