BEGIN:VCALENDAR
VERSION:2.0
PRODID:-//YGAMETIME.com//YGT iCal Creator//EN
METHOD:PUBLISH
X-PUBLISHED-TTL:PT6H
REFRESH-INTERVAL;VALUE=DURATION:PT6H
CALSCALE:GREGORIAN
X-WR-CALNAME:YGAMETIME CALENDAR
BEGIN:VTIMEZONE
TZID:America/New_York
X-LIC-LOCATION:America/New_York
BEGIN:DAYLIGHT
TZOFFSETFROM:-0500
TZOFFSETTO:-0400
TZNAME:EDT
DTSTART:19700308T020000
RRULE:FREQ=YEARLY;BYMONTH=3;BYDAY=2SU
END:DAYLIGHT
BEGIN:STANDARD
TZOFFSETFROM:-0400
TZOFFSETTO:-0500
TZNAME:EST
DTSTART:19701101T020000
RRULE:FREQ=YEARLY;BYMONTH=11;BYDAY=1SU
END:STANDARD
END:VTIMEZONE
BEGIN:VEVENT
UID:putnam-401218@ygametime.com
DTSTAMP:20230909T130000Z
DTSTART;TZID=America/New_York:20230909T090000
DURATION:PT0H30M0S
SUMMARY:Byrd vs Lemons
DESCRIPTION:3/4 | Soccer\nPutnam County Family YMCA\n
URL;VALUE=URI:https://ygametime.com/branch/putnam/sports/2023-fall-soccer/16810/?utm_medium=calendar&utm_source=team_cal&utm_content=league_url#game-401218
LOCATION:Field 7 (3/4)
BEGIN:VALARM
TRIGGER:-P2H
ACTION:DISPLAY
DESCRIPTION:Byrd vs Lemons
END:VALARM
END:VEVENT
BEGIN:VEVENT
UID:putnam-401245@ygametime.com
DTSTAMP:20230913T213000Z
DTSTART;TZID=America/New_York:20230913T173000
DURATION:PT0H30M0S
SUMMARY:Lemons vs Chreston
DESCRIPTION:3/4 | Soccer\nPutnam County Family YMCA\n
URL;VALUE=URI:https://ygametime.com/branch/putnam/sports/2023-fall-soccer/16810/?utm_medium=calendar&utm_source=team_cal&utm_content=league_url#game-401245
LOCATION:Field 8 (3/4)
BEGIN:VALARM
TRIGGER:-P2H
ACTION:DISPLAY
DESCRIPTION:Lemons vs Chreston
END:VALARM
END:VEVENT
BEGIN:VEVENT
UID:putnam-401224@ygametime.com
DTSTAMP:20230916T140000Z
DTSTART;TZID=America/New_York:20230916T100000
DURATION:PT0H30M0S
SUMMARY:Lemons vs Stites
DESCRIPTION:3/4 | Soccer\nPutnam County Family YMCA\n
URL;VALUE=URI:https://ygametime.com/branch/putnam/sports/2023-fall-soccer/16810/?utm_medium=calendar&utm_source=team_cal&utm_content=league_url#game-401224
LOCATION:Field 7 (3/4)
BEGIN:VALARM
TRIGGER:-P2H
ACTION:DISPLAY
DESCRIPTION:Lemons vs Stites
END:VALARM
END:VEVENT
BEGIN:VEVENT
UID:putnam-401227@ygametime.com
DTSTAMP:20230923T133000Z
DTSTART;TZID=America/New_York:20230923T093000
DURATION:PT0H30M0S
SUMMARY:Mynatt vs Lemons
DESCRIPTION:3/4 | Soccer\nPutnam County Family YMCA\n
URL;VALUE=URI:https://ygametime.com/branch/putnam/sports/2023-fall-soccer/16810/?utm_medium=calendar&utm_source=team_cal&utm_content=league_url#game-401227
LOCATION:Field 8 (3/4)
BEGIN:VALARM
TRIGGER:-P2H
ACTION:DISPLAY
DESCRIPTION:Mynatt vs Lemons
END:VALARM
END:VEVENT
BEGIN:VEVENT
UID:putnam-401240@ygametime.com
DTSTAMP:20231014T130000Z
DTSTART;TZID=America/New_York:20231014T090000
DURATION:PT0H30M0S
SUMMARY:Lemons vs Walley
DESCRIPTION:3/4 | Soccer\nPutnam County Family YMCA\n
URL;VALUE=URI:https://ygametime.com/branch/putnam/sports/2023-fall-soccer/16810/?utm_medium=calendar&utm_source=team_cal&utm_content=league_url#game-401240
LOCATION:Field 7 (3/4)
BEGIN:VALARM
TRIGGER:-P2H
ACTION:DISPLAY
DESCRIPTION:Lemons vs Walley
END:VALARM
END:VEVENT
BEGIN:VEVENT
UID:putnam-401243@ygametime.com
DTSTAMP:20231021T133000Z
DTSTART;TZID=America/New_York:20231021T093000
DURATION:PT0H30M0S
SUMMARY:Davis vs Lemons
DESCRIPTION:3/4 | Soccer\nPutnam County Family YMCA\n
URL;VALUE=URI:https://ygametime.com/branch/putnam/sports/2023-fall-soccer/16810/?utm_medium=calendar&utm_source=team_cal&utm_content=league_url#game-401243
LOCATION:Field 8 (3/4)
BEGIN:VALARM
TRIGGER:-P2H
ACTION:DISPLAY
DESCRIPTION:Davis vs Lemons
END:VALARM
END:VEVENT
BEGIN:VEVENT
UID:putnam-401230@ygametime.com
DTSTAMP:20231028T130000Z
DTSTART;TZID=America/New_York:20231028T090000
DURATION:PT0H30M0S
SUMMARY:Lemons vs Malugin
DESCRIPTION:3/4 | Soccer\nPutnam County Family YMCA\n
URL;VALUE=URI:https://ygametime.com/branch/putnam/sports/2023-fall-soccer/16810/?utm_medium=calendar&utm_source=team_cal&utm_content=league_url#game-401230
LOCATION:Field 7 (3/4)
BEGIN:VALARM
TRIGGER:-P2H
ACTION:DISPLAY
DESCRIPTION:Lemons vs Malugin
END:VALARM
END:VEVENT
END:VCALENDAR

