BEGIN:VCALENDAR
VERSION:2.0
PRODID:-//YGAMETIME.com//YGT iCal Creator//EN
METHOD:PUBLISH
X-PUBLISHED-TTL:PT6H
REFRESH-INTERVAL;VALUE=DURATION:PT6H
CALSCALE:GREGORIAN
X-WR-CALNAME:YGAMETIME CALENDAR
BEGIN:VTIMEZONE
TZID:America/New_York
X-LIC-LOCATION:America/New_York
BEGIN:DAYLIGHT
TZOFFSETFROM:-0500
TZOFFSETTO:-0400
TZNAME:EDT
DTSTART:19700308T020000
RRULE:FREQ=YEARLY;BYMONTH=3;BYDAY=2SU
END:DAYLIGHT
BEGIN:STANDARD
TZOFFSETFROM:-0400
TZOFFSETTO:-0500
TZNAME:EST
DTSTART:19701101T020000
RRULE:FREQ=YEARLY;BYMONTH=11;BYDAY=1SU
END:STANDARD
END:VTIMEZONE
BEGIN:VEVENT
UID:putnam-400916@ygametime.com
DTSTAMP:20230909T123000Z
DTSTART;TZID=America/New_York:20230909T083000
DURATION:PT0H60M0S
SUMMARY:Cotten vs Dartez
DESCRIPTION:5/6 | Soccer\nPutnam County Family YMCA\n
URL;VALUE=URI:https://ygametime.com/branch/putnam/sports/2023-fall-soccer/16809/?utm_medium=calendar&utm_source=team_cal&utm_content=league_url#game-400916
LOCATION:Field 3 (5/6)
BEGIN:VALARM
TRIGGER:-P2H
ACTION:DISPLAY
DESCRIPTION:Cotten vs Dartez
END:VALARM
END:VEVENT
BEGIN:VEVENT
UID:putnam-400922@ygametime.com
DTSTAMP:20230916T133000Z
DTSTART;TZID=America/New_York:20230916T093000
DURATION:PT0H60M0S
SUMMARY:Dartez vs Rice
DESCRIPTION:5/6 | Soccer\nPutnam County Family YMCA\n
URL;VALUE=URI:https://ygametime.com/branch/putnam/sports/2023-fall-soccer/16809/?utm_medium=calendar&utm_source=team_cal&utm_content=league_url#game-400922
LOCATION:Field 3 (5/6)
BEGIN:VALARM
TRIGGER:-P2H
ACTION:DISPLAY
DESCRIPTION:Dartez vs Rice
END:VALARM
END:VEVENT
BEGIN:VEVENT
UID:putnam-400927@ygametime.com
DTSTAMP:20230923T133000Z
DTSTART;TZID=America/New_York:20230923T093000
DURATION:PT0H60M0S
SUMMARY:Dartez vs Ashley
DESCRIPTION:5/6 | Soccer\nPutnam County Family YMCA\n
URL;VALUE=URI:https://ygametime.com/branch/putnam/sports/2023-fall-soccer/16809/?utm_medium=calendar&utm_source=team_cal&utm_content=league_url#game-400927
LOCATION:Field 3 (5/6)
BEGIN:VALARM
TRIGGER:-P2H
ACTION:DISPLAY
DESCRIPTION:Dartez vs Ashley
END:VALARM
END:VEVENT
BEGIN:VEVENT
UID:putnam-400945@ygametime.com
DTSTAMP:20231014T123000Z
DTSTART;TZID=America/New_York:20231014T083000
DURATION:PT0H60M0S
SUMMARY:Dartez vs Currier
DESCRIPTION:5/6 | Soccer\nPutnam County Family YMCA\n
URL;VALUE=URI:https://ygametime.com/branch/putnam/sports/2023-fall-soccer/16809/?utm_medium=calendar&utm_source=team_cal&utm_content=league_url#game-400945
LOCATION:Field 2 (5/6)
BEGIN:VALARM
TRIGGER:-P2H
ACTION:DISPLAY
DESCRIPTION:Dartez vs Currier
END:VALARM
END:VEVENT
BEGIN:VEVENT
UID:putnam-400956@ygametime.com
DTSTAMP:20231021T173000Z
DTSTART;TZID=America/New_York:20231021T133000
DURATION:PT0H60M0S
SUMMARY:Stratton vs Dartez
DESCRIPTION:5/6 | Soccer\nPutnam County Family YMCA\n
URL;VALUE=URI:https://ygametime.com/branch/putnam/sports/2023-fall-soccer/16809/?utm_medium=calendar&utm_source=team_cal&utm_content=league_url#game-400956
LOCATION:Field 2 (5/6)
BEGIN:VALARM
TRIGGER:-P2H
ACTION:DISPLAY
DESCRIPTION:Stratton vs Dartez
END:VALARM
END:VEVENT
BEGIN:VEVENT
UID:putnam-400933@ygametime.com
DTSTAMP:20231028T143000Z
DTSTART;TZID=America/New_York:20231028T103000
DURATION:PT0H60M0S
SUMMARY:Dartez vs Smith
DESCRIPTION:5/6 | Soccer\nPutnam County Family YMCA\n
URL;VALUE=URI:https://ygametime.com/branch/putnam/sports/2023-fall-soccer/16809/?utm_medium=calendar&utm_source=team_cal&utm_content=league_url#game-400933
LOCATION:Field 3 (5/6)
BEGIN:VALARM
TRIGGER:-P2H
ACTION:DISPLAY
DESCRIPTION:Dartez vs Smith
END:VALARM
END:VEVENT
END:VCALENDAR

