BEGIN:VCALENDAR
VERSION:2.0
PRODID:-//YGAMETIME.com//YGT iCal Creator//EN
METHOD:PUBLISH
X-PUBLISHED-TTL:PT6H
REFRESH-INTERVAL;VALUE=DURATION:PT6H
CALSCALE:GREGORIAN
X-WR-CALNAME:YGAMETIME CALENDAR
BEGIN:VTIMEZONE
TZID:America/New_York
X-LIC-LOCATION:America/New_York
BEGIN:DAYLIGHT
TZOFFSETFROM:-0500
TZOFFSETTO:-0400
TZNAME:EDT
DTSTART:19700308T020000
RRULE:FREQ=YEARLY;BYMONTH=3;BYDAY=2SU
END:DAYLIGHT
BEGIN:STANDARD
TZOFFSETFROM:-0400
TZOFFSETTO:-0500
TZNAME:EST
DTSTART:19701101T020000
RRULE:FREQ=YEARLY;BYMONTH=11;BYDAY=1SU
END:STANDARD
END:VTIMEZONE
BEGIN:VEVENT
UID:putnam-400919@ygametime.com
DTSTAMP:20230909T133000Z
DTSTART;TZID=America/New_York:20230909T093000
DURATION:PT0H60M0S
SUMMARY:Jones vs Ashley
DESCRIPTION:5/6 | Soccer\nPutnam County Family YMCA\n
URL;VALUE=URI:https://ygametime.com/branch/putnam/sports/2023-fall-soccer/16809/?utm_medium=calendar&utm_source=team_cal&utm_content=league_url#game-400919
LOCATION:Field 2 (5/6)
BEGIN:VALARM
TRIGGER:-P2H
ACTION:DISPLAY
DESCRIPTION:Jones vs Ashley
END:VALARM
END:VEVENT
BEGIN:VEVENT
UID:putnam-401432@ygametime.com
DTSTAMP:20230929T213000Z
DTSTART;TZID=America/New_York:20230929T173000
DURATION:PT0H60M0S
SUMMARY:Jones vs Cotten
DESCRIPTION:5/6 | Soccer\nPutnam County Family YMCA\n
URL;VALUE=URI:https://ygametime.com/branch/putnam/sports/2023-fall-soccer/16809/?utm_medium=calendar&utm_source=team_cal&utm_content=league_url#game-401432
LOCATION:Field 3 (5/6)
BEGIN:VALARM
TRIGGER:-P2H
ACTION:DISPLAY
DESCRIPTION:Jones vs Cotten
END:VALARM
END:VEVENT
BEGIN:VEVENT
UID:putnam-410278@ygametime.com
DTSTAMP:20230930T150000Z
DTSTART;TZID=America/New_York:20230930T110000
DURATION:PT0H60M0S
SUMMARY:Jones vs Grimm
DESCRIPTION:5/6 | Soccer\nPutnam County Family YMCA\n
URL;VALUE=URI:https://ygametime.com/branch/putnam/sports/2023-fall-soccer/16809/?utm_medium=calendar&utm_source=team_cal&utm_content=league_url#game-410278
LOCATION:Field 2 (5/6)
BEGIN:VALARM
TRIGGER:-P2H
ACTION:DISPLAY
DESCRIPTION:Jones vs Grimm
END:VALARM
END:VEVENT
BEGIN:VEVENT
UID:putnam-400953@ygametime.com
DTSTAMP:20231021T133000Z
DTSTART;TZID=America/New_York:20231021T093000
DURATION:PT0H60M0S
SUMMARY:Jones vs Rice
DESCRIPTION:5/6 | Soccer\nPutnam County Family YMCA\n
URL;VALUE=URI:https://ygametime.com/branch/putnam/sports/2023-fall-soccer/16809/?utm_medium=calendar&utm_source=team_cal&utm_content=league_url#game-400953
LOCATION:Field 2 (5/6)
BEGIN:VALARM
TRIGGER:-P2H
ACTION:DISPLAY
DESCRIPTION:Jones vs Rice
END:VALARM
END:VEVENT
BEGIN:VEVENT
UID:putnam-400960@ygametime.com
DTSTAMP:20231021T143000Z
DTSTART;TZID=America/New_York:20231021T103000
DURATION:PT0H60M0S
SUMMARY:Jones vs Smith
DESCRIPTION:5/6 | Soccer\nPutnam County Family YMCA\n
URL;VALUE=URI:https://ygametime.com/branch/putnam/sports/2023-fall-soccer/16809/?utm_medium=calendar&utm_source=team_cal&utm_content=league_url#game-400960
LOCATION:Field 3 (5/6)
BEGIN:VALARM
TRIGGER:-P2H
ACTION:DISPLAY
DESCRIPTION:Jones vs Smith
END:VALARM
END:VEVENT
BEGIN:VEVENT
UID:putnam-417012@ygametime.com
DTSTAMP:20231027T211500Z
DTSTART;TZID=America/New_York:20231027T171500
DURATION:PT0H60M0S
SUMMARY:Jones vs Ashley
DESCRIPTION:5/6 | Soccer\nPutnam County Family YMCA\n
URL;VALUE=URI:https://ygametime.com/branch/putnam/sports/2023-fall-soccer/16809/?utm_medium=calendar&utm_source=team_cal&utm_content=league_url#game-417012
LOCATION:Field 3 (5/6)
BEGIN:VALARM
TRIGGER:-P2H
ACTION:DISPLAY
DESCRIPTION:Jones vs Ashley
END:VALARM
END:VEVENT
BEGIN:VEVENT
UID:putnam-400935@ygametime.com
DTSTAMP:20231028T153000Z
DTSTART;TZID=America/New_York:20231028T113000
DURATION:PT0H60M0S
SUMMARY:Ross vs Jones
DESCRIPTION:5/6 | Soccer\nPutnam County Family YMCA\n
URL;VALUE=URI:https://ygametime.com/branch/putnam/sports/2023-fall-soccer/16809/?utm_medium=calendar&utm_source=team_cal&utm_content=league_url#game-400935
LOCATION:Field 2 (5/6)
BEGIN:VALARM
TRIGGER:-P2H
ACTION:DISPLAY
DESCRIPTION:Ross vs Jones
END:VALARM
END:VEVENT
END:VCALENDAR

