BEGIN:VCALENDAR
VERSION:2.0
PRODID:-//YGAMETIME.com//YGT iCal Creator//EN
METHOD:PUBLISH
X-PUBLISHED-TTL:PT6H
REFRESH-INTERVAL;VALUE=DURATION:PT6H
CALSCALE:GREGORIAN
X-WR-CALNAME:YGAMETIME CALENDAR
BEGIN:VTIMEZONE
TZID:America/New_York
X-LIC-LOCATION:America/New_York
BEGIN:DAYLIGHT
TZOFFSETFROM:-0500
TZOFFSETTO:-0400
TZNAME:EDT
DTSTART:19700308T020000
RRULE:FREQ=YEARLY;BYMONTH=3;BYDAY=2SU
END:DAYLIGHT
BEGIN:STANDARD
TZOFFSETFROM:-0400
TZOFFSETTO:-0500
TZNAME:EST
DTSTART:19701101T020000
RRULE:FREQ=YEARLY;BYMONTH=11;BYDAY=1SU
END:STANDARD
END:VTIMEZONE
BEGIN:VEVENT
UID:putnam-400911@ygametime.com
DTSTAMP:20230909T143000Z
DTSTART;TZID=America/New_York:20230909T103000
DURATION:PT0H60M0S
SUMMARY:Currier vs Malone
DESCRIPTION:7/8 | Soccer\nPutnam County Family YMCA\n
URL;VALUE=URI:https://ygametime.com/branch/putnam/sports/2023-fall-soccer/16808/?utm_medium=calendar&utm_source=team_cal&utm_content=league_url#game-400911
LOCATION:Field 4 (7/8)
BEGIN:VALARM
TRIGGER:-P2H
ACTION:DISPLAY
DESCRIPTION:Currier vs Malone
END:VALARM
END:VEVENT
BEGIN:VEVENT
UID:putnam-400878@ygametime.com
DTSTAMP:20230916T163000Z
DTSTART;TZID=America/New_York:20230916T123000
DURATION:PT0H60M0S
SUMMARY:Currier vs Damas
DESCRIPTION:7/8 | Soccer\nPutnam County Family YMCA\n
URL;VALUE=URI:https://ygametime.com/branch/putnam/sports/2023-fall-soccer/16808/?utm_medium=calendar&utm_source=team_cal&utm_content=league_url#game-400878
LOCATION:Field 4 (7/8)
BEGIN:VALARM
TRIGGER:-P2H
ACTION:DISPLAY
DESCRIPTION:Currier vs Damas
END:VALARM
END:VEVENT
BEGIN:VEVENT
UID:putnam-400882@ygametime.com
DTSTAMP:20230923T153000Z
DTSTART;TZID=America/New_York:20230923T113000
DURATION:PT0H60M0S
SUMMARY:Bottoms vs Currier
DESCRIPTION:7/8 | Soccer\nPutnam County Family YMCA\n
URL;VALUE=URI:https://ygametime.com/branch/putnam/sports/2023-fall-soccer/16808/?utm_medium=calendar&utm_source=team_cal&utm_content=league_url#game-400882
LOCATION:Field 5 (7/8)
BEGIN:VALARM
TRIGGER:-P2H
ACTION:DISPLAY
DESCRIPTION:Bottoms vs Currier
END:VALARM
END:VEVENT
BEGIN:VEVENT
UID:putnam-401435@ygametime.com
DTSTAMP:20231014T133000Z
DTSTART;TZID=America/New_York:20231014T093000
DURATION:PT0H60M0S
SUMMARY:Currier vs Malone
DESCRIPTION:7/8 | Soccer\nPutnam County Family YMCA\n
URL;VALUE=URI:https://ygametime.com/branch/putnam/sports/2023-fall-soccer/16808/?utm_medium=calendar&utm_source=team_cal&utm_content=league_url#game-401435
LOCATION:Field 5 (7/8)
BEGIN:VALARM
TRIGGER:-P2H
ACTION:DISPLAY
DESCRIPTION:Currier vs Malone
END:VALARM
END:VEVENT
BEGIN:VEVENT
UID:putnam-400903@ygametime.com
DTSTAMP:20231021T133000Z
DTSTART;TZID=America/New_York:20231021T093000
DURATION:PT0H60M0S
SUMMARY:Smith vs Currier
DESCRIPTION:7/8 | Soccer\nPutnam County Family YMCA\n
URL;VALUE=URI:https://ygametime.com/branch/putnam/sports/2023-fall-soccer/16808/?utm_medium=calendar&utm_source=team_cal&utm_content=league_url#game-400903
LOCATION:Field 4 (7/8)
BEGIN:VALARM
TRIGGER:-P2H
ACTION:DISPLAY
DESCRIPTION:Smith vs Currier
END:VALARM
END:VEVENT
BEGIN:VEVENT
UID:putnam-400886@ygametime.com
DTSTAMP:20231028T143000Z
DTSTART;TZID=America/New_York:20231028T103000
DURATION:PT0H60M0S
SUMMARY:Currier vs Jones
DESCRIPTION:7/8 | Soccer\nPutnam County Family YMCA\n
URL;VALUE=URI:https://ygametime.com/branch/putnam/sports/2023-fall-soccer/16808/?utm_medium=calendar&utm_source=team_cal&utm_content=league_url#game-400886
LOCATION:Field 4 (7/8)
BEGIN:VALARM
TRIGGER:-P2H
ACTION:DISPLAY
DESCRIPTION:Currier vs Jones
END:VALARM
END:VEVENT
END:VCALENDAR

